Report for Regexp-Common-2016060801

Back
From: metabase:user:314402c4-2aae-11df-837a-5e0a49663a4f
Subject: PASS Regexp-Common-2016060801 v5.18.4 GNU/Linux
Date: 2016-06-08T14:27:48Z

This distribution has been tested as part of the CPAN Testers
project, supporting the Perl programming language.  See
http://wiki.cpantesters.org/ for more information or email
questions to cpan-testers-discuss@perl.org


--
Dear Abigail,

This is a computer-generated report for Regexp-Common-2016060801
on perl 5.18.4, created by CPAN-Reporter-1.2017.

Thank you for uploading your work to CPAN.  Congratulations!
All tests were successful.

Sections of this report:

    * Tester comments
    * Program output
    * Prerequisites
    * Environment and other context

------------------------------
TESTER COMMENTS
------------------------------

Additional comments from tester:

none provided

------------------------------
PROGRAM OUTPUT
------------------------------

Output from '/usr/bin/make test':

PERL_DL_NONLAZY=1 "/bbbike/perl-5.18.4/bin/perl5.18.4" "-MExtUtils::Command::MM" "-MTest::Harness" "-e" "undef *Test::Harness::Switches; test_harness(0, 'blib/lib', 'blib/arch')" t/*.t t/*/*.t
t/comment/delimited.t ............ ok
t/comment/html.t ................. ok
t/comment/nested.t ............... ok
t/comment/pascal.t ............... ok
t/comment/single_line.t .......... ok
t/comment/single_or_multiline.t .. ok
t/delimited/101_delimited.t ...... ok
t/delimited/111_bquoted.t ........ ok
t/net/101_ipv4.t ................. ok
t/net/102_ipv4_strict.t .......... ok
t/net/111_ipv6.t ................. ok
t/net/121_mac.t .................. ok
t/net/131_domain.t ............... ok
t/number/101_integer.t ........... ok
t/number/111_integer_base.t ...... ok
t/number/121_integer_places.t .... ok
t/number/122_integer_places.t .... ok
t/number/123_integer_places.t .... ok
t/number/131_integer_sep.t ....... ok
t/number/141_integer_group.t ..... ok
t/number/701_squares.t ........... ok
t/number/801_roman.t ............. ok
t/number/decimal.t ............... ok
t/number/number.t ................ ok
t/SEN/usa_ssn.t .................. ok
t/test___luhn.t .................. ok
t/test_balanced.t ................ ok
t/test_bases.t ................... ok
t/test_bases_sep.t ............... ok
t/test_comments.t ................ ok
t/test_curry.t ................... ok
t/test_i.t ....................... ok
t/test_lingua_palindrome.t ....... ok
t/test_list.t .................... ok
t/test_no_import.t ............... ok
t/test_profanity.t ............... ok
t/test_sub.t ..................... ok
t/test_sub_named.t ............... ok
t/test_ws.t ...................... ok
t/URI/any.t ...................... ok
t/URI/fax.t ...................... ok
t/URI/file.t ..................... ok
t/URI/ftp.t ...................... ok
t/URI/gopher.t ................... ok
t/URI/http.t ..................... ok
t/URI/news.t ..................... ok
t/URI/nntp.t ..................... ok
t/URI/pop.t ...................... ok
t/URI/prospero.t ................. ok
t/URI/tel.t ...................... ok
t/URI/telnet.t ................... ok
t/URI/tv.t ....................... ok
t/URI/wais.t ..................... ok
t/zip/101_austria.t .............. ok
t/zip/111_australia.t ............ ok
t/zip/112_australia.t ............ ok
t/zip/121_belgium.t .............. ok
t/zip/131_denmark.t .............. ok
t/zip/141_greenland.t ............ ok
t/zip/151_norway.t ............... ok
t/zip/161_liechtenstein.t ........ ok
t/zip/171_switzerland.t .......... ok
t/zip/181_italy.t ................ ok
t/zip/191_germany.t .............. ok
t/zip/201_luxembourg.t ........... ok
t/zip/211_france.t ............... ok
t/zip/221_monaco.t ............... ok
t/zip/231_san-marino.t ........... ok
t/zip/241_vatican-city.t ......... ok
t/zip/netherlands.t .............. ok
t/zip/spain.t .................... ok
t/zip/us.t ....................... ok
t/zip/zip.t ...................... ok
All tests successful.
Files=73, Tests=2315992, 269 wallclock secs (124.46 usr 16.20 sys + 251.85 cusr 14.12 csys = 406.63 CPU)
Result: PASS

------------------------------
PREREQUISITES
------------------------------

Prerequisite modules loaded:

requires:

    Module              Need Have      
    ------------------- ---- ----------
    Config              0    5.018004  
    perl                5.01 5.018004  
    strict              0    1.07      
    vars                0    1.03      
    warnings            0    1.18      

build_requires:

    Module              Need Have      
    ------------------- ---- ----------
    Config              0    5.018004  
    strict              0    1.07      
    Test::More          0    1.302022  
    vars                0    1.03      
    warnings            0    1.18      

configure_requires:

    Module              Need Have      
    ------------------- ---- ----------
    Config              0    5.018004  
    ExtUtils::MakeMaker 0    7.16      
    perl                5.01 5.018004  
    strict              0    1.07      
    vars                0    1.03      
    warnings            0    1.18      

opt_build_requires:

    Module              Need Have      
    ------------------- ---- ----------
    Test::Regexp        0    2016060501


------------------------------
ENVIRONMENT AND OTHER CONTEXT
------------------------------

Environment variables:

    LANG = C
    LC_ALL = de_DE.UTF-8
    PATH = /usr/local/bin:/usr/bin:/bin:/usr/local/sbin:/usr/sbin:/sbin:/home/cpansand/bin/linux-gnu:/home/cpansand/bin/sh:/home/cpansand/bin:/usr/games:/home/cpansand/devel:/home/eserte/src/srezic-misc/scripts
    PERL5LIB = 
    PERL5OPT = 
    PERL5_CPANPLUS_IS_RUNNING = 20506
    PERL5_CPAN_IS_RUNNING = 20506
    PERL5_CPAN_IS_RUNNING_IN_RECURSION = 20420,20506
    PERLDOC = -MPod::Perldoc::ToTextOverstrike
    PERL_BATCH = yes
    PERL_CANARY_STABILITY_NOPROMPT = 1
    PERL_CPAN_REPORTER_CONFIG = /run/user/1023/cpansmoker/2016060812/cpanreporter_000_config.ini
    PERL_EXTUTILS_AUTOINSTALL = --defaultdeps
    PERL_PARALLEL_SMOKER = yes
    SHELL = /bin/zsh
    TERM = screen
    TMPDIR = /run/user/1023/cpansmoker/2016060812

Perl special variables (and OS-specific diagnostics, for MSWin32):

    $^X = /bbbike/perl-5.18.4/bin/perl5.18.4
    $UID/$EUID = 1023 / 1023
    $GID = 1023 1023
    $EGID = 1023 1023

Perl module toolchain versions installed:

    Module              Have    
    ------------------- --------
    CPAN                2.10    
    CPAN::Meta          2.150005
    Cwd                 3.62    
    ExtUtils::CBuilder  0.280210
    ExtUtils::Command   7.16    
    ExtUtils::Install   1.59    
    ExtUtils::MakeMaker 7.16    
    ExtUtils::Manifest  1.70    
    ExtUtils::ParseXS   3.30    
    File::Spec          3.62    
    JSON                2.90    
    JSON::PP            2.27400 
    Module::Build       0.4218  
    Module::Signature   0.79    
    Parse::CPAN::Meta   1.4417  
    Test::Harness       3.36    
    Test::More          1.302022
    YAML                1.15    
    YAML::Syck          1.29    
    version             0.9916  


--

Summary of my perl5 (revision 5 version 18 subversion 4) configuration:
   
  Platform:
    osname=linux, osvers=3.16.0-4-amd64, archname=x86_64-linux
    uname='linux eserte 3.16.0-4-amd64 #1 smp debian 3.16.7-ckt25-2 (2016-04-08) x86_64 gnulinux '
    config_args='-ds -e -Dprefix=/opt/perl-5.18.4 -Dcf_email=srezic@cpan.org'
    hint=recommended, useposix=true, d_sigaction=define
    useithreads=undef, usemultiplicity=undef
    useperlio=define, d_sfio=undef, uselargefiles=define, usesocks=undef
    use64bitint=define, use64bitall=define, uselongdouble=undef
    usemymalloc=n, bincompat5005=undef
  Compiler:
    cc='cc', ccflags ='-fno-strict-aliasing -pipe -fstack-protector -I/usr/local/include -D_LARGEFILE_SOURCE -D_FILE_OFFSET_BITS=64',
    optimize='-O2',
    cppflags='-fno-strict-aliasing -pipe -fstack-protector -I/usr/local/include'
    ccversion='', gccversion='4.9.2', gccosandvers=''
    intsize=4, longsize=8, ptrsize=8, doublesize=8, byteorder=12345678
    d_longlong=define, longlongsize=8, d_longdbl=define, longdblsize=16
    ivtype='long', ivsize=8, nvtype='double', nvsize=8, Off_t='off_t', lseeksize=8
    alignbytes=8, prototype=define
  Linker and Libraries:
    ld='cc', ldflags =' -fstack-protector -L/usr/local/lib'
    libpth=/usr/local/lib /lib/x86_64-linux-gnu /lib/../lib /usr/lib/x86_64-linux-gnu /usr/lib/../lib /lib /usr/lib
    libs=-lnsl -ldl -lm -lcrypt -lutil -lc
    perllibs=-lnsl -ldl -lm -lcrypt -lutil -lc
    libc=, so=so, useshrplib=false, libperl=libperl.a
    gnulibc_version='2.19'
  Dynamic Linking:
    dlsrc=dl_dlopen.xs, dlext=so, d_dlsymun=undef, ccdlflags='-Wl,-E'
    cccdlflags='-fPIC', lddlflags='-shared -O2 -L/usr/local/lib -fstack-protector'


Characteristics of this binary (from libperl): 
  Compile-time options: HAS_TIMES PERLIO_LAYERS PERL_DONT_CREATE_GVSV
                        PERL_HASH_FUNC_ONE_AT_A_TIME_HARD PERL_MALLOC_WRAP
                        PERL_PRESERVE_IVUV PERL_SAWAMPERSAND USE_64_BIT_ALL
                        USE_64_BIT_INT USE_LARGE_FILES USE_LOCALE
                        USE_LOCALE_COLLATE USE_LOCALE_CTYPE
                        USE_LOCALE_NUMERIC USE_PERLIO USE_PERL_ATOF
  Built under linux
  Compiled at May  6 2016 22:58:48
  %ENV:
    PERL5LIB=""
    PERL5OPT=""
    PERL5_CPANPLUS_IS_RUNNING="20506"
    PERL5_CPAN_IS_RUNNING="20506"
    PERL5_CPAN_IS_RUNNING_IN_RECURSION="20420,20506"
    PERLDOC="-MPod::Perldoc::ToTextOverstrike"
    PERL_BATCH="yes"
    PERL_CANARY_STABILITY_NOPROMPT="1"
    PERL_CPAN_REPORTER_CONFIG="/run/user/1023/cpansmoker/2016060812/cpanreporter_000_config.ini"
    PERL_EXTUTILS_AUTOINSTALL="--defaultdeps"
    PERL_PARALLEL_SMOKER="yes"
  @INC:
    /opt/perl-5.18.4/lib/site_perl/5.18.4/x86_64-linux
    /opt/perl-5.18.4/lib/site_perl/5.18.4
    /opt/perl-5.18.4/lib/5.18.4/x86_64-linux
    /opt/perl-5.18.4/lib/5.18.4
    .