Report for Catalyst-Controller-WrapCGI-0.038

Back
From: metabase:user:30977d10-2aae-11df-837a-5e0a49663a4f
Subject: PASS Catalyst-Controller-WrapCGI-0.038 v5.14.4 GNU/Linux
Date: 2015-12-16T17:41:02Z

This distribution has been tested as part of the CPAN Testers
project, supporting the Perl programming language.  See
http://wiki.cpantesters.org/ for more information or email
questions to cpan-testers-discuss@perl.org


--
Dear Rafael Kitover,

This is a computer-generated report for Catalyst-Controller-WrapCGI-0.038
on perl 5.14.4, created by CPAN-Reporter-1.2015.

Thank you for uploading your work to CPAN.  Congratulations!
All tests were successful.

Sections of this report:

    * Tester comments
    * Program output
    * Prerequisites
    * Environment and other context

------------------------------
TESTER COMMENTS
------------------------------

Additional comments from tester:

this report is from an automated smoke testing program
and was not reviewed by a human for accuracy

------------------------------
PROGRAM OUTPUT
------------------------------

Output from '/usr/bin/make test':

PERL_DL_NONLAZY=1 "/home/stro/perl/5.14.4t/bin/perl" "-MExtUtils::Command::MM" "-MTest::Harness" "-e" "undef *Test::Harness::Switches; test_harness(0, 'blib/lib', 'blib/arch')" t/*.t
t/00-compile.t ......... ok
# Testing Catalyst::Controller::WrapCGI, Perl 5.014004, /home/stro/perl/5.14.4t/bin/perl
t/00-load.t ............ ok
t/author-pod-syntax.t .. skipped: these tests are for testing by the author
t/cgibin.t ............. ok
t/cgibin_chain_root.t .. ok
t/cgibin_root_path.t ... ok
t/env.t ................ ok
t/global-context.t ..... ok
t/pod.t ................ ok
t/wrap-cgi.t ........... ok
All tests successful.
Files=10, Tests=40,  7 wallclock secs ( 0.03 usr  0.00 sys +  4.35 cusr  0.28 csys =  4.66 CPU)
Result: PASS

------------------------------
PREREQUISITES
------------------------------

Prerequisite modules loaded:

requires:

    Module                           Need      Have    
    -------------------------------- --------- --------
    Catalyst::Controller             0         0       
    Catalyst::Exception              0         0       
    CGI::Compile                     0         0.20    
    Class::Unload                    0         0.09    
    Exporter                         0         5.72    
    File::Find::Rule                 0         0.34    
    File::pushd                      0         1.009   
    File::Spec::Functions            0         3.60    
    File::Temp                       0         0.2304  
    HTTP::Request                    0         6.11    
    HTTP::Request::AsCGI             0         1.2     
    HTTP::Request::Common            0         6.11    
    IO::File                         0         1.15    
    IPC::Open3                       0         1.0901  
    List::MoreUtils                  0         0.413   
    Moose                            0         2.1604  
    Moose::Util::TypeConstraints     0         2.1604  
    mro                              0         1.07    
    namespace::clean                 0         0.26    
    parent                           0         0.234   
    perl                             5.008_001 5.014004
    Scalar::Util                     0         1.42    
    strict                           0         1.04    
    Symbol                           0         1.07    
    URI                              0         1.69    
    URI::Escape                      0         3.31    
    utf8                             0         1.09    
    vars                             0         1.02    
    warnings                         0         1.12    

build_requires:

    Module                           Need      Have    
    -------------------------------- --------- --------
    base                             0         2.22    
    blib                             1.01      1.06    
    Catalyst                         0         5.90103 
    Catalyst::Plugin::Static::Simple 0         0.33    
    Catalyst::Runtime                0         5.90103 
    Catalyst::Test                   0         0       
    CGI                              3.31      4.22    
    ExtUtils::MakeMaker              0         7.10    
    File::Spec                       0         3.60    
    FindBin                          0         1.50    
    IO::Handle                       0         1.31    
    IPC::Open3                       0         1.0901  
    lib                              0         0.63    
    Test::More                       0         1.001014

configure_requires:

    Module                           Need      Have    
    -------------------------------- --------- --------
    ExtUtils::MakeMaker              0         7.10    


------------------------------
ENVIRONMENT AND OTHER CONTEXT
------------------------------

Environment variables:

    AUTOMATED_TESTING = 1
    LANG = en_US.UTF-8
    PATH = /usr/local/bin:/usr/bin:/bin:/usr/local/games:/usr/games
    PERL5LIB = 
    PERL5OPT = 
    PERL5_CPANPLUS_IS_RUNNING = 12165
    PERL5_CPAN_IS_RUNNING = 12165
    PERL5_CPAN_IS_RUNNING_IN_RECURSION = 7643,12165
    PERL_CR_SMOKER_CURRENT = Catalyst-Controller-WrapCGI-0.038
    PERL_EXTUTILS_AUTOINSTALL = --defaultdeps
    PERL_MM_USE_DEFAULT = 1
    SHELL = /bin/bash
    TERM = xterm

Perl special variables (and OS-specific diagnostics, for MSWin32):

    $^X = /home/stro/perl/5.14.4t/bin/perl
    $UID/$EUID = 1000 / 1000
    $GID = 1000 24 25 29 30 44 46 108 114 1000
    $EGID = 1000 24 25 29 30 44 46 108 114 1000

Perl module toolchain versions installed:

    Module              Have     
    ------------------- ---------
    CPAN                1.9600_01
    CPAN::Meta          2.150005 
    Cwd                 3.60     
    ExtUtils::CBuilder  0.280224 
    ExtUtils::Command   7.10     
    ExtUtils::Install   1.56     
    ExtUtils::MakeMaker 7.10     
    ExtUtils::Manifest  1.70     
    ExtUtils::ParseXS   3.30     
    File::Spec          3.60     
    JSON                2.90     
    JSON::PP            2.27203  
    Module::Build       0.4214   
    Module::Signature   n/a      
    Parse::CPAN::Meta   1.4417   
    Test::Harness       3.35     
    Test::More          1.001014 
    YAML                1.15     
    YAML::Syck          1.29     
    version             0.9912   


--

Summary of my perl5 (revision 5 version 14 subversion 4) configuration:
   
  Platform:
    osname=linux, osvers=3.16.0-4-amd64, archname=x86_64-linux-thread-multi
    uname='linux vm-debian-001 3.16.0-4-amd64 #1 smp debian 3.16.7-ckt11-1 (2015-05-24) x86_64 gnulinux '
    config_args=''
    hint=recommended, useposix=true, d_sigaction=define
    useithreads=define, usemultiplicity=define
    useperlio=define, d_sfio=undef, uselargefiles=define, usesocks=undef
    use64bitint=define, use64bitall=define, uselongdouble=undef
    usemymalloc=n, bincompat5005=undef
  Compiler:
    cc='cc', ccflags ='-D_REENTRANT -D_GNU_SOURCE -fno-strict-aliasing -pipe -fstack-protector -I/usr/local/include -D_LARGEFILE_SOURCE -D_FILE_OFFSET_BITS=64',
    optimize='-O2',
    cppflags='-D_REENTRANT -D_GNU_SOURCE -fno-strict-aliasing -pipe -fstack-protector -I/usr/local/include'
    ccversion='', gccversion='4.9.2', gccosandvers=''
    intsize=4, longsize=8, ptrsize=8, doublesize=8, byteorder=12345678
    d_longlong=define, longlongsize=8, d_longdbl=define, longdblsize=16
    ivtype='long', ivsize=8, nvtype='double', nvsize=8, Off_t='off_t', lseeksize=8
    alignbytes=8, prototype=define
  Linker and Libraries:
    ld='cc', ldflags =' -fstack-protector -L/usr/local/lib'
    libpth=/usr/local/lib /lib/x86_64-linux-gnu /lib/../lib /usr/lib/x86_64-linux-gnu /usr/lib/../lib /lib /usr/lib
    libs=-lnsl -ldl -lm -lcrypt -lutil -lpthread -lc
    perllibs=-lnsl -ldl -lm -lcrypt -lutil -lpthread -lc
    libc=, so=so, useshrplib=false, libperl=libperl.a
    gnulibc_version='2.19'
  Dynamic Linking:
    dlsrc=dl_dlopen.xs, dlext=so, d_dlsymun=undef, ccdlflags='-Wl,-E'
    cccdlflags='-fPIC', lddlflags='-shared -O2 -L/usr/local/lib -fstack-protector'


Characteristics of this binary (from libperl): 
  Compile-time options: MULTIPLICITY PERL_DONT_CREATE_GVSV
                        PERL_IMPLICIT_CONTEXT PERL_MALLOC_WRAP
                        PERL_PRESERVE_IVUV USE_64_BIT_ALL USE_64_BIT_INT
                        USE_ITHREADS USE_LARGE_FILES USE_PERLIO USE_PERL_ATOF
                        USE_REENTRANT_API
  Built under linux
  Compiled at Jul 11 2015 14:58:02
  %ENV:
    PERL5LIB=""
    PERL5OPT=""
    PERL5_CPANPLUS_IS_RUNNING="12165"
    PERL5_CPAN_IS_RUNNING="12165"
    PERL5_CPAN_IS_RUNNING_IN_RECURSION="7643,12165"
    PERL_CR_SMOKER_CURRENT="Catalyst-Controller-WrapCGI-0.038"
    PERL_EXTUTILS_AUTOINSTALL="--defaultdeps"
    PERL_MM_USE_DEFAULT="1"
  @INC:
    /home/stro/perl/5.14.4t/lib/site_perl/5.14.4/x86_64-linux-thread-multi
    /home/stro/perl/5.14.4t/lib/site_perl/5.14.4
    /home/stro/perl/5.14.4t/lib/5.14.4/x86_64-linux-thread-multi
    /home/stro/perl/5.14.4t/lib/5.14.4
    .