Report for Net-Ident-1.23

Back
From: metabase:user:30f4dfbe-2aae-11df-837a-5e0a49663a4f
Subject: PASS Net-Ident-1.23 v5.10.1 Haiku
Date: 2011-12-28T02:18:04Z

This distribution has been tested as part of the CPAN Testers
project, supporting the Perl programming language.  See
http://wiki.cpantesters.org/ for more information or email
questions to cpan-testers-discuss@perl.org


--
Dear Todd Rinaldo,

This is a computer-generated report for Net-Ident-1.23
on perl 5.10.1, created by CPAN-Reporter-1.2002.

Thank you for uploading your work to CPAN.  Congratulations!
All tests were successful.

Sections of this report:

    * Tester comments
    * Program output
    * Prerequisites
    * Environment and other context

------------------------------
TESTER COMMENTS
------------------------------

Additional comments from tester:

none provided

------------------------------
PROGRAM OUTPUT
------------------------------

Output from '/boot/common/bin/make test':

/boot/common/bin/perl "-MExtUtils::Command::MM" "-e" "test_harness(0, 'blib/lib', 'blib/arch')" t/*.t
t/0use.t .... ok
t/apache.t .. skipped: (no reason given)
t/compat.t .. skipped: (no reason given)
t/Ident.t ... ok
All tests successful.
Files=4, Tests=2,  6 wallclock secs ( 0.11 usr  0.57 sys +  1.43 cusr  2.62 csys =  4.73 CPU)
Result: PASS

------------------------------
PREREQUISITES
------------------------------

Prerequisite modules loaded:

requires:

    Module              Need Have
    ------------------- ---- ----
    Carp                0    1.11
    Config              0    0   
    Exporter            0    5.63
    Fcntl               0    1.06
    FileHandle          0    2.02
    Socket              0    1.82
    vars                0    1.01

build_requires:

    Module              Need Have
    ------------------- ---- ----
    ExtUtils::MakeMaker 0    6.62

configure_requires:

    Module              Need Have
    ------------------- ---- ----
    ExtUtils::MakeMaker 0    6.62


------------------------------
ENVIRONMENT AND OTHER CONTEXT
------------------------------

Environment variables:

    LANG = 
    LC_CTYPE = en_US.UTF-8
    PATH = .:/boot/home/config/bin:/boot/common/bin:/bin:/boot/apps:/boot/preferences:/boot/system/apps:/boot/system/preferences:/boot/develop/tools/gnupro/bin:/usr/perl5/bin
    PERL5LIB = 
    PERL5OPT = 
    PERL5_CPANPLUS_IS_RUNNING = 3092
    PERL5_CPAN_IS_RUNNING = 3092
    TERM = xterm

Perl special variables (and OS-specific diagnostics, for MSWin32):

    $^X = /boot/common/bin/perl
    $UID/$EUID = 0 / 0
    $GID = 0 0
    $EGID = 0 0

Perl module toolchain versions installed:

    Module              Have    
    ------------------- --------
    CPAN                1.9800  
    CPAN::Meta          2.112621
    Cwd                 3.33    
    ExtUtils::CBuilder  0.280202
    ExtUtils::Command   1.16    
    ExtUtils::Install   1.54    
    ExtUtils::MakeMaker 6.62    
    ExtUtils::Manifest  1.58    
    ExtUtils::ParseXS   3.05    
    File::Spec          3.33    
    JSON                2.53    
    JSON::PP            2.27200 
    Module::Build       0.3800  
    Module::Signature   n/a     
    Parse::CPAN::Meta   1.4401  
    Test::Harness       3.23    
    Test::More          0.98    
    YAML                0.77    
    YAML::Syck          1.19    
    version             0.95    


--

Summary of my perl5 (revision 5 version 10 subversion 1) configuration:
   
  Platform:
    osname=haiku, osvers=1, archname=BePC-haiku
    uname='haiku shredder 1 41550 may 16 2011 19:14:49 bepc haiku '
    config_args='-Dcf_email=zooey@hirschkaefer.de -Uusenm -de'
    hint=recommended, useposix=true, d_sigaction=define
    useithreads=undef, usemultiplicity=undef
    useperlio=define, d_sfio=undef, uselargefiles=define, usesocks=undef
    use64bitint=undef, use64bitall=undef, uselongdouble=undef
    usemymalloc=n, bincompat5005=undef
  Compiler:
    cc='gcc', ccflags ='-fno-strict-aliasing -pipe',
    optimize='-O',
    cppflags='-fno-strict-aliasing -pipe'
    ccversion='', gccversion='2.95.3-haiku-100818', gccosandvers=''
    intsize=4, longsize=4, ptrsize=4, doublesize=8, byteorder=1234
    d_longlong=define, longlongsize=8, d_longdbl=define, longdblsize=12
    ivtype='long', ivsize=4, nvtype='double', nvsize=8, Off_t='off_t', lseeksize=8
    alignbytes=4, prototype=define
  Linker and Libraries:
    ld='gcc', ldflags =''
    libpth=/boot/home/config/lib /boot/common/lib /system/lib
    libs=-lnetwork
    perllibs=-lnetwork
    libc=/system/lib/libroot.so, so=so, useshrplib=true, libperl=libperl.so
    gnulibc_version=''
  Dynamic Linking:
    dlsrc=dl_dlopen.xs, dlext=so, d_dlsymun=undef, ccdlflags=' '
    cccdlflags='-fpic', lddlflags='-shared'


Characteristics of this binary (from libperl): 
  Compile-time options: PERL_DONT_CREATE_GVSV USE_LARGE_FILES USE_PERLIO
  Built under haiku
  Compiled at May 17 2011 14:41:35
  %ENV:
    PERL5LIB=""
    PERL5OPT=""
    PERL5_CPANPLUS_IS_RUNNING="3092"
    PERL5_CPAN_IS_RUNNING="3092"
  @INC:
    /boot/common/lib/perl5/5.10.1/BePC-haiku
    /boot/common/lib/perl5/5.10.1
    /boot/common/lib/perl5/site_perl/5.10.1/BePC-haiku
    /boot/common/lib/perl5/site_perl/5.10.1
    .