Back
From: metabase:user:314402c4-2aae-11df-837a-5e0a49663a4f
Subject: PASS Google-API-Client-0.11 v5.18.1 FreeBSD
Date: 2013-11-11T20:16:40Z
This distribution has been tested as part of the CPAN Testers
project, supporting the Perl programming language. See
http://wiki.cpantesters.org/ for more information or email
questions to cpan-testers-discuss@perl.org
--
Dear Takatsugu Shigeta,
This is a computer-generated report for Google-API-Client-0.11
on perl 5.18.1, created by CPAN-Reporter-1.2010.
Thank you for uploading your work to CPAN. Congratulations!
All tests were successful.
Sections of this report:
* Tester comments
* Program output
* Prerequisites
* Environment and other context
------------------------------
TESTER COMMENTS
------------------------------
Additional comments from tester:
none provided
------------------------------
PROGRAM OUTPUT
------------------------------
Output from './Build test':
t/00_compile.t ............. ok
t/build.t .................. ok
t/dynamic_sub.t ............ ok
t/oauth2/client.t .......... ok
t/oauth2/client_secrets.t .. ok
t/release-pod-syntax.t ..... skipped: these tests are for release candidate testing
All tests successful.
Files=6, Tests=18, 1 wallclock secs ( 0.04 usr 0.01 sys + 0.52 cusr 0.08 csys = 0.64 CPU)
Result: PASS
------------------------------
PREREQUISITES
------------------------------
Prerequisite modules loaded:
requires:
Module Need Have
------------------- ----- -----
HTTP::Request 0 6.00
JSON 0 2.61
URI 0 1.60
URI::Escape 0 3.31
build_requires:
Module Need Have
------------------- ----- -----
Test::TCP 0 2.01
configure_requires:
Module Need Have
------------------- ----- -----
Module::Build::Tiny 0.030 0.030
------------------------------
ENVIRONMENT AND OTHER CONTEXT
------------------------------
Environment variables:
DBIC_NO_WARN_BAD_PERL = 1
LC_ALL = de_DE.ISO8859-1
PATH = /usr/local/bin:/usr/bin:/bin:/usr/local/sbin:/usr/sbin:/sbin:/home/e/eserte/bin/freebsd9.1:/home/e/eserte/bin/sh:/home/e/eserte/bin:/usr/games:/home/e/eserte/devel:/home/e/eserte/src/srezic-misc/scripts
PERL5LIB = /usr/local/src/CPAN/build/IO-Socket-SSL-1.958-OEw3tx/blib/arch:/usr/local/src/CPAN/build/IO-Socket-SSL-1.958-OEw3tx/blib/lib:/usr/local/src/CPAN/build/HTML-TableExtract-2.11-OG612t/blib/arch:/usr/local/src/CPAN/build/HTML-TableExtract-2.11-OG612t/blib/lib
PERL5OPT =
PERL5_CPANPLUS_IS_RUNNING = 16990
PERL5_CPAN_IS_RUNNING = 16990
PERL5_CPAN_IS_RUNNING_IN_RECURSION = 16974,16990
PERLDOC = -MPod::Perldoc::ToTextOverstrike
PERL_BATCH = yes
PERL_CPAN_REPORTER_CONFIG = /var/tmp/cpansmoker-1000/TIhGWxjoxA_config.ini
PERL_EXTUTILS_AUTOINSTALL = --defaultdeps
PERL_HTML_DISPLAY_CLASS = HTML::Display::Mozilla
SHELL = /usr/local/bin/zsh
STDPERL = perl
TERM = screen
TMPDIR = /var/tmp/cpansmoker-1000
Perl special variables (and OS-specific diagnostics, for MSWin32):
$^X = /usr/perl5.18.1/bin/perl5.18.1
$UID/$EUID = 1000 / 1000
$GID = 1000 1000 0 5
$EGID = 1000 1000 0 5
Perl module toolchain versions installed:
Module Have
------------------- --------
CPAN 2.00
CPAN::Meta 2.132830
Cwd 3.40
ExtUtils::CBuilder 0.280210
ExtUtils::Command 1.17
ExtUtils::Install 1.59
ExtUtils::MakeMaker 6.66
ExtUtils::Manifest 1.63
ExtUtils::ParseXS 3.18
File::Spec 3.40
JSON 2.61
JSON::PP 2.27202
Module::Build 0.4007
Module::Signature n/a
Parse::CPAN::Meta 1.4404
Test::Harness 3.29
Test::More 0.99
YAML 0.84
YAML::Syck 1.27
version 0.9902
--
Summary of my perl5 (revision 5 version 18 subversion 1) configuration:
Platform:
osname=freebsd, osvers=9.2-release, archname=amd64-freebsd
uname='freebsd cvrsnica 9.2-release freebsd 9.2-release #0 r255898: thu sep 26 22:50:31 utc 2013 root@bake.isc.freebsd.org:usrobjusrsrcsysgeneric amd64 '
config_args='-D useshrplib=true -Dprefix=/usr/perl5.18.1 -Dusemymalloc=n -Dgccansipedantic -de'
hint=recommended, useposix=true, d_sigaction=define
useithreads=undef, usemultiplicity=undef
useperlio=define, d_sfio=undef, uselargefiles=define, usesocks=undef
use64bitint=define, use64bitall=define, uselongdouble=undef
usemymalloc=n, bincompat5005=undef
Compiler:
cc='cc', ccflags ='-DHAS_FPSETMASK -DHAS_FLOATINGPOINT_H -fno-strict-aliasing -pipe -fstack-protector -I/usr/local/include',
optimize='-O2 -pipe',
cppflags='-DHAS_FPSETMASK -DHAS_FLOATINGPOINT_H -fno-strict-aliasing -pipe -fstack-protector -I/usr/local/include'
ccversion='', gccversion='4.2.1 20070831 patched [FreeBSD]', gccosandvers=''
intsize=4, longsize=8, ptrsize=8, doublesize=8, byteorder=12345678
d_longlong=define, longlongsize=8, d_longdbl=define, longdblsize=16
ivtype='long', ivsize=8, nvtype='double', nvsize=8, Off_t='off_t', lseeksize=8
alignbytes=8, prototype=define
Linker and Libraries:
ld='cc', ldflags ='-Wl,-E -fstack-protector -L/usr/local/lib'
libpth=/usr/lib /usr/local/lib
libs=-lgdbm -lm -lcrypt -lutil -lc
perllibs=-lm -lcrypt -lutil -lc
libc=, so=so, useshrplib=true, libperl=libperl.so
gnulibc_version=''
Dynamic Linking:
dlsrc=dl_dlopen.xs, dlext=so, d_dlsymun=undef, ccdlflags=' -Wl,-R/usr/perl5.18.1/lib/5.18.1/amd64-freebsd/CORE'
cccdlflags='-DPIC -fPIC', lddlflags='-shared -L/usr/local/lib -fstack-protector'
Characteristics of this binary (from libperl):
Compile-time options: HAS_TIMES PERLIO_LAYERS PERL_DONT_CREATE_GVSV
PERL_HASH_FUNC_ONE_AT_A_TIME_HARD PERL_MALLOC_WRAP
PERL_PRESERVE_IVUV PERL_SAWAMPERSAND PERL_USE_DEVEL
USE_64_BIT_ALL USE_64_BIT_INT USE_LARGE_FILES
USE_LOCALE USE_LOCALE_COLLATE USE_LOCALE_CTYPE
USE_LOCALE_NUMERIC USE_PERLIO USE_PERL_ATOF
Built under freebsd
Compiled at Oct 28 2013 10:03:08
%ENV:
PERL5LIB="/usr/local/src/CPAN/build/IO-Socket-SSL-1.958-OEw3tx/blib/arch:/usr/local/src/CPAN/build/IO-Socket-SSL-1.958-OEw3tx/blib/lib:/usr/local/src/CPAN/build/HTML-TableExtract-2.11-OG612t/blib/arch:/usr/local/src/CPAN/build/HTML-TableExtract-2.11-OG612t/blib/lib"
PERL5OPT=""
PERL5_CPANPLUS_IS_RUNNING="16990"
PERL5_CPAN_IS_RUNNING="16990"
PERL5_CPAN_IS_RUNNING_IN_RECURSION="16974,16990"
PERLDOC="-MPod::Perldoc::ToTextOverstrike"
PERL_BATCH="yes"
PERL_CPAN_REPORTER_CONFIG="/var/tmp/cpansmoker-1000/TIhGWxjoxA_config.ini"
PERL_EXTUTILS_AUTOINSTALL="--defaultdeps"
PERL_HTML_DISPLAY_CLASS="HTML::Display::Mozilla"
@INC:
/usr/local/src/CPAN/build/IO-Socket-SSL-1.958-OEw3tx/blib/arch
/usr/local/src/CPAN/build/IO-Socket-SSL-1.958-OEw3tx/blib/lib
/usr/local/src/CPAN/build/HTML-TableExtract-2.11-OG612t/blib/arch
/usr/local/src/CPAN/build/HTML-TableExtract-2.11-OG612t/blib/lib
/usr/perl5.18.1/lib/site_perl/5.18.1/amd64-freebsd
/usr/perl5.18.1/lib/site_perl/5.18.1
/usr/perl5.18.1/lib/5.18.1/amd64-freebsd
/usr/perl5.18.1/lib/5.18.1
.