Data-Hopen v0.000021 Perl 5 v5.41.10 x86_64-linux-thread-multi

Status
Pass
From
Andreas J. König (ANDK)
Dist
Data-Hopen v0.000021
Platform
Perl 5 v5.41.10 x86_64-linux-thread-multi
Date
2025-04-14 18:13:33
ID
2cf6b18c-195c-11f0-80a4-8cbe4a2ae1c7
This distribution has been tested as part of the CPAN Testers
project, supporting the Perl programming language.  See
http://wiki.cpantesters.org/ for more information or email
questions to cpan-testers-discuss@perl.org


--
Dear Christopher White,

This is a computer-generated report for Data-Hopen-0.000021
on perl 5.41.10, created by CPAN-Reporter-1.2020.

Thank you for uploading your work to CPAN.  Congratulations!
All tests were successful.

Sections of this report:

    * Tester comments
    * Program output
    * Prerequisites
    * Environment and other context

------------------------------
TESTER COMMENTS
------------------------------

Additional comments from tester:

this report is from an automated smoke testing program
and was not reviewed by a human for accuracy

------------------------------
PROGRAM OUTPUT
------------------------------

Output from './Build test':

# Testing Data::Hopen 0.000021, Perl 5.041010, /tmp/basesmoker-reloperl-Cyl8/bin/perl
t/00-load.t .................... ok
t/000-class.t .................. ok
t/001-entity.t ................. ok
t/002-link.t ................... ok
t/003-node.t ................... ok
t/004-goal.t ................... ok
t/007-hnew.t ................... ok
t/008-nameset.t ................ ok
t/009-hopen-constants.t ........ ok
# t/009-scope.t: DUT is Data::Hopen::Scope::Hash
t/009-scope.t .................. ok
# t/010-scope-hash.t: DUT is Data::Hopen::Scope::Hash
t/010-scope-hash.t ............. ok
t/011-scope-env.t .............. ok
t/012-scope-nested.t ........... ok
t/030-ordered_pred.t ........... ok
t/050-runnable.t ............... ok
t/100-op.t ..................... ok
t/101-collect-op.t ............. ok
# Testing Data::Hopen::G::DAG from /tmp/loop_over_bdir-2864982-bUcvM6/Data-Hopen-0.000021-0/blib/lib/Data/Hopen/G/DAG.pm
# Data::Hopen::G::DAG bar adding $VAR1 = bless( {
#   'name' => 'some operation'
# }, 'Data::Hopen::G::NoOp' ); (at /tmp/loop_over_bdir-2864982-bUcvM6/Data-Hopen-0.000021-0/blib/lib/Data/Hopen/G/DAG.pm:422)
# DAG::connect(): Edge from Data::Hopen::G::NoOp=HASH(0x557832a2c478) via (no link) to some goal
t/120-dag.t .................... ok
t/121-dag-single-goal.t ........ ok
t/122-dag-visitor.t ............ ok
# "Last item in order isn't _final!" warnings are OK in this test.
t/123-dag-warnings.t ........... ok
# DAG::connect(): Edge from op1 via (no link) to all (at /tmp/loop_over_bdir-2864982-bUcvM6/Data-Hopen-0.000021-0/blib/lib/Data/Hopen/G/DAG.pm:391)
# DAG::connect(): Edge from op2 via (no link) to all (at /tmp/loop_over_bdir-2864982-bUcvM6/Data-Hopen-0.000021-0/blib/lib/Data/Hopen/G/DAG.pm:391)
# -> Data::Hopen::G::DAG dag input $VAR1 = {
#   'bar' => 'Bar',
#   'foo' => 42
# }; (at /tmp/loop_over_bdir-2864982-bUcvM6/Data-Hopen-0.000021-0/blib/lib/Data/Hopen/G/Runnable.pm:112)
# Traversing DAG dag ********************************************************** (at /tmp/loop_over_bdir-2864982-bUcvM6/Data-Hopen-0.000021-0/blib/lib/Data/Hopen/G/DAG.pm:201)
# -> Data::Hopen::G::OutputOp op2 input $VAR1 = {
#   'foo' => 42,
#   'bar' => 'Bar'
# }; (at /tmp/loop_over_bdir-2864982-bUcvM6/Data-Hopen-0.000021-0/blib/lib/Data/Hopen/G/Runnable.pm:112)
# <- Data::Hopen::G::OutputOp op2 output $VAR1 = {
#   'foo' => 1337
# }; (at /tmp/loop_over_bdir-2864982-bUcvM6/Data-Hopen-0.000021-0/blib/lib/Data/Hopen/G/Runnable.pm:119)
# Finished node op2 with outputs $VAR1 = {
#   'foo' => 1337
# }; (at /tmp/loop_over_bdir-2864982-bUcvM6/Data-Hopen-0.000021-0/blib/lib/Data/Hopen/G/DAG.pm:300)
# -> Data::Hopen::G::CollectOp op1 input $VAR1 = {
#   'bar' => 'Bar',
#   'foo' => 42
# }; (at /tmp/loop_over_bdir-2864982-bUcvM6/Data-Hopen-0.000021-0/blib/lib/Data/Hopen/G/Runnable.pm:112)
# <- Data::Hopen::G::CollectOp op1 output $VAR1 = {
#   'foo' => 42,
#   'bar' => 'Bar'
# }; (at /tmp/loop_over_bdir-2864982-bUcvM6/Data-Hopen-0.000021-0/blib/lib/Data/Hopen/G/Runnable.pm:119)
# Finished node op1 with outputs $VAR1 = {
#   'foo' => 42,
#   'bar' => 'Bar'
# }; (at /tmp/loop_over_bdir-2864982-bUcvM6/Data-Hopen-0.000021-0/blib/lib/Data/Hopen/G/DAG.pm:300)
# From op1 to all (at /tmp/loop_over_bdir-2864982-bUcvM6/Data-Hopen-0.000021-0/blib/lib/Data/Hopen/G/DAG.pm:225)
#   -- no links (at /tmp/loop_over_bdir-2864982-bUcvM6/Data-Hopen-0.000021-0/blib/lib/Data/Hopen/G/DAG.pm:238)
# From op2 to all (at /tmp/loop_over_bdir-2864982-bUcvM6/Data-Hopen-0.000021-0/blib/lib/Data/Hopen/G/DAG.pm:225)
#   -- no links (at /tmp/loop_over_bdir-2864982-bUcvM6/Data-Hopen-0.000021-0/blib/lib/Data/Hopen/G/DAG.pm:238)
# -> Data::Hopen::G::Goal all input $VAR1 = {
#   'foo' => [
#     42,
#     1337
#   ],
#   'bar' => 'Bar'
# }; (at /tmp/loop_over_bdir-2864982-bUcvM6/Data-Hopen-0.000021-0/blib/lib/Data/Hopen/G/Runnable.pm:112)
# Goal all with outputs (at /tmp/loop_over_bdir-2864982-bUcvM6/Data-Hopen-0.000021-0/blib/lib/Data/Hopen/G/Goal.pm:50)
# <- Data::Hopen::G::Goal all output $VAR1 = {
#   'bar' => 'Bar',
#   'foo' => [
#     42,
#     1337
#   ]
# }; (at /tmp/loop_over_bdir-2864982-bUcvM6/Data-Hopen-0.000021-0/blib/lib/Data/Hopen/G/Runnable.pm:119)
# Finished node all with outputs $VAR1 = {
#   'bar' => 'Bar',
#   'foo' => [
#     42,
#     1337
#   ]
# }; (at /tmp/loop_over_bdir-2864982-bUcvM6/Data-Hopen-0.000021-0/blib/lib/Data/Hopen/G/DAG.pm:300)
# <- Data::Hopen::G::DAG dag output $VAR1 = {
#   'all' => {
#     'bar' => 'Bar',
#     'foo' => [
#       42,
#       1337
#     ]
#   }
# }; (at /tmp/loop_over_bdir-2864982-bUcvM6/Data-Hopen-0.000021-0/blib/lib/Data/Hopen/G/Runnable.pm:119)
# -> Data::Hopen::G::DAG dag input $VAR1 = {
#   'bar' => 'Bar',
#   'foo' => 42
# }; (at /tmp/loop_over_bdir-2864982-bUcvM6/Data-Hopen-0.000021-0/blib/lib/Data/Hopen/G/Runnable.pm:112)
# Traversing DAG dag ********************************************************** (at /tmp/loop_over_bdir-2864982-bUcvM6/Data-Hopen-0.000021-0/blib/lib/Data/Hopen/G/DAG.pm:201)
# -> Data::Hopen::G::CollectOp op1 input $VAR1 = {
#   'foo' => 42,
#   'bar' => 'Bar'
# }; (at /tmp/loop_over_bdir-2864982-bUcvM6/Data-Hopen-0.000021-0/blib/lib/Data/Hopen/G/Runnable.pm:112)
# <- Data::Hopen::G::CollectOp op1 output $VAR1 = {
#   'foo' => 42,
#   'bar' => 'Bar'
# }; (at /tmp/loop_over_bdir-2864982-bUcvM6/Data-Hopen-0.000021-0/blib/lib/Data/Hopen/G/Runnable.pm:119)
# Finished node op1 with outputs $VAR1 = {
#   'foo' => 42,
#   'bar' => 'Bar'
# }; (at /tmp/loop_over_bdir-2864982-bUcvM6/Data-Hopen-0.000021-0/blib/lib/Data/Hopen/G/DAG.pm:300)
# -> Data::Hopen::G::OutputOp op2 input $VAR1 = {
#   'foo' => 42,
#   'bar' => 'Bar'
# }; (at /tmp/loop_over_bdir-2864982-bUcvM6/Data-Hopen-0.000021-0/blib/lib/Data/Hopen/G/Runnable.pm:112)
# <- Data::Hopen::G::OutputOp op2 output $VAR1 = {
#   'foo' => 1337
# }; (at /tmp/loop_over_bdir-2864982-bUcvM6/Data-Hopen-0.000021-0/blib/lib/Data/Hopen/G/Runnable.pm:119)
# Finished node op2 with outputs $VAR1 = {
#   'foo' => 1337
# }; (at /tmp/loop_over_bdir-2864982-bUcvM6/Data-Hopen-0.000021-0/blib/lib/Data/Hopen/G/DAG.pm:300)
# From op1 to all (at /tmp/loop_over_bdir-2864982-bUcvM6/Data-Hopen-0.000021-0/blib/lib/Data/Hopen/G/DAG.pm:225)
#   -- no links (at /tmp/loop_over_bdir-2864982-bUcvM6/Data-Hopen-0.000021-0/blib/lib/Data/Hopen/G/DAG.pm:238)
# From op2 to all (at /tmp/loop_over_bdir-2864982-bUcvM6/Data-Hopen-0.000021-0/blib/lib/Data/Hopen/G/DAG.pm:225)
#   -- no links (at /tmp/loop_over_bdir-2864982-bUcvM6/Data-Hopen-0.000021-0/blib/lib/Data/Hopen/G/DAG.pm:238)
# -> Data::Hopen::G::Goal all input $VAR1 = {
#   'bar' => 'Bar',
#   'foo' => [
#     42,
#     1337
#   ]
# }; (at /tmp/loop_over_bdir-2864982-bUcvM6/Data-Hopen-0.000021-0/blib/lib/Data/Hopen/G/Runnable.pm:112)
# Goal all with outputs (at /tmp/loop_over_bdir-2864982-bUcvM6/Data-Hopen-0.000021-0/blib/lib/Data/Hopen/G/Goal.pm:50)
# <- Data::Hopen::G::Goal all output $VAR1 = {
#   'foo' => [
#     42,
#     1337
#   ],
#   'bar' => 'Bar'
# }; (at /tmp/loop_over_bdir-2864982-bUcvM6/Data-Hopen-0.000021-0/blib/lib/Data/Hopen/G/Runnable.pm:119)
# Finished node all with outputs $VAR1 = {
#   'foo' => [
#     42,
#     1337
#   ],
#   'bar' => 'Bar'
# }; (at /tmp/loop_over_bdir-2864982-bUcvM6/Data-Hopen-0.000021-0/blib/lib/Data/Hopen/G/DAG.pm:300)
# <- Data::Hopen::G::DAG dag output $VAR1 = {
#   'all' => {
#     'foo' => [
#       42,
#       1337
#     ],
#     'bar' => 'Bar'
#   }
# }; (at /tmp/loop_over_bdir-2864982-bUcvM6/Data-Hopen-0.000021-0/blib/lib/Data/Hopen/G/Runnable.pm:119)
# -> Data::Hopen::G::DAG dag input $VAR1 = {
#   'bar' => 'Bar',
#   'foo' => 42
# }; (at /tmp/loop_over_bdir-2864982-bUcvM6/Data-Hopen-0.000021-0/blib/lib/Data/Hopen/G/Runnable.pm:112)
# Traversing DAG dag ********************************************************** (at /tmp/loop_over_bdir-2864982-bUcvM6/Data-Hopen-0.000021-0/blib/lib/Data/Hopen/G/DAG.pm:201)
# -> Data::Hopen::G::CollectOp op1 input $VAR1 = {
#   'foo' => 42,
#   'bar' => 'Bar'
# }; (at /tmp/loop_over_bdir-2864982-bUcvM6/Data-Hopen-0.000021-0/blib/lib/Data/Hopen/G/Runnable.pm:112)
# <- Data::Hopen::G::CollectOp op1 output $VAR1 = {
#   'foo' => 42,
#   'bar' => 'Bar'
# }; (at /tmp/loop_over_bdir-2864982-bUcvM6/Data-Hopen-0.000021-0/blib/lib/Data/Hopen/G/Runnable.pm:119)
# Finished node op1 with outputs $VAR1 = {
#   'foo' => 42,
#   'bar' => 'Bar'
# }; (at /tmp/loop_over_bdir-2864982-bUcvM6/Data-Hopen-0.000021-0/blib/lib/Data/Hopen/G/DAG.pm:300)
# -> Data::Hopen::G::OutputOp op2 input $VAR1 = {
#   'bar' => 'Bar',
#   'foo' => 42
# }; (at /tmp/loop_over_bdir-2864982-bUcvM6/Data-Hopen-0.000021-0/blib/lib/Data/Hopen/G/Runnable.pm:112)
# <- Data::Hopen::G::OutputOp op2 output $VAR1 = {
#   'foo' => 1337
# }; (at /tmp/loop_over_bdir-2864982-bUcvM6/Data-Hopen-0.000021-0/blib/lib/Data/Hopen/G/Runnable.pm:119)
# Finished node op2 with outputs $VAR1 = {
#   'foo' => 1337
# }; (at /tmp/loop_over_bdir-2864982-bUcvM6/Data-Hopen-0.000021-0/blib/lib/Data/Hopen/G/DAG.pm:300)
# From op1 to all (at /tmp/loop_over_bdir-2864982-bUcvM6/Data-Hopen-0.000021-0/blib/lib/Data/Hopen/G/DAG.pm:225)
#   -- no links (at /tmp/loop_over_bdir-2864982-bUcvM6/Data-Hopen-0.000021-0/blib/lib/Data/Hopen/G/DAG.pm:238)
# From op2 to all (at /tmp/loop_over_bdir-2864982-bUcvM6/Data-Hopen-0.000021-0/blib/lib/Data/Hopen/G/DAG.pm:225)
#   -- no links (at /tmp/loop_over_bdir-2864982-bUcvM6/Data-Hopen-0.000021-0/blib/lib/Data/Hopen/G/DAG.pm:238)
# -> Data::Hopen::G::Goal all input $VAR1 = {
#   'bar' => 'Bar',
#   'foo' => [
#     42,
#     1337
#   ]
# }; (at /tmp/loop_over_bdir-2864982-bUcvM6/Data-Hopen-0.000021-0/blib/lib/Data/Hopen/G/Runnable.pm:112)
# Goal all with outputs (at /tmp/loop_over_bdir-2864982-bUcvM6/Data-Hopen-0.000021-0/blib/lib/Data/Hopen/G/Goal.pm:50)
# <- Data::Hopen::G::Goal all output $VAR1 = {
#   'bar' => 'Bar',
#   'foo' => [
#     42,
#     1337
#   ]
# }; (at /tmp/loop_over_bdir-2864982-bUcvM6/Data-Hopen-0.000021-0/blib/lib/Data/Hopen/G/Runnable.pm:119)
# Finished node all with outputs $VAR1 = {
#   'bar' => 'Bar',
#   'foo' => [
#     42,
#     1337
#   ]
# }; (at /tmp/loop_over_bdir-2864982-bUcvM6/Data-Hopen-0.000021-0/blib/lib/Data/Hopen/G/DAG.pm:300)
# <- Data::Hopen::G::DAG dag output $VAR1 = {
#   'all' => {
#     'bar' => 'Bar',
#     'foo' => [
#       42,
#       1337
#     ]
#   }
# }; (at /tmp/loop_over_bdir-2864982-bUcvM6/Data-Hopen-0.000021-0/blib/lib/Data/Hopen/G/Runnable.pm:119)
# -> Data::Hopen::G::DAG dag input $VAR1 = {
#   'bar' => 'Bar',
#   'foo' => 42
# }; (at /tmp/loop_over_bdir-2864982-bUcvM6/Data-Hopen-0.000021-0/blib/lib/Data/Hopen/G/Runnable.pm:112)
# Traversing DAG dag ********************************************************** (at /tmp/loop_over_bdir-2864982-bUcvM6/Data-Hopen-0.000021-0/blib/lib/Data/Hopen/G/DAG.pm:201)
# -> Data::Hopen::G::OutputOp op2 input $VAR1 = {
#   'bar' => 'Bar',
#   'foo' => 42
# }; (at /tmp/loop_over_bdir-2864982-bUcvM6/Data-Hopen-0.000021-0/blib/lib/Data/Hopen/G/Runnable.pm:112)
# <- Data::Hopen::G::OutputOp op2 output $VAR1 = {
#   'foo' => 1337
# }; (at /tmp/loop_over_bdir-2864982-bUcvM6/Data-Hopen-0.000021-0/blib/lib/Data/Hopen/G/Runnable.pm:119)
# Finished node op2 with outputs $VAR1 = {
#   'foo' => 1337
# }; (at /tmp/loop_over_bdir-2864982-bUcvM6/Data-Hopen-0.000021-0/blib/lib/Data/Hopen/G/DAG.pm:300)
# -> Data::Hopen::G::CollectOp op1 input $VAR1 = {
#   'foo' => 42,
#   'bar' => 'Bar'
# }; (at /tmp/loop_over_bdir-2864982-bUcvM6/Data-Hopen-0.000021-0/blib/lib/Data/Hopen/G/Runnable.pm:112)
# <- Data::Hopen::G::CollectOp op1 output $VAR1 = {
#   'foo' => 42,
#   'bar' => 'Bar'
# }; (at /tmp/loop_over_bdir-2864982-bUcvM6/Data-Hopen-0.000021-0/blib/lib/Data/Hopen/G/Runnable.pm:119)
# Finished node op1 with outputs $VAR1 = {
#   'foo' => 42,
#   'bar' => 'Bar'
# }; (at /tmp/loop_over_bdir-2864982-bUcvM6/Data-Hopen-0.000021-0/blib/lib/Data/Hopen/G/DAG.pm:300)
# From op1 to all (at /tmp/loop_over_bdir-2864982-bUcvM6/Data-Hopen-0.000021-0/blib/lib/Data/Hopen/G/DAG.pm:225)
#   -- no links (at /tmp/loop_over_bdir-2864982-bUcvM6/Data-Hopen-0.000021-0/blib/lib/Data/Hopen/G/DAG.pm:238)
# From op2 to all (at /tmp/loop_over_bdir-2864982-bUcvM6/Data-Hopen-0.000021-0/blib/lib/Data/Hopen/G/DAG.pm:225)
#   -- no links (at /tmp/loop_over_bdir-2864982-bUcvM6/Data-Hopen-0.000021-0/blib/lib/Data/Hopen/G/DAG.pm:238)
# -> Data::Hopen::G::Goal all input $VAR1 = {
#   'foo' => 42,
#   'bar' => 'Bar'
# }; (at /tmp/loop_over_bdir-2864982-bUcvM6/Data-Hopen-0.000021-0/blib/lib/Data/Hopen/G/Runnable.pm:112)
# Goal all with outputs (at /tmp/loop_over_bdir-2864982-bUcvM6/Data-Hopen-0.000021-0/blib/lib/Data/Hopen/G/Goal.pm:50)
# <- Data::Hopen::G::Goal all output $VAR1 = {
#   'bar' => 'Bar',
#   'foo' => 42
# }; (at /tmp/loop_over_bdir-2864982-bUcvM6/Data-Hopen-0.000021-0/blib/lib/Data/Hopen/G/Runnable.pm:119)
# Finished node all with outputs $VAR1 = {
#   'bar' => 'Bar',
#   'foo' => 42
# }; (at /tmp/loop_over_bdir-2864982-bUcvM6/Data-Hopen-0.000021-0/blib/lib/Data/Hopen/G/DAG.pm:300)
# <- Data::Hopen::G::DAG dag output $VAR1 = {
#   'all' => {
#     'bar' => 'Bar',
#     'foo' => 42
#   }
# }; (at /tmp/loop_over_bdir-2864982-bUcvM6/Data-Hopen-0.000021-0/blib/lib/Data/Hopen/G/Runnable.pm:119)
# -> Data::Hopen::G::DAG dag input $VAR1 = {
#   'bar' => 'Bar',
#   'foo' => 42
# }; (at /tmp/loop_over_bdir-2864982-bUcvM6/Data-Hopen-0.000021-0/blib/lib/Data/Hopen/G/Runnable.pm:112)
# Traversing DAG dag ********************************************************** (at /tmp/loop_over_bdir-2864982-bUcvM6/Data-Hopen-0.000021-0/blib/lib/Data/Hopen/G/DAG.pm:201)
# -> Data::Hopen::G::OutputOp op2 input $VAR1 = {
#   'bar' => 'Bar',
#   'foo' => 42
# }; (at /tmp/loop_over_bdir-2864982-bUcvM6/Data-Hopen-0.000021-0/blib/lib/Data/Hopen/G/Runnable.pm:112)
# <- Data::Hopen::G::OutputOp op2 output $VAR1 = {
#   'foo' => 1337
# }; (at /tmp/loop_over_bdir-2864982-bUcvM6/Data-Hopen-0.000021-0/blib/lib/Data/Hopen/G/Runnable.pm:119)
# Finished node op2 with outputs $VAR1 = {
#   'foo' => 1337
# }; (at /tmp/loop_over_bdir-2864982-bUcvM6/Data-Hopen-0.000021-0/blib/lib/Data/Hopen/G/DAG.pm:300)
# -> Data::Hopen::G::CollectOp op1 input $VAR1 = {
#   'bar' => 'Bar',
#   'foo' => 42
# }; (at /tmp/loop_over_bdir-2864982-bUcvM6/Data-Hopen-0.000021-0/blib/lib/Data/Hopen/G/Runnable.pm:112)
# <- Data::Hopen::G::CollectOp op1 output $VAR1 = {
#   'bar' => 'Bar',
#   'foo' => 42
# }; (at /tmp/loop_over_bdir-2864982-bUcvM6/Data-Hopen-0.000021-0/blib/lib/Data/Hopen/G/Runnable.pm:119)
# Finished node op1 with outputs $VAR1 = {
#   'bar' => 'Bar',
#   'foo' => 42
# }; (at /tmp/loop_over_bdir-2864982-bUcvM6/Data-Hopen-0.000021-0/blib/lib/Data/Hopen/G/DAG.pm:300)
# From op1 to all (at /tmp/loop_over_bdir-2864982-bUcvM6/Data-Hopen-0.000021-0/blib/lib/Data/Hopen/G/DAG.pm:225)
#   -- no links (at /tmp/loop_over_bdir-2864982-bUcvM6/Data-Hopen-0.000021-0/blib/lib/Data/Hopen/G/DAG.pm:238)
# From op2 to all (at /tmp/loop_over_bdir-2864982-bUcvM6/Data-Hopen-0.000021-0/blib/lib/Data/Hopen/G/DAG.pm:225)
#   -- no links (at /tmp/loop_over_bdir-2864982-bUcvM6/Data-Hopen-0.000021-0/blib/lib/Data/Hopen/G/DAG.pm:238)
# -> Data::Hopen::G::Goal all input $VAR1 = {
#   'foo' => 42,
#   'bar' => 'Bar'
# }; (at /tmp/loop_over_bdir-2864982-bUcvM6/Data-Hopen-0.000021-0/blib/lib/Data/Hopen/G/Runnable.pm:112)
# Goal all with outputs (at /tmp/loop_over_bdir-2864982-bUcvM6/Data-Hopen-0.000021-0/blib/lib/Data/Hopen/G/Goal.pm:50)
# <- Data::Hopen::G::Goal all output $VAR1 = {
#   'foo' => 42,
#   'bar' => 'Bar'
# }; (at /tmp/loop_over_bdir-2864982-bUcvM6/Data-Hopen-0.000021-0/blib/lib/Data/Hopen/G/Runnable.pm:119)
# Finished node all with outputs $VAR1 = {
#   'foo' => 42,
#   'bar' => 'Bar'
# }; (at /tmp/loop_over_bdir-2864982-bUcvM6/Data-Hopen-0.000021-0/blib/lib/Data/Hopen/G/DAG.pm:300)
# <- Data::Hopen::G::DAG dag output $VAR1 = {
#   'all' => {
#     'foo' => 42,
#     'bar' => 'Bar'
#   }
# }; (at /tmp/loop_over_bdir-2864982-bUcvM6/Data-Hopen-0.000021-0/blib/lib/Data/Hopen/G/Runnable.pm:119)
# -> Data::Hopen::G::DAG dag input $VAR1 = {
#   'foo' => 42,
#   'bar' => 'Bar'
# }; (at /tmp/loop_over_bdir-2864982-bUcvM6/Data-Hopen-0.000021-0/blib/lib/Data/Hopen/G/Runnable.pm:112)
# Traversing DAG dag ********************************************************** (at /tmp/loop_over_bdir-2864982-bUcvM6/Data-Hopen-0.000021-0/blib/lib/Data/Hopen/G/DAG.pm:201)
# -> Data::Hopen::G::OutputOp op2 input $VAR1 = {
#   'foo' => 42,
#   'bar' => 'Bar'
# }; (at /tmp/loop_over_bdir-2864982-bUcvM6/Data-Hopen-0.000021-0/blib/lib/Data/Hopen/G/Runnable.pm:112)
# <- Data::Hopen::G::OutputOp op2 output $VAR1 = {
#   'foo' => 1337
# }; (at /tmp/loop_over_bdir-2864982-bUcvM6/Data-Hopen-0.000021-0/blib/lib/Data/Hopen/G/Runnable.pm:119)
# Finished node op2 with outputs $VAR1 = {
#   'foo' => 1337
# }; (at /tmp/loop_over_bdir-2864982-bUcvM6/Data-Hopen-0.000021-0/blib/lib/Data/Hopen/G/DAG.pm:300)
# -> Data::Hopen::G::CollectOp op1 input $VAR1 = {
#   'foo' => 42,
#   'bar' => 'Bar'
# }; (at /tmp/loop_over_bdir-2864982-bUcvM6/Data-Hopen-0.000021-0/blib/lib/Data/Hopen/G/Runnable.pm:112)
# <- Data::Hopen::G::CollectOp op1 output $VAR1 = {
#   'bar' => 'Bar',
#   'foo' => 42
# }; (at /tmp/loop_over_bdir-2864982-bUcvM6/Data-Hopen-0.000021-0/blib/lib/Data/Hopen/G/Runnable.pm:119)
# Finished node op1 with outputs $VAR1 = {
#   'bar' => 'Bar',
#   'foo' => 42
# }; (at /tmp/loop_over_bdir-2864982-bUcvM6/Data-Hopen-0.000021-0/blib/lib/Data/Hopen/G/DAG.pm:300)
# From op1 to all (at /tmp/loop_over_bdir-2864982-bUcvM6/Data-Hopen-0.000021-0/blib/lib/Data/Hopen/G/DAG.pm:225)
#   -- no links (at /tmp/loop_over_bdir-2864982-bUcvM6/Data-Hopen-0.000021-0/blib/lib/Data/Hopen/G/DAG.pm:238)
# From op2 to all (at /tmp/loop_over_bdir-2864982-bUcvM6/Data-Hopen-0.000021-0/blib/lib/Data/Hopen/G/DAG.pm:225)
#   -- no links (at /tmp/loop_over_bdir-2864982-bUcvM6/Data-Hopen-0.000021-0/blib/lib/Data/Hopen/G/DAG.pm:238)
# -> Data::Hopen::G::Goal all input $VAR1 = {
#   'foo' => 42,
#   'bar' => 'Bar'
# }; (at /tmp/loop_over_bdir-2864982-bUcvM6/Data-Hopen-0.000021-0/blib/lib/Data/Hopen/G/Runnable.pm:112)
# Goal all with outputs (at /tmp/loop_over_bdir-2864982-bUcvM6/Data-Hopen-0.000021-0/blib/lib/Data/Hopen/G/Goal.pm:50)
# <- Data::Hopen::G::Goal all output $VAR1 = {
#   'foo' => 42,
#   'bar' => 'Bar'
# }; (at /tmp/loop_over_bdir-2864982-bUcvM6/Data-Hopen-0.000021-0/blib/lib/Data/Hopen/G/Runnable.pm:119)
# Finished node all with outputs $VAR1 = {
#   'foo' => 42,
#   'bar' => 'Bar'
# }; (at /tmp/loop_over_bdir-2864982-bUcvM6/Data-Hopen-0.000021-0/blib/lib/Data/Hopen/G/DAG.pm:300)
# <- Data::Hopen::G::DAG dag output $VAR1 = {
#   'all' => {
#     'foo' => 42,
#     'bar' => 'Bar'
#   }
# }; (at /tmp/loop_over_bdir-2864982-bUcvM6/Data-Hopen-0.000021-0/blib/lib/Data/Hopen/G/Runnable.pm:119)
# -> Data::Hopen::G::DAG dag input $VAR1 = {
#   'foo' => 42,
#   'bar' => 'Bar'
# }; (at /tmp/loop_over_bdir-2864982-bUcvM6/Data-Hopen-0.000021-0/blib/lib/Data/Hopen/G/Runnable.pm:112)
# Traversing DAG dag ********************************************************** (at /tmp/loop_over_bdir-2864982-bUcvM6/Data-Hopen-0.000021-0/blib/lib/Data/Hopen/G/DAG.pm:201)
# -> Data::Hopen::G::OutputOp op2 input $VAR1 = {
#   'foo' => 42,
#   'bar' => 'Bar'
# }; (at /tmp/loop_over_bdir-2864982-bUcvM6/Data-Hopen-0.000021-0/blib/lib/Data/Hopen/G/Runnable.pm:112)
# <- Data::Hopen::G::OutputOp op2 output $VAR1 = {
#   'foo' => 1337
# }; (at /tmp/loop_over_bdir-2864982-bUcvM6/Data-Hopen-0.000021-0/blib/lib/Data/Hopen/G/Runnable.pm:119)
# Finished node op2 with outputs $VAR1 = {
#   'foo' => 1337
# }; (at /tmp/loop_over_bdir-2864982-bUcvM6/Data-Hopen-0.000021-0/blib/lib/Data/Hopen/G/DAG.pm:300)
# -> Data::Hopen::G::CollectOp op1 input $VAR1 = {
#   'bar' => 'Bar',
#   'foo' => 42
# }; (at /tmp/loop_over_bdir-2864982-bUcvM6/Data-Hopen-0.000021-0/blib/lib/Data/Hopen/G/Runnable.pm:112)
# <- Data::Hopen::G::CollectOp op1 output $VAR1 = {
#   'foo' => 42,
#   'bar' => 'Bar'
# }; (at /tmp/loop_over_bdir-2864982-bUcvM6/Data-Hopen-0.000021-0/blib/lib/Data/Hopen/G/Runnable.pm:119)
# Finished node op1 with outputs $VAR1 = {
#   'foo' => 42,
#   'bar' => 'Bar'
# }; (at /tmp/loop_over_bdir-2864982-bUcvM6/Data-Hopen-0.000021-0/blib/lib/Data/Hopen/G/DAG.pm:300)
# From op1 to all (at /tmp/loop_over_bdir-2864982-bUcvM6/Data-Hopen-0.000021-0/blib/lib/Data/Hopen/G/DAG.pm:225)
#   -- no links (at /tmp/loop_over_bdir-2864982-bUcvM6/Data-Hopen-0.000021-0/blib/lib/Data/Hopen/G/DAG.pm:238)
# From op2 to all (at /tmp/loop_over_bdir-2864982-bUcvM6/Data-Hopen-0.000021-0/blib/lib/Data/Hopen/G/DAG.pm:225)
#   -- no links (at /tmp/loop_over_bdir-2864982-bUcvM6/Data-Hopen-0.000021-0/blib/lib/Data/Hopen/G/DAG.pm:238)
# -> Data::Hopen::G::Goal all input $VAR1 = {
#   'bar' => 'Bar',
#   'foo' => 42
# }; (at /tmp/loop_over_bdir-2864982-bUcvM6/Data-Hopen-0.000021-0/blib/lib/Data/Hopen/G/Runnable.pm:112)
# Goal all with outputs (at /tmp/loop_over_bdir-2864982-bUcvM6/Data-Hopen-0.000021-0/blib/lib/Data/Hopen/G/Goal.pm:50)
# <- Data::Hopen::G::Goal all output $VAR1 = {
#   'foo' => 42,
#   'bar' => 'Bar'
# }; (at /tmp/loop_over_bdir-2864982-bUcvM6/Data-Hopen-0.000021-0/blib/lib/Data/Hopen/G/Runnable.pm:119)
# Finished node all with outputs $VAR1 = {
#   'foo' => 42,
#   'bar' => 'Bar'
# }; (at /tmp/loop_over_bdir-2864982-bUcvM6/Data-Hopen-0.000021-0/blib/lib/Data/Hopen/G/DAG.pm:300)
# <- Data::Hopen::G::DAG dag output $VAR1 = {
#   'all' => {
#     'foo' => 42,
#     'bar' => 'Bar'
#   }
# }; (at /tmp/loop_over_bdir-2864982-bUcvM6/Data-Hopen-0.000021-0/blib/lib/Data/Hopen/G/Runnable.pm:119)
# -> Data::Hopen::G::DAG dag input $VAR1 = {
#   'bar' => 'Bar',
#   'foo' => 42
# }; (at /tmp/loop_over_bdir-2864982-bUcvM6/Data-Hopen-0.000021-0/blib/lib/Data/Hopen/G/Runnable.pm:112)
# Traversing DAG dag ********************************************************** (at /tmp/loop_over_bdir-2864982-bUcvM6/Data-Hopen-0.000021-0/blib/lib/Data/Hopen/G/DAG.pm:201)
# -> Data::Hopen::G::OutputOp op2 input $VAR1 = {
#   'foo' => 42,
#   'bar' => 'Bar'
# }; (at /tmp/loop_over_bdir-2864982-bUcvM6/Data-Hopen-0.000021-0/blib/lib/Data/Hopen/G/Runnable.pm:112)
# <- Data::Hopen::G::OutputOp op2 output $VAR1 = {
#   'foo' => 1337
# }; (at /tmp/loop_over_bdir-2864982-bUcvM6/Data-Hopen-0.000021-0/blib/lib/Data/Hopen/G/Runnable.pm:119)
# Finished node op2 with outputs $VAR1 = {
#   'foo' => 1337
# }; (at /tmp/loop_over_bdir-2864982-bUcvM6/Data-Hopen-0.000021-0/blib/lib/Data/Hopen/G/DAG.pm:300)
# -> Data::Hopen::G::CollectOp op1 input $VAR1 = {
#   'foo' => 42,
#   'bar' => 'Bar'
# }; (at /tmp/loop_over_bdir-2864982-bUcvM6/Data-Hopen-0.000021-0/blib/lib/Data/Hopen/G/Runnable.pm:112)
# <- Data::Hopen::G::CollectOp op1 output $VAR1 = {
#   'foo' => 42,
#   'bar' => 'Bar'
# }; (at /tmp/loop_over_bdir-2864982-bUcvM6/Data-Hopen-0.000021-0/blib/lib/Data/Hopen/G/Runnable.pm:119)
# Finished node op1 with outputs $VAR1 = {
#   'foo' => 42,
#   'bar' => 'Bar'
# }; (at /tmp/loop_over_bdir-2864982-bUcvM6/Data-Hopen-0.000021-0/blib/lib/Data/Hopen/G/DAG.pm:300)
# From op1 to all (at /tmp/loop_over_bdir-2864982-bUcvM6/Data-Hopen-0.000021-0/blib/lib/Data/Hopen/G/DAG.pm:225)
#   -- no links (at /tmp/loop_over_bdir-2864982-bUcvM6/Data-Hopen-0.000021-0/blib/lib/Data/Hopen/G/DAG.pm:238)
# From op2 to all (at /tmp/loop_over_bdir-2864982-bUcvM6/Data-Hopen-0.000021-0/blib/lib/Data/Hopen/G/DAG.pm:225)
#   -- no links (at /tmp/loop_over_bdir-2864982-bUcvM6/Data-Hopen-0.000021-0/blib/lib/Data/Hopen/G/DAG.pm:238)
# -> Data::Hopen::G::Goal all input $VAR1 = {
#   'bar' => 'Bar',
#   'foo' => 1337
# }; (at /tmp/loop_over_bdir-2864982-bUcvM6/Data-Hopen-0.000021-0/blib/lib/Data/Hopen/G/Runnable.pm:112)
# Goal all with outputs (at /tmp/loop_over_bdir-2864982-bUcvM6/Data-Hopen-0.000021-0/blib/lib/Data/Hopen/G/Goal.pm:50)
# <- Data::Hopen::G::Goal all output $VAR1 = {
#   'bar' => 'Bar',
#   'foo' => 1337
# }; (at /tmp/loop_over_bdir-2864982-bUcvM6/Data-Hopen-0.000021-0/blib/lib/Data/Hopen/G/Runnable.pm:119)
# Finished node all with outputs $VAR1 = {
#   'bar' => 'Bar',
#   'foo' => 1337
# }; (at /tmp/loop_over_bdir-2864982-bUcvM6/Data-Hopen-0.000021-0/blib/lib/Data/Hopen/G/DAG.pm:300)
# <- Data::Hopen::G::DAG dag output $VAR1 = {
#   'all' => {
#     'bar' => 'Bar',
#     'foo' => 1337
#   }
# }; (at /tmp/loop_over_bdir-2864982-bUcvM6/Data-Hopen-0.000021-0/blib/lib/Data/Hopen/G/Runnable.pm:119)
# -> Data::Hopen::G::DAG dag input $VAR1 = {
#   'foo' => 42,
#   'bar' => 'Bar'
# }; (at /tmp/loop_over_bdir-2864982-bUcvM6/Data-Hopen-0.000021-0/blib/lib/Data/Hopen/G/Runnable.pm:112)
# Traversing DAG dag ********************************************************** (at /tmp/loop_over_bdir-2864982-bUcvM6/Data-Hopen-0.000021-0/blib/lib/Data/Hopen/G/DAG.pm:201)
# -> Data::Hopen::G::OutputOp op2 input $VAR1 = {
#   'foo' => 42,
#   'bar' => 'Bar'
# }; (at /tmp/loop_over_bdir-2864982-bUcvM6/Data-Hopen-0.000021-0/blib/lib/Data/Hopen/G/Runnable.pm:112)
# <- Data::Hopen::G::OutputOp op2 output $VAR1 = {
#   'foo' => 1337
# }; (at /tmp/loop_over_bdir-2864982-bUcvM6/Data-Hopen-0.000021-0/blib/lib/Data/Hopen/G/Runnable.pm:119)
# Finished node op2 with outputs $VAR1 = {
#   'foo' => 1337
# }; (at /tmp/loop_over_bdir-2864982-bUcvM6/Data-Hopen-0.000021-0/blib/lib/Data/Hopen/G/DAG.pm:300)
# -> Data::Hopen::G::CollectOp op1 input $VAR1 = {
#   'foo' => 42,
#   'bar' => 'Bar'
# }; (at /tmp/loop_over_bdir-2864982-bUcvM6/Data-Hopen-0.000021-0/blib/lib/Data/Hopen/G/Runnable.pm:112)
# <- Data::Hopen::G::CollectOp op1 output $VAR1 = {
#   'bar' => 'Bar',
#   'foo' => 42
# }; (at /tmp/loop_over_bdir-2864982-bUcvM6/Data-Hopen-0.000021-0/blib/lib/Data/Hopen/G/Runnable.pm:119)
# Finished node op1 with outputs $VAR1 = {
#   'bar' => 'Bar',
#   'foo' => 42
# }; (at /tmp/loop_over_bdir-2864982-bUcvM6/Data-Hopen-0.000021-0/blib/lib/Data/Hopen/G/DAG.pm:300)
# From op1 to all (at /tmp/loop_over_bdir-2864982-bUcvM6/Data-Hopen-0.000021-0/blib/lib/Data/Hopen/G/DAG.pm:225)
#   -- no links (at /tmp/loop_over_bdir-2864982-bUcvM6/Data-Hopen-0.000021-0/blib/lib/Data/Hopen/G/DAG.pm:238)
# From op2 to all (at /tmp/loop_over_bdir-2864982-bUcvM6/Data-Hopen-0.000021-0/blib/lib/Data/Hopen/G/DAG.pm:225)
#   -- no links (at /tmp/loop_over_bdir-2864982-bUcvM6/Data-Hopen-0.000021-0/blib/lib/Data/Hopen/G/DAG.pm:238)
# -> Data::Hopen::G::Goal all input $VAR1 = {
#   'foo' => 1337,
#   'bar' => 'Bar'
# }; (at /tmp/loop_over_bdir-2864982-bUcvM6/Data-Hopen-0.000021-0/blib/lib/Data/Hopen/G/Runnable.pm:112)
# Goal all with outputs (at /tmp/loop_over_bdir-2864982-bUcvM6/Data-Hopen-0.000021-0/blib/lib/Data/Hopen/G/Goal.pm:50)
# <- Data::Hopen::G::Goal all output $VAR1 = {
#   'foo' => 1337,
#   'bar' => 'Bar'
# }; (at /tmp/loop_over_bdir-2864982-bUcvM6/Data-Hopen-0.000021-0/blib/lib/Data/Hopen/G/Runnable.pm:119)
# Finished node all with outputs $VAR1 = {
#   'foo' => 1337,
#   'bar' => 'Bar'
# }; (at /tmp/loop_over_bdir-2864982-bUcvM6/Data-Hopen-0.000021-0/blib/lib/Data/Hopen/G/DAG.pm:300)
# <- Data::Hopen::G::DAG dag output $VAR1 = {
#   'all' => {
#     'foo' => 1337,
#     'bar' => 'Bar'
#   }
# }; (at /tmp/loop_over_bdir-2864982-bUcvM6/Data-Hopen-0.000021-0/blib/lib/Data/Hopen/G/Runnable.pm:119)
# -> Data::Hopen::G::DAG dag input $VAR1 = {
#   'bar' => 'Bar',
#   'foo' => 42
# }; (at /tmp/loop_over_bdir-2864982-bUcvM6/Data-Hopen-0.000021-0/blib/lib/Data/Hopen/G/Runnable.pm:112)
# Traversing DAG dag ********************************************************** (at /tmp/loop_over_bdir-2864982-bUcvM6/Data-Hopen-0.000021-0/blib/lib/Data/Hopen/G/DAG.pm:201)
# -> Data::Hopen::G::CollectOp op1 input $VAR1 = {
#   'foo' => 42,
#   'bar' => 'Bar'
# }; (at /tmp/loop_over_bdir-2864982-bUcvM6/Data-Hopen-0.000021-0/blib/lib/Data/Hopen/G/Runnable.pm:112)
# <- Data::Hopen::G::CollectOp op1 output $VAR1 = {
#   'foo' => 42,
#   'bar' => 'Bar'
# }; (at /tmp/loop_over_bdir-2864982-bUcvM6/Data-Hopen-0.000021-0/blib/lib/Data/Hopen/G/Runnable.pm:119)
# Finished node op1 with outputs $VAR1 = {
#   'foo' => 42,
#   'bar' => 'Bar'
# }; (at /tmp/loop_over_bdir-2864982-bUcvM6/Data-Hopen-0.000021-0/blib/lib/Data/Hopen/G/DAG.pm:300)
# -> Data::Hopen::G::OutputOp op2 input $VAR1 = {
#   'foo' => 42,
#   'bar' => 'Bar'
# }; (at /tmp/loop_over_bdir-2864982-bUcvM6/Data-Hopen-0.000021-0/blib/lib/Data/Hopen/G/Runnable.pm:112)
# <- Data::Hopen::G::OutputOp op2 output $VAR1 = {
#   'foo' => 1337
# }; (at /tmp/loop_over_bdir-2864982-bUcvM6/Data-Hopen-0.000021-0/blib/lib/Data/Hopen/G/Runnable.pm:119)
# Finished node op2 with outputs $VAR1 = {
#   'foo' => 1337
# }; (at /tmp/loop_over_bdir-2864982-bUcvM6/Data-Hopen-0.000021-0/blib/lib/Data/Hopen/G/DAG.pm:300)
# From op1 to all (at /tmp/loop_over_bdir-2864982-bUcvM6/Data-Hopen-0.000021-0/blib/lib/Data/Hopen/G/DAG.pm:225)
#   -- no links (at /tmp/loop_over_bdir-2864982-bUcvM6/Data-Hopen-0.000021-0/blib/lib/Data/Hopen/G/DAG.pm:238)
# From op2 to all (at /tmp/loop_over_bdir-2864982-bUcvM6/Data-Hopen-0.000021-0/blib/lib/Data/Hopen/G/DAG.pm:225)
#   -- no links (at /tmp/loop_over_bdir-2864982-bUcvM6/Data-Hopen-0.000021-0/blib/lib/Data/Hopen/G/DAG.pm:238)
# -> Data::Hopen::G::Goal all input $VAR1 = {
#   'bar' => 'Bar',
#   'foo' => 1337
# }; (at /tmp/loop_over_bdir-2864982-bUcvM6/Data-Hopen-0.000021-0/blib/lib/Data/Hopen/G/Runnable.pm:112)
# Goal all with outputs (at /tmp/loop_over_bdir-2864982-bUcvM6/Data-Hopen-0.000021-0/blib/lib/Data/Hopen/G/Goal.pm:50)
# <- Data::Hopen::G::Goal all output $VAR1 = {
#   'bar' => 'Bar',
#   'foo' => 1337
# }; (at /tmp/loop_over_bdir-2864982-bUcvM6/Data-Hopen-0.000021-0/blib/lib/Data/Hopen/G/Runnable.pm:119)
# Finished node all with outputs $VAR1 = {
#   'bar' => 'Bar',
#   'foo' => 1337
# }; (at /tmp/loop_over_bdir-2864982-bUcvM6/Data-Hopen-0.000021-0/blib/lib/Data/Hopen/G/DAG.pm:300)
# <- Data::Hopen::G::DAG dag output $VAR1 = {
#   'all' => {
#     'bar' => 'Bar',
#     'foo' => 1337
#   }
# }; (at /tmp/loop_over_bdir-2864982-bUcvM6/Data-Hopen-0.000021-0/blib/lib/Data/Hopen/G/Runnable.pm:119)
# -> Data::Hopen::G::DAG dag input $VAR1 = {
#   'foo' => 42,
#   'bar' => 'Bar'
# }; (at /tmp/loop_over_bdir-2864982-bUcvM6/Data-Hopen-0.000021-0/blib/lib/Data/Hopen/G/Runnable.pm:112)
# Traversing DAG dag ********************************************************** (at /tmp/loop_over_bdir-2864982-bUcvM6/Data-Hopen-0.000021-0/blib/lib/Data/Hopen/G/DAG.pm:201)
# -> Data::Hopen::G::CollectOp op1 input $VAR1 = {
#   'bar' => 'Bar',
#   'foo' => 42
# }; (at /tmp/loop_over_bdir-2864982-bUcvM6/Data-Hopen-0.000021-0/blib/lib/Data/Hopen/G/Runnable.pm:112)
# <- Data::Hopen::G::CollectOp op1 output $VAR1 = {
#   'bar' => 'Bar',
#   'foo' => 42
# }; (at /tmp/loop_over_bdir-2864982-bUcvM6/Data-Hopen-0.000021-0/blib/lib/Data/Hopen/G/Runnable.pm:119)
# Finished node op1 with outputs $VAR1 = {
#   'bar' => 'Bar',
#   'foo' => 42
# }; (at /tmp/loop_over_bdir-2864982-bUcvM6/Data-Hopen-0.000021-0/blib/lib/Data/Hopen/G/DAG.pm:300)
# -> Data::Hopen::G::OutputOp op2 input $VAR1 = {
#   'bar' => 'Bar',
#   'foo' => 42
# }; (at /tmp/loop_over_bdir-2864982-bUcvM6/Data-Hopen-0.000021-0/blib/lib/Data/Hopen/G/Runnable.pm:112)
# <- Data::Hopen::G::OutputOp op2 output $VAR1 = {
#   'foo' => 1337
# }; (at /tmp/loop_over_bdir-2864982-bUcvM6/Data-Hopen-0.000021-0/blib/lib/Data/Hopen/G/Runnable.pm:119)
# Finished node op2 with outputs $VAR1 = {
#   'foo' => 1337
# }; (at /tmp/loop_over_bdir-2864982-bUcvM6/Data-Hopen-0.000021-0/blib/lib/Data/Hopen/G/DAG.pm:300)
# From op1 to all (at /tmp/loop_over_bdir-2864982-bUcvM6/Data-Hopen-0.000021-0/blib/lib/Data/Hopen/G/DAG.pm:225)
#   -- no links (at /tmp/loop_over_bdir-2864982-bUcvM6/Data-Hopen-0.000021-0/blib/lib/Data/Hopen/G/DAG.pm:238)
# From op2 to all (at /tmp/loop_over_bdir-2864982-bUcvM6/Data-Hopen-0.000021-0/blib/lib/Data/Hopen/G/DAG.pm:225)
#   -- no links (at /tmp/loop_over_bdir-2864982-bUcvM6/Data-Hopen-0.000021-0/blib/lib/Data/Hopen/G/DAG.pm:238)
# -> Data::Hopen::G::Goal all input $VAR1 = {
#   'bar' => 'Bar',
#   'foo' => 1337
# }; (at /tmp/loop_over_bdir-2864982-bUcvM6/Data-Hopen-0.000021-0/blib/lib/Data/Hopen/G/Runnable.pm:112)
# Goal all with outputs (at /tmp/loop_over_bdir-2864982-bUcvM6/Data-Hopen-0.000021-0/blib/lib/Data/Hopen/G/Goal.pm:50)
# <- Data::Hopen::G::Goal all output $VAR1 = {
#   'bar' => 'Bar',
#   'foo' => 1337
# }; (at /tmp/loop_over_bdir-2864982-bUcvM6/Data-Hopen-0.000021-0/blib/lib/Data/Hopen/G/Runnable.pm:119)
# Finished node all with outputs $VAR1 = {
#   'bar' => 'Bar',
#   'foo' => 1337
# }; (at /tmp/loop_over_bdir-2864982-bUcvM6/Data-Hopen-0.000021-0/blib/lib/Data/Hopen/G/DAG.pm:300)
# <- Data::Hopen::G::DAG dag output $VAR1 = {
#   'all' => {
#     'bar' => 'Bar',
#     'foo' => 1337
#   }
# }; (at /tmp/loop_over_bdir-2864982-bUcvM6/Data-Hopen-0.000021-0/blib/lib/Data/Hopen/G/Runnable.pm:119)
# -> Data::Hopen::G::DAG dag input $VAR1 = {}; (at /tmp/loop_over_bdir-2864982-bUcvM6/Data-Hopen-0.000021-0/blib/lib/Data/Hopen/G/Runnable.pm:112)
# -> Data::Hopen::G::DAG dag input $VAR1 = {}; (at /tmp/loop_over_bdir-2864982-bUcvM6/Data-Hopen-0.000021-0/blib/lib/Data/Hopen/G/Runnable.pm:112)
# -> Data::Hopen::G::DAG dag input $VAR1 = {}; (at /tmp/loop_over_bdir-2864982-bUcvM6/Data-Hopen-0.000021-0/blib/lib/Data/Hopen/G/Runnable.pm:112)
# -> Data::Hopen::G::DAG dag input $VAR1 = {}; (at /tmp/loop_over_bdir-2864982-bUcvM6/Data-Hopen-0.000021-0/blib/lib/Data/Hopen/G/Runnable.pm:112)
# -> Data::Hopen::G::DAG dag input $VAR1 = {}; (at /tmp/loop_over_bdir-2864982-bUcvM6/Data-Hopen-0.000021-0/blib/lib/Data/Hopen/G/Runnable.pm:112)
t/124-dag-merge-node-inputs.t .. ok
# DAG::connect(): Edge from op1 via (no link) to all (at /tmp/loop_over_bdir-2864982-bUcvM6/Data-Hopen-0.000021-0/blib/lib/Data/Hopen/G/DAG.pm:391)
# -> Data::Hopen::G::DAG dag input $VAR1 = {
#   'foo' => 42,
#   'bar' => 'Bar'
# }; (at /tmp/loop_over_bdir-2864982-bUcvM6/Data-Hopen-0.000021-0/blib/lib/Data/Hopen/G/Runnable.pm:112)
# Traversing DAG dag ********************************************************** (at /tmp/loop_over_bdir-2864982-bUcvM6/Data-Hopen-0.000021-0/blib/lib/Data/Hopen/G/DAG.pm:201)
# -> Data::Hopen::G::CollectOp op1 input $VAR1 = {
#   'foo' => 42,
#   'bar' => 'Bar'
# }; (at /tmp/loop_over_bdir-2864982-bUcvM6/Data-Hopen-0.000021-0/blib/lib/Data/Hopen/G/Runnable.pm:112)
# <- Data::Hopen::G::CollectOp op1 output $VAR1 = {
#   'bar' => 'Bar',
#   'foo' => 42
# }; (at /tmp/loop_over_bdir-2864982-bUcvM6/Data-Hopen-0.000021-0/blib/lib/Data/Hopen/G/Runnable.pm:119)
# Finished node op1 with outputs $VAR1 = {
#   'bar' => 'Bar',
#   'foo' => 42
# }; (at /tmp/loop_over_bdir-2864982-bUcvM6/Data-Hopen-0.000021-0/blib/lib/Data/Hopen/G/DAG.pm:300)
# From op1 to all (at /tmp/loop_over_bdir-2864982-bUcvM6/Data-Hopen-0.000021-0/blib/lib/Data/Hopen/G/DAG.pm:225)
#   -- no links (at /tmp/loop_over_bdir-2864982-bUcvM6/Data-Hopen-0.000021-0/blib/lib/Data/Hopen/G/DAG.pm:238)
# -> Data::Hopen::G::Goal all input $VAR1 = {
#   'foo' => 42,
#   'bar' => 'Bar'
# }; (at /tmp/loop_over_bdir-2864982-bUcvM6/Data-Hopen-0.000021-0/blib/lib/Data/Hopen/G/Runnable.pm:112)
# Goal all with outputs (at /tmp/loop_over_bdir-2864982-bUcvM6/Data-Hopen-0.000021-0/blib/lib/Data/Hopen/G/Goal.pm:50)
# <- Data::Hopen::G::Goal all output $VAR1 = {
#   'bar' => 'Bar',
#   'foo' => 42
# }; (at /tmp/loop_over_bdir-2864982-bUcvM6/Data-Hopen-0.000021-0/blib/lib/Data/Hopen/G/Runnable.pm:119)
# Finished node all with outputs $VAR1 = {
#   'bar' => 'Bar',
#   'foo' => 42
# }; (at /tmp/loop_over_bdir-2864982-bUcvM6/Data-Hopen-0.000021-0/blib/lib/Data/Hopen/G/DAG.pm:300)
# <- Data::Hopen::G::DAG dag output $VAR1 = {
#   'all' => {
#     'bar' => 'Bar',
#     'foo' => 42
#   }
# }; (at /tmp/loop_over_bdir-2864982-bUcvM6/Data-Hopen-0.000021-0/blib/lib/Data/Hopen/G/Runnable.pm:119)
# DAG::connect(): Edge from op1 via FixedLink=HASH(0x55a8daec31c0) to all (at /tmp/loop_over_bdir-2864982-bUcvM6/Data-Hopen-0.000021-0/blib/lib/Data/Hopen/G/DAG.pm:391)
# -> Data::Hopen::G::DAG dag input $VAR1 = {
#   'foo' => 42,
#   'bar' => 'Bar'
# }; (at /tmp/loop_over_bdir-2864982-bUcvM6/Data-Hopen-0.000021-0/blib/lib/Data/Hopen/G/Runnable.pm:112)
# Traversing DAG dag ********************************************************** (at /tmp/loop_over_bdir-2864982-bUcvM6/Data-Hopen-0.000021-0/blib/lib/Data/Hopen/G/DAG.pm:201)
# -> Data::Hopen::G::CollectOp op1 input $VAR1 = {
#   'foo' => 42,
#   'bar' => 'Bar'
# }; (at /tmp/loop_over_bdir-2864982-bUcvM6/Data-Hopen-0.000021-0/blib/lib/Data/Hopen/G/Runnable.pm:112)
# <- Data::Hopen::G::CollectOp op1 output $VAR1 = {
#   'foo' => 42,
#   'bar' => 'Bar'
# }; (at /tmp/loop_over_bdir-2864982-bUcvM6/Data-Hopen-0.000021-0/blib/lib/Data/Hopen/G/Runnable.pm:119)
# Finished node op1 with outputs $VAR1 = {
#   'foo' => 42,
#   'bar' => 'Bar'
# }; (at /tmp/loop_over_bdir-2864982-bUcvM6/Data-Hopen-0.000021-0/blib/lib/Data/Hopen/G/DAG.pm:300)
# From op1 to all (at /tmp/loop_over_bdir-2864982-bUcvM6/Data-Hopen-0.000021-0/blib/lib/Data/Hopen/G/DAG.pm:225)
# From op1 via FixedLink=HASH(0x55a8daec31c0) to all (at /tmp/loop_over_bdir-2864982-bUcvM6/Data-Hopen-0.000021-0/blib/lib/Data/Hopen/G/DAG.pm:268)
# -> FixedLink FixedLink=HASH(0x55a8daec31c0) input $VAR1 = {
#   'bar' => 'Bar',
#   'foo' => 42
# }; (at /tmp/loop_over_bdir-2864982-bUcvM6/Data-Hopen-0.000021-0/blib/lib/Data/Hopen/G/Runnable.pm:112)
# <- FixedLink FixedLink=HASH(0x55a8daec31c0) output $VAR1 = {
#   'xyzzy' => 'plugh'
# }; (at /tmp/loop_over_bdir-2864982-bUcvM6/Data-Hopen-0.000021-0/blib/lib/Data/Hopen/G/Runnable.pm:119)
# -> Data::Hopen::G::Goal all input $VAR1 = {
#   'foo' => 42,
#   'bar' => 'Bar',
#   'xyzzy' => 'plugh'
# }; (at /tmp/loop_over_bdir-2864982-bUcvM6/Data-Hopen-0.000021-0/blib/lib/Data/Hopen/G/Runnable.pm:112)
# Goal all with outputs (at /tmp/loop_over_bdir-2864982-bUcvM6/Data-Hopen-0.000021-0/blib/lib/Data/Hopen/G/Goal.pm:50)
# <- Data::Hopen::G::Goal all output $VAR1 = {
#   'xyzzy' => 'plugh'
# }; (at /tmp/loop_over_bdir-2864982-bUcvM6/Data-Hopen-0.000021-0/blib/lib/Data/Hopen/G/Runnable.pm:119)
# Finished node all with outputs $VAR1 = {
#   'xyzzy' => 'plugh'
# }; (at /tmp/loop_over_bdir-2864982-bUcvM6/Data-Hopen-0.000021-0/blib/lib/Data/Hopen/G/DAG.pm:300)
# <- Data::Hopen::G::DAG dag output $VAR1 = {
#   'all' => {
#     'xyzzy' => 'plugh'
#   }
# }; (at /tmp/loop_over_bdir-2864982-bUcvM6/Data-Hopen-0.000021-0/blib/lib/Data/Hopen/G/Runnable.pm:119)
# DAG::connect(): Edge from op1 via AdditiveLink=HASH(0x55a8db50ff60) to all (at /tmp/loop_over_bdir-2864982-bUcvM6/Data-Hopen-0.000021-0/blib/lib/Data/Hopen/G/DAG.pm:391)
# -> Data::Hopen::G::DAG dag input $VAR1 = {
#   'foo' => 42,
#   'bar' => 'Bar'
# }; (at /tmp/loop_over_bdir-2864982-bUcvM6/Data-Hopen-0.000021-0/blib/lib/Data/Hopen/G/Runnable.pm:112)
# Traversing DAG dag ********************************************************** (at /tmp/loop_over_bdir-2864982-bUcvM6/Data-Hopen-0.000021-0/blib/lib/Data/Hopen/G/DAG.pm:201)
# -> Data::Hopen::G::CollectOp op1 input $VAR1 = {
#   'bar' => 'Bar',
#   'foo' => 42
# }; (at /tmp/loop_over_bdir-2864982-bUcvM6/Data-Hopen-0.000021-0/blib/lib/Data/Hopen/G/Runnable.pm:112)
# <- Data::Hopen::G::CollectOp op1 output $VAR1 = {
#   'bar' => 'Bar',
#   'foo' => 42
# }; (at /tmp/loop_over_bdir-2864982-bUcvM6/Data-Hopen-0.000021-0/blib/lib/Data/Hopen/G/Runnable.pm:119)
# Finished node op1 with outputs $VAR1 = {
#   'bar' => 'Bar',
#   'foo' => 42
# }; (at /tmp/loop_over_bdir-2864982-bUcvM6/Data-Hopen-0.000021-0/blib/lib/Data/Hopen/G/DAG.pm:300)
# From op1 to all (at /tmp/loop_over_bdir-2864982-bUcvM6/Data-Hopen-0.000021-0/blib/lib/Data/Hopen/G/DAG.pm:225)
# From op1 via AdditiveLink=HASH(0x55a8db50ff60) to all (at /tmp/loop_over_bdir-2864982-bUcvM6/Data-Hopen-0.000021-0/blib/lib/Data/Hopen/G/DAG.pm:268)
# -> AdditiveLink AdditiveLink=HASH(0x55a8db50ff60) input $VAR1 = {
#   'bar' => 'Bar',
#   'foo' => 42
# }; (at /tmp/loop_over_bdir-2864982-bUcvM6/Data-Hopen-0.000021-0/blib/lib/Data/Hopen/G/Runnable.pm:112)
# <- AdditiveLink AdditiveLink=HASH(0x55a8db50ff60) output $VAR1 = {
#   'xyzzy' => 'plugh',
#   'bar' => 'Bar',
#   'foo' => 42
# }; (at /tmp/loop_over_bdir-2864982-bUcvM6/Data-Hopen-0.000021-0/blib/lib/Data/Hopen/G/Runnable.pm:119)
# -> Data::Hopen::G::Goal all input $VAR1 = {
#   'xyzzy' => 'plugh',
#   'bar' => 'Bar',
#   'foo' => 42
# }; (at /tmp/loop_over_bdir-2864982-bUcvM6/Data-Hopen-0.000021-0/blib/lib/Data/Hopen/G/Runnable.pm:112)
# Goal all with outputs (at /tmp/loop_over_bdir-2864982-bUcvM6/Data-Hopen-0.000021-0/blib/lib/Data/Hopen/G/Goal.pm:50)
# <- Data::Hopen::G::Goal all output $VAR1 = {
#   'foo' => 42,
#   'xyzzy' => 'plugh',
#   'bar' => 'Bar'
# }; (at /tmp/loop_over_bdir-2864982-bUcvM6/Data-Hopen-0.000021-0/blib/lib/Data/Hopen/G/Runnable.pm:119)
# Finished node all with outputs $VAR1 = {
#   'foo' => 42,
#   'xyzzy' => 'plugh',
#   'bar' => 'Bar'
# }; (at /tmp/loop_over_bdir-2864982-bUcvM6/Data-Hopen-0.000021-0/blib/lib/Data/Hopen/G/DAG.pm:300)
# <- Data::Hopen::G::DAG dag output $VAR1 = {
#   'all' => {
#     'foo' => 42,
#     'xyzzy' => 'plugh',
#     'bar' => 'Bar'
#   }
# }; (at /tmp/loop_over_bdir-2864982-bUcvM6/Data-Hopen-0.000021-0/blib/lib/Data/Hopen/G/Runnable.pm:119)
# DAG::connect(): Edge from op1 via MutantLink=HASH(0x55a8db41c368) to all (at /tmp/loop_over_bdir-2864982-bUcvM6/Data-Hopen-0.000021-0/blib/lib/Data/Hopen/G/DAG.pm:391)
# -> Data::Hopen::G::DAG dag input $VAR1 = {
#   'foo' => 42,
#   'bar' => 'Bar'
# }; (at /tmp/loop_over_bdir-2864982-bUcvM6/Data-Hopen-0.000021-0/blib/lib/Data/Hopen/G/Runnable.pm:112)
# Traversing DAG dag ********************************************************** (at /tmp/loop_over_bdir-2864982-bUcvM6/Data-Hopen-0.000021-0/blib/lib/Data/Hopen/G/DAG.pm:201)
# -> Data::Hopen::G::CollectOp op1 input $VAR1 = {
#   'bar' => 'Bar',
#   'foo' => 42
# }; (at /tmp/loop_over_bdir-2864982-bUcvM6/Data-Hopen-0.000021-0/blib/lib/Data/Hopen/G/Runnable.pm:112)
# <- Data::Hopen::G::CollectOp op1 output $VAR1 = {
#   'foo' => 42,
#   'bar' => 'Bar'
# }; (at /tmp/loop_over_bdir-2864982-bUcvM6/Data-Hopen-0.000021-0/blib/lib/Data/Hopen/G/Runnable.pm:119)
# Finished node op1 with outputs $VAR1 = {
#   'foo' => 42,
#   'bar' => 'Bar'
# }; (at /tmp/loop_over_bdir-2864982-bUcvM6/Data-Hopen-0.000021-0/blib/lib/Data/Hopen/G/DAG.pm:300)
# From op1 to all (at /tmp/loop_over_bdir-2864982-bUcvM6/Data-Hopen-0.000021-0/blib/lib/Data/Hopen/G/DAG.pm:225)
# From op1 via MutantLink=HASH(0x55a8db41c368) to all (at /tmp/loop_over_bdir-2864982-bUcvM6/Data-Hopen-0.000021-0/blib/lib/Data/Hopen/G/DAG.pm:268)
# -> MutantLink MutantLink=HASH(0x55a8db41c368) input $VAR1 = {
#   'foo' => 42,
#   'bar' => 'Bar'
# }; (at /tmp/loop_over_bdir-2864982-bUcvM6/Data-Hopen-0.000021-0/blib/lib/Data/Hopen/G/Runnable.pm:112)
# <- MutantLink MutantLink=HASH(0x55a8db41c368) output $VAR1 = {
#   'bar' => 'Bar',
#   'foo' => 84
# }; (at /tmp/loop_over_bdir-2864982-bUcvM6/Data-Hopen-0.000021-0/blib/lib/Data/Hopen/G/Runnable.pm:119)
# -> Data::Hopen::G::Goal all input $VAR1 = {
#   'bar' => 'Bar',
#   'foo' => 84
# }; (at /tmp/loop_over_bdir-2864982-bUcvM6/Data-Hopen-0.000021-0/blib/lib/Data/Hopen/G/Runnable.pm:112)
# Goal all with outputs (at /tmp/loop_over_bdir-2864982-bUcvM6/Data-Hopen-0.000021-0/blib/lib/Data/Hopen/G/Goal.pm:50)
# <- Data::Hopen::G::Goal all output $VAR1 = {
#   'foo' => 84,
#   'bar' => 'Bar'
# }; (at /tmp/loop_over_bdir-2864982-bUcvM6/Data-Hopen-0.000021-0/blib/lib/Data/Hopen/G/Runnable.pm:119)
# Finished node all with outputs $VAR1 = {
#   'foo' => 84,
#   'bar' => 'Bar'
# }; (at /tmp/loop_over_bdir-2864982-bUcvM6/Data-Hopen-0.000021-0/blib/lib/Data/Hopen/G/DAG.pm:300)
# <- Data::Hopen::G::DAG dag output $VAR1 = {
#   'all' => {
#     'foo' => 84,
#     'bar' => 'Bar'
#   }
# }; (at /tmp/loop_over_bdir-2864982-bUcvM6/Data-Hopen-0.000021-0/blib/lib/Data/Hopen/G/Runnable.pm:119)
# DAG::connect(): Edge from op1 via AdditiveLink=HASH(0x55a8daec34f0) to all (at /tmp/loop_over_bdir-2864982-bUcvM6/Data-Hopen-0.000021-0/blib/lib/Data/Hopen/G/DAG.pm:391)
# DAG::connect(): Edge from op1 via MutantLink=HASH(0x55a8db515ad0) to all (at /tmp/loop_over_bdir-2864982-bUcvM6/Data-Hopen-0.000021-0/blib/lib/Data/Hopen/G/DAG.pm:391)
# -> Data::Hopen::G::DAG dag input $VAR1 = {
#   'bar' => 'Bar',
#   'foo' => 42
# }; (at /tmp/loop_over_bdir-2864982-bUcvM6/Data-Hopen-0.000021-0/blib/lib/Data/Hopen/G/Runnable.pm:112)
# Traversing DAG dag ********************************************************** (at /tmp/loop_over_bdir-2864982-bUcvM6/Data-Hopen-0.000021-0/blib/lib/Data/Hopen/G/DAG.pm:201)
# -> Data::Hopen::G::CollectOp op1 input $VAR1 = {
#   'bar' => 'Bar',
#   'foo' => 42
# }; (at /tmp/loop_over_bdir-2864982-bUcvM6/Data-Hopen-0.000021-0/blib/lib/Data/Hopen/G/Runnable.pm:112)
# <- Data::Hopen::G::CollectOp op1 output $VAR1 = {
#   'bar' => 'Bar',
#   'foo' => 42
# }; (at /tmp/loop_over_bdir-2864982-bUcvM6/Data-Hopen-0.000021-0/blib/lib/Data/Hopen/G/Runnable.pm:119)
# Finished node op1 with outputs $VAR1 = {
#   'bar' => 'Bar',
#   'foo' => 42
# }; (at /tmp/loop_over_bdir-2864982-bUcvM6/Data-Hopen-0.000021-0/blib/lib/Data/Hopen/G/DAG.pm:300)
# From op1 to all (at /tmp/loop_over_bdir-2864982-bUcvM6/Data-Hopen-0.000021-0/blib/lib/Data/Hopen/G/DAG.pm:225)
# From op1 via AdditiveLink=HASH(0x55a8daec34f0) to all (at /tmp/loop_over_bdir-2864982-bUcvM6/Data-Hopen-0.000021-0/blib/lib/Data/Hopen/G/DAG.pm:268)
# -> AdditiveLink AdditiveLink=HASH(0x55a8daec34f0) input $VAR1 = {
#   'foo' => 42,
#   'bar' => 'Bar'
# }; (at /tmp/loop_over_bdir-2864982-bUcvM6/Data-Hopen-0.000021-0/blib/lib/Data/Hopen/G/Runnable.pm:112)
# <- AdditiveLink AdditiveLink=HASH(0x55a8daec34f0) output $VAR1 = {
#   'foo' => 42,
#   'xyzzy' => 'plugh',
#   'bar' => 'Bar'
# }; (at /tmp/loop_over_bdir-2864982-bUcvM6/Data-Hopen-0.000021-0/blib/lib/Data/Hopen/G/Runnable.pm:119)
# From op1 via MutantLink=HASH(0x55a8db515ad0) to all (at /tmp/loop_over_bdir-2864982-bUcvM6/Data-Hopen-0.000021-0/blib/lib/Data/Hopen/G/DAG.pm:268)
# -> MutantLink MutantLink=HASH(0x55a8db515ad0) input $VAR1 = {
#   'foo' => 42,
#   'xyzzy' => 'plugh',
#   'bar' => 'Bar'
# }; (at /tmp/loop_over_bdir-2864982-bUcvM6/Data-Hopen-0.000021-0/blib/lib/Data/Hopen/G/Runnable.pm:112)
# <- MutantLink MutantLink=HASH(0x55a8db515ad0) output $VAR1 = {
#   'xyzzy' => 'plugh',
#   'bar' => 'Bar',
#   'foo' => 84
# }; (at /tmp/loop_over_bdir-2864982-bUcvM6/Data-Hopen-0.000021-0/blib/lib/Data/Hopen/G/Runnable.pm:119)
# -> Data::Hopen::G::Goal all input $VAR1 = {
#   'xyzzy' => 'plugh',
#   'bar' => 'Bar',
#   'foo' => 84
# }; (at /tmp/loop_over_bdir-2864982-bUcvM6/Data-Hopen-0.000021-0/blib/lib/Data/Hopen/G/Runnable.pm:112)
# Goal all with outputs (at /tmp/loop_over_bdir-2864982-bUcvM6/Data-Hopen-0.000021-0/blib/lib/Data/Hopen/G/Goal.pm:50)
# <- Data::Hopen::G::Goal all output $VAR1 = {
#   'foo' => 84,
#   'xyzzy' => 'plugh',
#   'bar' => 'Bar'
# }; (at /tmp/loop_over_bdir-2864982-bUcvM6/Data-Hopen-0.000021-0/blib/lib/Data/Hopen/G/Runnable.pm:119)
# Finished node all with outputs $VAR1 = {
#   'foo' => 84,
#   'xyzzy' => 'plugh',
#   'bar' => 'Bar'
# }; (at /tmp/loop_over_bdir-2864982-bUcvM6/Data-Hopen-0.000021-0/blib/lib/Data/Hopen/G/DAG.pm:300)
# <- Data::Hopen::G::DAG dag output $VAR1 = {
#   'all' => {
#     'foo' => 84,
#     'xyzzy' => 'plugh',
#     'bar' => 'Bar'
#   }
# }; (at /tmp/loop_over_bdir-2864982-bUcvM6/Data-Hopen-0.000021-0/blib/lib/Data/Hopen/G/Runnable.pm:119)
# DAG::connect(): Edge from op1 via AdditiveLink=HASH(0x55a8db510920) to all (at /tmp/loop_over_bdir-2864982-bUcvM6/Data-Hopen-0.000021-0/blib/lib/Data/Hopen/G/DAG.pm:391)
# DAG::connect(): Edge from op1 via MutantLink=HASH(0x55a8db5101d0) to all (at /tmp/loop_over_bdir-2864982-bUcvM6/Data-Hopen-0.000021-0/blib/lib/Data/Hopen/G/DAG.pm:391)
# -> Data::Hopen::G::DAG dag input $VAR1 = {
#   'foo' => 42,
#   'bar' => 'Bar'
# }; (at /tmp/loop_over_bdir-2864982-bUcvM6/Data-Hopen-0.000021-0/blib/lib/Data/Hopen/G/Runnable.pm:112)
# Traversing DAG dag ********************************************************** (at /tmp/loop_over_bdir-2864982-bUcvM6/Data-Hopen-0.000021-0/blib/lib/Data/Hopen/G/DAG.pm:201)
# -> Data::Hopen::G::CollectOp op1 input $VAR1 = {
#   'foo' => 42,
#   'bar' => 'Bar'
# }; (at /tmp/loop_over_bdir-2864982-bUcvM6/Data-Hopen-0.000021-0/blib/lib/Data/Hopen/G/Runnable.pm:112)
# <- Data::Hopen::G::CollectOp op1 output $VAR1 = {
#   'foo' => 42,
#   'bar' => 'Bar'
# }; (at /tmp/loop_over_bdir-2864982-bUcvM6/Data-Hopen-0.000021-0/blib/lib/Data/Hopen/G/Runnable.pm:119)
# Finished node op1 with outputs $VAR1 = {
#   'foo' => 42,
#   'bar' => 'Bar'
# }; (at /tmp/loop_over_bdir-2864982-bUcvM6/Data-Hopen-0.000021-0/blib/lib/Data/Hopen/G/DAG.pm:300)
# From op1 to all (at /tmp/loop_over_bdir-2864982-bUcvM6/Data-Hopen-0.000021-0/blib/lib/Data/Hopen/G/DAG.pm:225)
# From op1 via AdditiveLink=HASH(0x55a8db510920) to all (at /tmp/loop_over_bdir-2864982-bUcvM6/Data-Hopen-0.000021-0/blib/lib/Data/Hopen/G/DAG.pm:268)
# -> AdditiveLink AdditiveLink=HASH(0x55a8db510920) input $VAR1 = {
#   'bar' => 'Bar',
#   'foo' => 42
# }; (at /tmp/loop_over_bdir-2864982-bUcvM6/Data-Hopen-0.000021-0/blib/lib/Data/Hopen/G/Runnable.pm:112)
# <- AdditiveLink AdditiveLink=HASH(0x55a8db510920) output $VAR1 = {
#   'multiplier' => 3,
#   'bar' => 'Bar',
#   'foo' => 42
# }; (at /tmp/loop_over_bdir-2864982-bUcvM6/Data-Hopen-0.000021-0/blib/lib/Data/Hopen/G/Runnable.pm:119)
# From op1 via MutantLink=HASH(0x55a8db5101d0) to all (at /tmp/loop_over_bdir-2864982-bUcvM6/Data-Hopen-0.000021-0/blib/lib/Data/Hopen/G/DAG.pm:268)
# -> MutantLink MutantLink=HASH(0x55a8db5101d0) input $VAR1 = {
#   'multiplier' => 3,
#   'bar' => 'Bar',
#   'foo' => 42
# }; (at /tmp/loop_over_bdir-2864982-bUcvM6/Data-Hopen-0.000021-0/blib/lib/Data/Hopen/G/Runnable.pm:112)
# <- MutantLink MutantLink=HASH(0x55a8db5101d0) output $VAR1 = {
#   'bar' => 'Bar',
#   'multiplier' => 3,
#   'foo' => 126
# }; (at /tmp/loop_over_bdir-2864982-bUcvM6/Data-Hopen-0.000021-0/blib/lib/Data/Hopen/G/Runnable.pm:119)
# -> Data::Hopen::G::Goal all input $VAR1 = {
#   'foo' => 126,
#   'bar' => 'Bar',
#   'multiplier' => 3
# }; (at /tmp/loop_over_bdir-2864982-bUcvM6/Data-Hopen-0.000021-0/blib/lib/Data/Hopen/G/Runnable.pm:112)
# Goal all with outputs (at /tmp/loop_over_bdir-2864982-bUcvM6/Data-Hopen-0.000021-0/blib/lib/Data/Hopen/G/Goal.pm:50)
# <- Data::Hopen::G::Goal all output $VAR1 = {
#   'bar' => 'Bar',
#   'multiplier' => 3,
#   'foo' => 126
# }; (at /tmp/loop_over_bdir-2864982-bUcvM6/Data-Hopen-0.000021-0/blib/lib/Data/Hopen/G/Runnable.pm:119)
# Finished node all with outputs $VAR1 = {
#   'bar' => 'Bar',
#   'multiplier' => 3,
#   'foo' => 126
# }; (at /tmp/loop_over_bdir-2864982-bUcvM6/Data-Hopen-0.000021-0/blib/lib/Data/Hopen/G/DAG.pm:300)
# <- Data::Hopen::G::DAG dag output $VAR1 = {
#   'all' => {
#     'bar' => 'Bar',
#     'multiplier' => 3,
#     'foo' => 126
#   }
# }; (at /tmp/loop_over_bdir-2864982-bUcvM6/Data-Hopen-0.000021-0/blib/lib/Data/Hopen/G/Runnable.pm:119)
# DAG::connect(): Edge from op1 via MutantLink=HASH(0x55a8db515440) to all (at /tmp/loop_over_bdir-2864982-bUcvM6/Data-Hopen-0.000021-0/blib/lib/Data/Hopen/G/DAG.pm:391)
# DAG::connect(): Edge from op1 via AdditiveLink=HASH(0x55a8db515ab8) to all (at /tmp/loop_over_bdir-2864982-bUcvM6/Data-Hopen-0.000021-0/blib/lib/Data/Hopen/G/DAG.pm:391)
# -> Data::Hopen::G::DAG dag input $VAR1 = {
#   'foo' => 42,
#   'bar' => 'Bar'
# }; (at /tmp/loop_over_bdir-2864982-bUcvM6/Data-Hopen-0.000021-0/blib/lib/Data/Hopen/G/Runnable.pm:112)
# Traversing DAG dag ********************************************************** (at /tmp/loop_over_bdir-2864982-bUcvM6/Data-Hopen-0.000021-0/blib/lib/Data/Hopen/G/DAG.pm:201)
# -> Data::Hopen::G::CollectOp op1 input $VAR1 = {
#   'foo' => 42,
#   'bar' => 'Bar'
# }; (at /tmp/loop_over_bdir-2864982-bUcvM6/Data-Hopen-0.000021-0/blib/lib/Data/Hopen/G/Runnable.pm:112)
# <- Data::Hopen::G::CollectOp op1 output $VAR1 = {
#   'foo' => 42,
#   'bar' => 'Bar'
# }; (at /tmp/loop_over_bdir-2864982-bUcvM6/Data-Hopen-0.000021-0/blib/lib/Data/Hopen/G/Runnable.pm:119)
# Finished node op1 with outputs $VAR1 = {
#   'foo' => 42,
#   'bar' => 'Bar'
# }; (at /tmp/loop_over_bdir-2864982-bUcvM6/Data-Hopen-0.000021-0/blib/lib/Data/Hopen/G/DAG.pm:300)
# From op1 to all (at /tmp/loop_over_bdir-2864982-bUcvM6/Data-Hopen-0.000021-0/blib/lib/Data/Hopen/G/DAG.pm:225)
# From op1 via MutantLink=HASH(0x55a8db515440) to all (at /tmp/loop_over_bdir-2864982-bUcvM6/Data-Hopen-0.000021-0/blib/lib/Data/Hopen/G/DAG.pm:268)
# -> MutantLink MutantLink=HASH(0x55a8db515440) input $VAR1 = {
#   'bar' => 'Bar',
#   'foo' => 42
# }; (at /tmp/loop_over_bdir-2864982-bUcvM6/Data-Hopen-0.000021-0/blib/lib/Data/Hopen/G/Runnable.pm:112)
# <- MutantLink MutantLink=HASH(0x55a8db515440) output $VAR1 = {
#   'foo' => 84,
#   'bar' => 'Bar'
# }; (at /tmp/loop_over_bdir-2864982-bUcvM6/Data-Hopen-0.000021-0/blib/lib/Data/Hopen/G/Runnable.pm:119)
# From op1 via AdditiveLink=HASH(0x55a8db515ab8) to all (at /tmp/loop_over_bdir-2864982-bUcvM6/Data-Hopen-0.000021-0/blib/lib/Data/Hopen/G/DAG.pm:268)
# -> AdditiveLink AdditiveLink=HASH(0x55a8db515ab8) input $VAR1 = {
#   'bar' => 'Bar',
#   'foo' => 84
# }; (at /tmp/loop_over_bdir-2864982-bUcvM6/Data-Hopen-0.000021-0/blib/lib/Data/Hopen/G/Runnable.pm:112)
# <- AdditiveLink AdditiveLink=HASH(0x55a8db515ab8) output $VAR1 = {
#   'foo' => 84,
#   'multiplier' => 3,
#   'bar' => 'Bar'
# }; (at /tmp/loop_over_bdir-2864982-bUcvM6/Data-Hopen-0.000021-0/blib/lib/Data/Hopen/G/Runnable.pm:119)
# -> Data::Hopen::G::Goal all input $VAR1 = {
#   'multiplier' => 3,
#   'bar' => 'Bar',
#   'foo' => 84
# }; (at /tmp/loop_over_bdir-2864982-bUcvM6/Data-Hopen-0.000021-0/blib/lib/Data/Hopen/G/Runnable.pm:112)
# Goal all with outputs (at /tmp/loop_over_bdir-2864982-bUcvM6/Data-Hopen-0.000021-0/blib/lib/Data/Hopen/G/Goal.pm:50)
# <- Data::Hopen::G::Goal all output $VAR1 = {
#   'bar' => 'Bar',
#   'multiplier' => 3,
#   'foo' => 84
# }; (at /tmp/loop_over_bdir-2864982-bUcvM6/Data-Hopen-0.000021-0/blib/lib/Data/Hopen/G/Runnable.pm:119)
# Finished node all with outputs $VAR1 = {
#   'bar' => 'Bar',
#   'multiplier' => 3,
#   'foo' => 84
# }; (at /tmp/loop_over_bdir-2864982-bUcvM6/Data-Hopen-0.000021-0/blib/lib/Data/Hopen/G/DAG.pm:300)
# <- Data::Hopen::G::DAG dag output $VAR1 = {
#   'all' => {
#     'bar' => 'Bar',
#     'multiplier' => 3,
#     'foo' => 84
#   }
# }; (at /tmp/loop_over_bdir-2864982-bUcvM6/Data-Hopen-0.000021-0/blib/lib/Data/Hopen/G/Runnable.pm:119)
t/125-dag-links.t .............. ok
t/998-sig-die.t ................ ok
# TestDataHopen
# TestDataHopenScope
# TestDataHopenGOutputOp
# TestDataHopenGNode
# TestDataHopenUtilData
t/999-extras-for-coverage.t .... ok
All tests successful.
Files=25, Tests=538,  4 wallclock secs ( 0.14 usr  0.02 sys +  3.47 cusr  0.47 csys =  4.10 CPU)
Result: PASS

------------------------------
PREREQUISITES
------------------------------

Prerequisite modules loaded:

requires:

    Module                   Need     Have    
    ------------------------ -------- --------
    Carp                     0        1.54    
    Class::Method::Modifiers 2.10     2.15    
    Class::Tiny              1.001    1.008   
    Config                   0        5.041010
    constant                 0        1.33    
    Data::Dumper             0        2.191   
    experimental             0.009    0.034   
    Exporter                 0        5.79    
    feature                  0        1.95    
    File::Spec               0        3.93    
    Getargs::Mixed           1.04     1.06    
    Getopt::Long             2.5      2.58    
    Graph                    0.9704   0.9735  
    Hash::Merge              0.299    0.302   
    Import::Into             0        1.002005
    overload                 0        1.40    
    Path::Class              0.37     0.37    
    perl                     5.014    5.041010
    Regexp::Assemble         0.38     0.38    
    Scalar::Util             0        1.68_01 
    Set::Scalar              1.27     1.29    
    Storable                 3.06     3.36    
    strict                   0        1.13    
    Sub::ScopeFinalizer      0.02     0.02    
    vars::i                  2.000000 2.000000
    warnings                 0        1.74    

build_requires:

    Module                   Need     Have    
    ------------------------ -------- --------
    Capture::Tiny            0        0.50    
    Getopt::Long             0        2.58    
    List::AutoNumbered       0.000009 0.000010
    Path::Class              0.37     0.37    
    Pod::Markdown            0        3.400   
    Pod::Text                0        v6.0.2  
    Quote::Code              1.0102   1.0104  
    rlib                     0        0.02    
    Sub::Identify            0.14     0.14    
    Test::Deep               0.098    1.204   
    Test::Fatal              0.014    0.017   
    Test::More               0        1.302209
    Test::UseAllModules      0.17     0.17    
    Test::Warn               0.35     0.37    

configure_requires:

    Module                   Need     Have    
    ------------------------ -------- --------
    Module::Build::Tiny      0.035    0.051   


------------------------------
ENVIRONMENT AND OTHER CONTEXT
------------------------------

Environment variables:

    AUTOMATED_TESTING = 1
    LANG = en_US.UTF-8
    PATH = /home/sand/bin:/usr/local/bin:/usr/local/sbin:/usr/sbin:/usr/bin:/sbin:/bin:/usr/games:/usr/local/games:/snap/bin:/usr/local/perl/bin:/usr/X11/bin
    PERL5LIB = /tmp/loop_over_bdir-2864982-bUcvM6/DBIx-Migration-Directories-0.12-0/blib/arch:/tmp/loop_over_bdir-2864982-bUcvM6/DBIx-Migration-Directories-0.12-0/blib/lib
    PERL5OPT = 
    PERL5_CPANPLUS_IS_RUNNING = 2864990
    PERL5_CPAN_IS_RUNNING = 2864990
    PERL_CANARY_STABILITY_NOPROMPT = 1
    PERL_MM_USE_DEFAULT = 1
    PERL_USE_UNSAFE_INC = 1
    SHELL = /usr/bin/zsh
    TERM = screen

Perl special variables (and OS-specific diagnostics, for MSWin32):

    $^X = /tmp/basesmoker-reloperl-Cyl8/bin/perl
    $UID/$EUID = 1005 / 1005
    $GID = 1005 1005
    $EGID = 1005 1005

Perl module toolchain versions installed:

    Module              Have    
    ------------------- --------
    CPAN                2.38    
    CPAN::Meta          2.150010
    Cwd                 3.92    
    ExtUtils::CBuilder  0.280240
    ExtUtils::Command   7.72    
    ExtUtils::Install   2.22    
    ExtUtils::MakeMaker 7.72    
    ExtUtils::Manifest  1.75    
    ExtUtils::ParseXS   3.57    
    File::Spec          3.93    
    JSON                4.10    
    JSON::PP            4.16    
    Module::Build       0.4234  
    Module::Signature   0.89    
    Parse::CPAN::Meta   2.150010
    Test2               1.302209
    Test::Harness       3.50    
    Test::More          1.302209
    YAML                1.31    
    YAML::Syck          1.34    
    version             0.9933  


--

Summary of my perl5 (revision 5 version 41 subversion 10) configuration:
  Commit id: 6a1cf63fc3f0e8d25b8f3837f9ca46b3bbc65885
  Platform:
    osname=linux
    osvers=5.4.0-208-generic
    archname=x86_64-linux-thread-multi
    uname='linux k93focal 5.4.0-208-generic #228-ubuntu smp fri feb 7 19:41:33 utc 2025 x86_64 x86_64 x86_64 gnulinux '
    config_args='-Dprefix=/home/sand/src/perl/repoperls/installed-perls/host/k93focal/v5.41.10/d119 -Dmyhostname=k93focal -Dinstallusrbinperl=n -Uversiononly -Dusedevel -des -Ui_db -Dlibswanted=cl pthread socket inet nsl gdbm dbm malloc dl ld sun m crypt sec util c cposix posix ucb BSD gdbm_compat -Duseithreads -Uuselongdouble -DEBUGGING=both'
    hint=recommended
    useposix=true
    d_sigaction=define
    useithreads=define
    usemultiplicity=define
    use64bitint=define
    use64bitall=define
    uselongdouble=undef
    usemymalloc=n
    default_inc_excludes_dot=define
  Compiler:
    cc='cc'
    ccflags ='-D_REENTRANT -D_GNU_SOURCE -fwrapv -DDEBUGGING -fno-strict-aliasing -pipe -fstack-protector-strong -I/usr/local/include -D_LARGEFILE_SOURCE -D_FILE_OFFSET_BITS=64'
    optimize='-O2 -g'
    cppflags='-D_REENTRANT -D_GNU_SOURCE -fwrapv -DDEBUGGING -fno-strict-aliasing -pipe -fstack-protector-strong -I/usr/local/include'
    ccversion=''
    gccversion='9.4.0'
    gccosandvers=''
    intsize=4
    longsize=8
    ptrsize=8
    doublesize=8
    byteorder=12345678
    doublekind=3
    d_longlong=define
    longlongsize=8
    d_longdbl=define
    longdblsize=16
    longdblkind=3
    ivtype='long'
    ivsize=8
    nvtype='double'
    nvsize=8
    Off_t='off_t'
    lseeksize=8
    alignbytes=8
    prototype=define
  Linker and Libraries:
    ld='cc'
    ldflags =' -fstack-protector-strong -L/usr/local/lib'
    libpth=/usr/local/lib /usr/lib/x86_64-linux-gnu /usr/lib /usr/lib64
    libs=-lpthread -lnsl -ldl -lm -lcrypt -lutil -lc
    perllibs=-lpthread -lnsl -ldl -lm -lcrypt -lutil -lc
    libc=libc-2.31.so
    so=so
    useshrplib=false
    libperl=libperl.a
    gnulibc_version='2.31'
  Dynamic Linking:
    dlsrc=dl_dlopen.xs
    dlext=so
    d_dlsymun=undef
    ccdlflags='-Wl,-E'
    cccdlflags='-fPIC'
    lddlflags='-shared -O2 -g -L/usr/local/lib -fstack-protector-strong'


Characteristics of this binary (from libperl): 
  Compile-time options:
    DEBUGGING
    HAS_LONG_DOUBLE
    HAS_STRTOLD
    HAS_TIMES
    MULTIPLICITY
    PERLIO_LAYERS
    PERL_COPY_ON_WRITE
    PERL_DONT_CREATE_GVSV
    PERL_HASH_FUNC_SIPHASH13
    PERL_HASH_USE_SBOX32
    PERL_MALLOC_WRAP
    PERL_OP_PARENT
    PERL_PRESERVE_IVUV
    PERL_TRACK_MEMPOOL
    PERL_USE_DEVEL
    PERL_USE_SAFE_PUTENV
    USE_64_BIT_ALL
    USE_64_BIT_INT
    USE_ITHREADS
    USE_LARGE_FILES
    USE_LOCALE
    USE_LOCALE_COLLATE
    USE_LOCALE_CTYPE
    USE_LOCALE_NUMERIC
    USE_LOCALE_TIME
    USE_PERLIO
    USE_PERL_ATOF
    USE_REENTRANT_API
    USE_THREAD_SAFE_LOCALE
  Built under linux
  Compiled at Mar 25 2025 16:21:46
  %ENV:
    PERL5LIB="/tmp/loop_over_bdir-2864982-bUcvM6/DBIx-Migration-Directories-0.12-0/blib/arch:/tmp/loop_over_bdir-2864982-bUcvM6/DBIx-Migration-Directories-0.12-0/blib/lib"
    PERL5OPT=""
    PERL5_CPANPLUS_IS_RUNNING="2864990"
    PERL5_CPAN_IS_RUNNING="2864990"
    PERL_CANARY_STABILITY_NOPROMPT="1"
    PERL_MM_USE_DEFAULT="1"
    PERL_USE_UNSAFE_INC="1"
  @INC:
    /tmp/loop_over_bdir-2864982-bUcvM6/DBIx-Migration-Directories-0.12-0/blib/arch
    /tmp/loop_over_bdir-2864982-bUcvM6/DBIx-Migration-Directories-0.12-0/blib/lib
    /home/sand/src/perl/repoperls/installed-perls/host/k93focal/v5.41.10/d119/lib/site_perl/5.41.10/x86_64-linux-thread-multi
    /home/sand/src/perl/repoperls/installed-perls/host/k93focal/v5.41.10/d119/lib/site_perl/5.41.10
    /home/sand/src/perl/repoperls/installed-perls/host/k93focal/v5.41.10/d119/lib/5.41.10/x86_64-linux-thread-multi
    /home/sand/src/perl/repoperls/installed-perls/host/k93focal/v5.41.10/d119/lib/5.41.10
    .