Data-Edit-Struct v0.07 Perl 5 v5.32.1 i386-openbsd
- Status
- Pass
- From
- Alceu Rodrigues de Freitas Junior
- Dist
-
Data-Edit-Struct v0.07
- Platform
- Perl 5 v5.32.1 i386-openbsd
- Date
- 2022-06-20 23:17:38
- ID
- 2d0b6386-f0ef-11ec-b737-db65ffa5fe2c
This distribution has been tested as part of the CPAN Testers
project, supporting the Perl programming language. See
http://wiki.cpantesters.org/ for more information or email
questions to cpan-testers-discuss@perl.org
--
Dear Diab Jerius,
This is a computer-generated report for Data-Edit-Struct-0.07
on perl 5.32.1, created by CPAN-Reporter-1.2018.
Thank you for uploading your work to CPAN. Congratulations!
All tests were successful.
Sections of this report:
* Tester comments
* Program output
* Prerequisites
* Environment and other context
------------------------------
TESTER COMMENTS
------------------------------
Additional comments from tester:
this report is from an automated smoke testing program
and was not reviewed by a human for accuracy
------------------------------
PROGRAM OUTPUT
------------------------------
Output from './Build test':
t/00-compile.t ......... ok
#
# Versions for all modules listed in MYMETA.json (including optional ones):
#
# === Configure Requires ===
#
# Module Want Have
# ------------------- ----- -----
# Module::Build::Tiny 0.034 0.039
#
# === Test Requires ===
#
# Module Want Have
# ----------------------- ---- --------
# ExtUtils::MakeMaker any 7.65_01
# File::Spec any 3.78
# IO::Handle any 1.48
# IPC::Open3 any 1.21
# Test2::API any 1.302190
# Test2::Bundle::Extended any 0.000145
# Test2::Tools::Explain any 0.02
# Test2::V0 any 0.000145
# Test::More any 1.302190
#
# === Test Recommends ===
#
# Module Want Have
# ---------- -------- --------
# CPAN::Meta 2.120900 2.150010
#
# === Runtime Requires ===
#
# Module Want Have
# -------------------------- ---- ---------
# Carp any 1.50
# Data::DPath 0.56 0.58
# Exporter any 5.74
# List::Util any 1.62
# Params::ValidationCompiler 0.24 0.30
# Ref::Util any 0.204
# Safe::Isa any 1.000010
# Scalar::Util any 1.62
# Storable any 3.25
# Type::Library any 1.013_000
# Type::Utils any 1.013_000
# Types::Standard any 1.013_000
# custom::failures any 0.004
# failures any 0.004
# strict any 1.11
# warnings any 1.47
#
t/00-report-prereqs.t .. ok
t/blessed.t ............ ok
t/clone.t .............. ok
t/delete.t ............. ok
t/edit.t ............... ok
t/insert.t ............. ok
t/pop.t ................ ok
t/replace.t ............ ok
t/shift.t .............. ok
t/splice.t ............. ok
t/sxfrm.t .............. ok
t/transform.t .......... ok
All tests successful.
Files=13, Tests=41, 8 wallclock secs ( 0.08 usr 0.10 sys + 5.40 cusr 1.98 csys = 7.56 CPU)
Result: PASS
------------------------------
PREREQUISITES
------------------------------
Prerequisite modules loaded:
requires:
Module Need Have
-------------------------- -------- ---------
Carp 0 1.50
custom::failures 0 0.004
Data::DPath 0.56 0.58
Exporter 0 5.74
failures 0 0.004
List::Util 0 1.62
Params::ValidationCompiler 0.24 0.30
Ref::Util 0 0.204
Safe::Isa 0 1.000010
Scalar::Util 0 1.62
Storable 0 3.25
strict 0 1.11
Type::Library 0 1.013_000
Type::Utils 0 1.013_000
Types::Standard 0 1.013_000
warnings 0 1.47
build_requires:
Module Need Have
-------------------------- -------- ---------
ExtUtils::MakeMaker 0 7.65_01
File::Spec 0 3.78
IO::Handle 0 1.48
IPC::Open3 0 1.21
perl 5.006 5.032001
Test2::API 0 1.302190
Test2::Bundle::Extended 0 0.000145
Test2::Tools::Explain 0 0.02
Test2::V0 0 0.000145
Test::More 0 1.302190
configure_requires:
Module Need Have
-------------------------- -------- ---------
Module::Build::Tiny 0.034 0.039
opt_build_requires:
Module Need Have
-------------------------- -------- ---------
CPAN::Meta 2.120900 2.150010
------------------------------
ENVIRONMENT AND OTHER CONTEXT
------------------------------
Environment variables:
AUTOMATED_TESTING = 1
PATH = /home/goku/perl5/bin:/usr/bin:/bin:/usr/sbin:/sbin:/usr/X11R6/bin:/usr/local/bin:/usr/local/sbin
PERL5LIB = /home/goku/perl5/lib/perl5
PERL5OPT =
PERL5_CPANPLUS_IS_RUNNING = 184
PERL5_CPAN_IS_RUNNING = 184
PERL5_CPAN_IS_RUNNING_IN_RECURSION = 4138,184
PERL_CR_SMOKER_CURRENT = Data-Edit-Struct-0.07
PERL_EXTUTILS_AUTOINSTALL = --defaultdeps
PERL_LOCAL_LIB_ROOT = /home/goku/perl5
PERL_MB_OPT = --install_base "/home/goku/perl5"
PERL_MM_OPT = INSTALL_BASE=/home/goku/perl5
PERL_MM_USE_DEFAULT = 1
PERL_USE_UNSAFE_INC = 1
SHELL = /bin/ksh
TERM = xterm-256color
Perl special variables (and OS-specific diagnostics, for MSWin32):
$^X = /usr/bin/perl
$UID/$EUID = 1001 / 1001
$GID = 1002 1002 1001
$EGID = 1002 1002 1001
Perl module toolchain versions installed:
Module Have
------------------- --------
CPAN 2.34
CPAN::Meta 2.150010
Cwd 3.78
ExtUtils::CBuilder 0.280236
ExtUtils::Command 7.65_01
ExtUtils::Install 2.20
ExtUtils::MakeMaker 7.65_01
ExtUtils::Manifest 1.73
ExtUtils::ParseXS 3.44
File::Spec 3.78
JSON 4.06
JSON::PP 4.09
Module::Build 0.4231
Module::Signature n/a
Parse::CPAN::Meta 2.150010
Test::Harness 3.44
Test::More 1.302190
YAML 1.30
YAML::Syck 1.34
version 0.9929
--
Summary of my perl5 (revision 5 version 32 subversion 1) configuration:
Platform:
osname=openbsd
osvers=7.1
archname=i386-openbsd
uname='openbsd'
config_args='-dse -Dopenbsd_distribution=defined -Dmksymlinks'
hint=recommended
useposix=true
d_sigaction=define
useithreads=undef
usemultiplicity=undef
use64bitint=undef
use64bitall=undef
uselongdouble=undef
usemymalloc=n
default_inc_excludes_dot=define
bincompat5005=undef
Compiler:
cc='cc'
ccflags ='-DNO_LOCALE_NUMERIC -DNO_LOCALE_COLLATE -fno-strict-aliasing -fno-delete-null-pointer-checks -pipe -fstack-protector-strong -I/usr/local/include'
optimize='-O2'
cppflags='-DBIG_TIME -DNO_LOCALE_NUMERIC -DNO_LOCALE_COLLATE -fno-strict-aliasing -fno-delete-null-pointer-checks -pipe -fstack-protector-strong -I/usr/local/include'
ccversion=''
gccversion='OpenBSD Clang 13.0.0'
gccosandvers=''
intsize=4
longsize=4
ptrsize=4
doublesize=8
byteorder=1234
doublekind=3
d_longlong=define
longlongsize=8
d_longdbl=define
longdblsize=12
longdblkind=3
ivtype='long'
ivsize=4
nvtype='double'
nvsize=8
Off_t='off_t'
lseeksize=8
alignbytes=4
prototype=define
Linker and Libraries:
ld='cc'
ldflags ='-Wl,-E -fstack-protector-strong -L/usr/local/lib'
libpth=/usr/lib /usr/lib/clang/13.0.0/lib /usr/lib
libs=-lm -lc
perllibs=-lm -lc
libc=/usr/lib/libc.so.96.1
so=so
useshrplib=true
libperl=libperl.so.22.0
gnulibc_version=''
Dynamic Linking:
dlsrc=dl_dlopen.xs
dlext=so
d_dlsymun=undef
ccdlflags='-Wl,-R/usr/libdata/perl5/i386-openbsd/CORE'
cccdlflags='-DPIC -fpic '
lddlflags='-shared -fpic -fstack-protector-strong -L/usr/local/lib'
Characteristics of this binary (from libperl):
Compile-time options:
HAS_TIMES
PERLIO_LAYERS
PERL_COPY_ON_WRITE
PERL_DONT_CREATE_GVSV
PERL_MALLOC_WRAP
PERL_OP_PARENT
PERL_PRESERVE_IVUV
USE_LARGE_FILES
USE_LOCALE
USE_LOCALE_CTYPE
USE_LOCALE_TIME
USE_PERLIO
USE_PERL_ATOF
Built under openbsd
%ENV:
PERL5LIB="/home/goku/perl5/lib/perl5"
PERL5OPT=""
PERL5_CPANPLUS_IS_RUNNING="184"
PERL5_CPAN_IS_RUNNING="184"
PERL5_CPAN_IS_RUNNING_IN_RECURSION="4138,184"
PERL_CR_SMOKER_CURRENT="Data-Edit-Struct-0.07"
PERL_EXTUTILS_AUTOINSTALL="--defaultdeps"
PERL_LOCAL_LIB_ROOT="/home/goku/perl5"
PERL_MB_OPT="--install_base "/home/goku/perl5""
PERL_MM_OPT="INSTALL_BASE=/home/goku/perl5"
PERL_MM_USE_DEFAULT="1"
PERL_USE_UNSAFE_INC="1"
@INC:
/home/goku/perl5/lib/perl5/i386-openbsd
/home/goku/perl5/lib/perl5
/usr/local/libdata/perl5/site_perl/i386-openbsd
/usr/local/libdata/perl5/site_perl
/usr/libdata/perl5/i386-openbsd
/usr/libdata/perl5
.