utf8-all v0.024 Perl 5 v5.24.2 x86_64-linux-thread-multi
- Status
- Pass
- From
- Slaven Rezić (SREZIC)
- Dist
-
utf8-all v0.024
- Platform
- Perl 5 v5.24.2 x86_64-linux-thread-multi
- Date
- 2018-01-22 10:08:21
- ID
- 2d1fb50e-ff5c-11e7-86b3-eac69f8211f9
This distribution has been tested as part of the CPAN Testers
project, supporting the Perl programming language. See
http://wiki.cpantesters.org/ for more information or email
questions to cpan-testers-discuss@perl.org
--
Dear Hayo Baan,
This is a computer-generated report for utf8-all-0.024
on perl 5.24.2, created by CPAN-Reporter-1.2018.
Thank you for uploading your work to CPAN. Congratulations!
All tests were successful.
Sections of this report:
* Tester comments
* Program output
* Prerequisites
* Environment and other context
------------------------------
TESTER COMMENTS
------------------------------
Additional comments from tester:
none provided
------------------------------
PROGRAM OUTPUT
------------------------------
Output from '/usr/bin/make test':
PERL_DL_NONLAZY=1 "/opt/perl-5.24.2t/bin/perl" "-MExtUtils::Command::MM" "-MTest::Harness" "-e" "undef *Test::Harness::Switches; test_harness(0, 'blib/lib', 'blib/arch')" t/*.t
t/00-compile.t ....... ok
t/ARGV.t ............. ok
t/ARGV_nonmain.t ..... ok
t/ARGV_twice.t ....... ok
t/autodie.t .......... ok
t/charnames.t ........ ok
t/FATAL_utf8.t ....... ok
t/fc.t ............... ok
t/force_global.t ..... ok
t/glob.t ............. ok
t/global_nonmain.t ... ok
t/lexical-again.t .... ok
t/lexical.t .......... ok
t/no_global.t ........ ok
t/open.t ............. ok
t/readdir.t .......... ok
t/readlink.t ......... ok
t/readpipe.t ......... ok
t/threads.t .......... ok
t/unicode_eval.t ..... ok
t/unicode_strings.t .. ok
t/utf8.t ............. ok
t/utf8_check.t ....... ok
All tests successful.
Files=23, Tests=122, 2 wallclock secs ( 0.05 usr 0.09 sys + 1.37 cusr 0.23 csys = 1.74 CPU)
Result: PASS
------------------------------
PREREQUISITES
------------------------------
Prerequisite modules loaded:
requires:
Module Need Have
------------------- ----- --------
Carp 0 1.40
charnames 0 1.43
Encode 0 2.92
feature 0 1.42
Import::Into 0 1.002005
open 0 1.10
parent 0 0.234
perl 5.010 5.024002
PerlIO::utf8_strict 0 0.007
strict 0 1.11
Symbol 0 1.07
utf8 0 1.19
warnings 0 1.36
build_requires:
Module Need Have
------------------- ----- --------
autodie 0 2.29
blib 1.01 1.06
constant 0 1.33
ExtUtils::MakeMaker 0 7.10_02
File::Spec 0 3.63_01
IO::Handle 0 1.36
IPC::Open3 0 1.20
PerlIO 0 1.09
Test::Exception 0 0.43
Test::Fatal 0 0.014
Test::More 0.96 1.302086
Test::Warn 0 0.32
threads 0 2.07
threads::shared 0 1.51
version 0.77 0.9916
configure_requires:
Module Need Have
------------------- ----- --------
ExtUtils::MakeMaker 0 7.10_02
perl 5.010 5.024002
------------------------------
ENVIRONMENT AND OTHER CONTEXT
------------------------------
Environment variables:
LANG = C
PATH = /usr/local/bin:/usr/bin:/bin:/usr/local/sbin:/usr/sbin:/sbin:/home/cpansand/bin/linux-gnu:/home/cpansand/bin/sh:/home/cpansand/bin:/usr/games:/home/cpansand/devel:/home/eserte/src/srezic-misc/scripts
PERL5LIB = /home/cpansand/.cpan/build/2018012206/sanity-1.03-MgennR/blib/arch:/home/cpansand/.cpan/build/2018012206/sanity-1.03-MgennR/blib/lib:/home/cpansand/.cpan/build/2018012206/Import-Into-1.002005-cMrDDf/blib/arch:/home/cpansand/.cpan/build/2018012206/Import-Into-1.002005-cMrDDf/blib/lib:/home/cpansand/.cpan/build/2018012206/Test-CheckDeps-0.010-nrjEwh/blib/arch:/home/cpansand/.cpan/build/2018012206/Test-CheckDeps-0.010-nrjEwh/blib/lib
PERL5OPT =
PERL5_CPANPLUS_IS_RUNNING = 6898
PERL5_CPAN_IS_RUNNING = 6898
PERL5_CPAN_IS_RUNNING_IN_RECURSION = 27617,6898
PERLDOC = -MPod::Perldoc::ToTextOverstrike
PERL_BATCH = yes
PERL_CANARY_STABILITY_NOPROMPT = 1
PERL_CPAN_REPORTER_CONFIG = /var/tmp/cpansmoker-1023/2018012206/cpanreporter_000_config.ini
PERL_EXTUTILS_AUTOINSTALL = --defaultdeps
SHELL = /usr/bin/zsh
TERM = screen
TMPDIR = /var/tmp/cpansmoker-1023/2018012206
Perl special variables (and OS-specific diagnostics, for MSWin32):
$^X = /opt/perl-5.24.2t/bin/perl
$UID/$EUID = 1023 / 1023
$GID = 1023 1023
$EGID = 1023 1023
Perl module toolchain versions installed:
Module Have
------------------- ----------
CPAN 2.11_01
CPAN::Meta 2.150005
Cwd 3.63_01
ExtUtils::CBuilder 0.280225
ExtUtils::Command 7.10_02
ExtUtils::Install 2.04
ExtUtils::MakeMaker 7.10_02
ExtUtils::Manifest 1.70
ExtUtils::ParseXS 3.31
File::Spec 3.63_01
JSON 2.94
JSON::PP 2.27300_01
Module::Build 0.4224
Module::Signature n/a
Parse::CPAN::Meta 1.4417_001
Test::Harness 3.36_01
Test::More 1.302086
YAML 1.23
YAML::Syck 1.30
version 0.9916
--
Summary of my perl5 (revision 5 version 24 subversion 2) configuration:
Platform:
osname=linux, osvers=4.9.0-3-amd64, archname=x86_64-linux-thread-multi
uname='linux debian9 4.9.0-3-amd64 #1 smp debian 4.9.30-2+deb9u3 (2017-08-06) x86_64 gnulinux '
config_args='-ds -e -Dprefix=/opt/perl-5.24.2t -Dusethreads -Dcf_email=srezic@cpan.org'
hint=recommended, useposix=true, d_sigaction=define
useithreads=define, usemultiplicity=define
use64bitint=define, use64bitall=define, uselongdouble=undef
usemymalloc=n, bincompat5005=undef
Compiler:
cc='cc', ccflags ='-D_REENTRANT -D_GNU_SOURCE -fwrapv -fno-strict-aliasing -pipe -fstack-protector-strong -I/usr/local/include -D_LARGEFILE_SOURCE -D_FILE_OFFSET_BITS=64',
optimize='-O2',
cppflags='-D_REENTRANT -D_GNU_SOURCE -fwrapv -fno-strict-aliasing -pipe -fstack-protector-strong -I/usr/local/include'
ccversion='', gccversion='6.3.0 20170516', gccosandvers=''
intsize=4, longsize=8, ptrsize=8, doublesize=8, byteorder=12345678, doublekind=3
d_longlong=define, longlongsize=8, d_longdbl=define, longdblsize=16, longdblkind=3
ivtype='long', ivsize=8, nvtype='double', nvsize=8, Off_t='off_t', lseeksize=8
alignbytes=8, prototype=define
Linker and Libraries:
ld='cc', ldflags =' -fstack-protector-strong -L/usr/local/lib'
libpth=/usr/local/lib /usr/lib/gcc/x86_64-linux-gnu/6/include-fixed /usr/include/x86_64-linux-gnu /usr/lib /lib/x86_64-linux-gnu /lib/../lib /usr/lib/x86_64-linux-gnu /usr/lib/../lib /lib
libs=-lpthread -lnsl -lgdbm -ldb -ldl -lm -lcrypt -lutil -lc -lgdbm_compat
perllibs=-lpthread -lnsl -ldl -lm -lcrypt -lutil -lc
libc=libc-2.24.so, so=so, useshrplib=false, libperl=libperl.a
gnulibc_version='2.24'
Dynamic Linking:
dlsrc=dl_dlopen.xs, dlext=so, d_dlsymun=undef, ccdlflags='-Wl,-E'
cccdlflags='-fPIC', lddlflags='-shared -O2 -L/usr/local/lib -fstack-protector-strong'
Characteristics of this binary (from libperl):
Compile-time options: HAS_TIMES MULTIPLICITY PERLIO_LAYERS
PERL_COPY_ON_WRITE PERL_DONT_CREATE_GVSV
PERL_HASH_FUNC_ONE_AT_A_TIME_HARD
PERL_IMPLICIT_CONTEXT PERL_MALLOC_WRAP
PERL_PRESERVE_IVUV USE_64_BIT_ALL USE_64_BIT_INT
USE_ITHREADS USE_LARGE_FILES USE_LOCALE
USE_LOCALE_COLLATE USE_LOCALE_CTYPE
USE_LOCALE_NUMERIC USE_LOCALE_TIME USE_PERLIO
USE_PERL_ATOF USE_REENTRANT_API
Built under linux
Compiled at Sep 10 2017 07:10:22
%ENV:
PERL5LIB="/home/cpansand/.cpan/build/2018012206/sanity-1.03-MgennR/blib/arch:/home/cpansand/.cpan/build/2018012206/sanity-1.03-MgennR/blib/lib:/home/cpansand/.cpan/build/2018012206/Import-Into-1.002005-cMrDDf/blib/arch:/home/cpansand/.cpan/build/2018012206/Import-Into-1.002005-cMrDDf/blib/lib:/home/cpansand/.cpan/build/2018012206/Test-CheckDeps-0.010-nrjEwh/blib/arch:/home/cpansand/.cpan/build/2018012206/Test-CheckDeps-0.010-nrjEwh/blib/lib"
PERL5OPT=""
PERL5_CPANPLUS_IS_RUNNING="6898"
PERL5_CPAN_IS_RUNNING="6898"
PERL5_CPAN_IS_RUNNING_IN_RECURSION="27617,6898"
PERLDOC="-MPod::Perldoc::ToTextOverstrike"
PERL_BATCH="yes"
PERL_CANARY_STABILITY_NOPROMPT="1"
PERL_CPAN_REPORTER_CONFIG="/var/tmp/cpansmoker-1023/2018012206/cpanreporter_000_config.ini"
PERL_EXTUTILS_AUTOINSTALL="--defaultdeps"
@INC:
/home/cpansand/.cpan/build/2018012206/sanity-1.03-MgennR/blib/arch
/home/cpansand/.cpan/build/2018012206/sanity-1.03-MgennR/blib/lib
/home/cpansand/.cpan/build/2018012206/Import-Into-1.002005-cMrDDf/blib/arch
/home/cpansand/.cpan/build/2018012206/Import-Into-1.002005-cMrDDf/blib/lib
/home/cpansand/.cpan/build/2018012206/Test-CheckDeps-0.010-nrjEwh/blib/arch
/home/cpansand/.cpan/build/2018012206/Test-CheckDeps-0.010-nrjEwh/blib/lib
/opt/perl-5.24.2t/lib/site_perl/5.24.2/x86_64-linux-thread-multi
/opt/perl-5.24.2t/lib/site_perl/5.24.2
/opt/perl-5.24.2t/lib/5.24.2/x86_64-linux-thread-multi
/opt/perl-5.24.2t/lib/5.24.2
.