Report for Math-Complex_C-L-0.03

Back
From: metabase:user:314402c4-2aae-11df-837a-5e0a49663a4f
Subject: PASS Math-Complex_C-L-0.03 v5.14.2 GNU/Linux
Date: 2016-01-13T18:55:12Z

This distribution has been tested as part of the CPAN Testers
project, supporting the Perl programming language.  See
http://wiki.cpantesters.org/ for more information or email
questions to cpan-testers-discuss@perl.org


--
Dear Sisyphus,

This is a computer-generated report for Math-Complex_C-L-0.03
on perl 5.14.2, created by CPAN-Reporter-1.2011.

Thank you for uploading your work to CPAN.  Congratulations!
All tests were successful.

Sections of this report:

    * Tester comments
    * Program output
    * Prerequisites
    * Environment and other context

------------------------------
TESTER COMMENTS
------------------------------

Additional comments from tester:

none provided

------------------------------
PROGRAM OUTPUT
------------------------------

Output from '/usr/bin/make test':

Running Mkbootstrap for Math::Complex_C::L ()
chmod 644 "L.bs"
PERL_DL_NONLAZY=1 "/opt/perl-5.14.2/bin/perl5.14.2" "-MExtUtils::Command::MM" "-MTest::Harness" "-e" "undef *Test::Harness::Switches; test_harness(0, 'blib/lib', 'blib/arch')" t/*.t


  No tests with this file. Instead, mainly for the benefit
  of the author, we (hopefully) see some diagnostics from some
  test executables that were run during the Makefile.PL stage.


CC = cc
OPTIMIZE = -O2
catanhl & powl check: 
gcc version check (build): 
gcc version check (run): gcc version (4.4.5) is ok


t/00config_xtra.t .... ok

Default decimal precision is 21
t/01load.t ........... ok

Skipping tests 12-15 - Math::LongDouble not loaded
$@: Can't locate Math/LongDouble.pm in @INC (@INC contains: /var/tmp/cpan-build/2016011318/Math-Complex_C-L-0.03-qeb149/blib/lib /var/tmp/cpan-build/2016011318/Math-Complex_C-L-0.03-qeb149/blib/arch /opt/perl-5.14.2/lib/site_perl/5.14.2/i686-linux /opt/perl-5.14.2/lib/site_perl/5.14.2 /opt/perl-5.14.2/lib/5.14.2/i686-linux /opt/perl-5.14.2/lib/5.14.2 .) at t/abs_arg.t line 98.

t/abs_arg.t .......... ok
t/arith.t ............ ok
t/bool.t ............. ok

Skipping tests 3 & 4 - your glibc contains a bug that breaks cprojl()
Updating your glibc to version 2.12.0 or later should fix the problem
t/conj_proj.t ........ ok
t/log_exp.t .......... ok
t/nan.t .............. ok

 Skipping test 5 - Math::LongDouble not loaded
t/new.t .............. ok
Skipping all tests as Math::LongDouble is not available:
Can't locate Math/LongDouble.pm in @INC (@INC contains: /var/tmp/cpan-build/2016011318/Math-Complex_C-L-0.03-qeb149/blib/lib /var/tmp/cpan-build/2016011318/Math-Complex_C-L-0.03-qeb149/blib/arch /opt/perl-5.14.2/lib/site_perl/5.14.2/i686-linux /opt/perl-5.14.2/lib/site_perl/5.14.2 /opt/perl-5.14.2/lib/5.14.2/i686-linux /opt/perl-5.14.2/lib/5.14.2 .) at t/new_LD.t line 5.

t/new_LD.t ........... ok
t/nnum.t ............. ok
t/overload_string.t .. ok
t/overload_xtra.t .... ok
t/pow.t .............. ok
t/prec.t ............. ok
t/trig.t ............. ok
All tests successful.
Files=16, Tests=182,  0 wallclock secs ( 0.06 usr  0.03 sys +  0.24 cusr  0.06 csys =  0.39 CPU)
Result: PASS

------------------------------
PREREQUISITES
------------------------------

Prerequisite modules loaded:

build_requires:

    Module              Need Have
    ------------------- ---- ----
    ExtUtils::MakeMaker 0    7.04

configure_requires:

    Module              Need Have
    ------------------- ---- ----
    ExtUtils::MakeMaker 0    7.04


------------------------------
ENVIRONMENT AND OTHER CONTEXT
------------------------------

Environment variables:

    LANG = en_US.UTF-8
    PATH = /usr/local/bin:/usr/bin:/bin:/usr/local/sbin:/usr/sbin:/sbin:/home/eserte/bin/linux-gnu:/home/eserte/bin/sh:/home/eserte/bin:/usr/games:/home/eserte/devel:/home/eserte/src/srezic-misc/scripts
    PERL5LIB = 
    PERL5OPT = 
    PERL5_CPANPLUS_IS_RUNNING = 30366
    PERL5_CPAN_IS_RUNNING = 30366
    PERL5_CPAN_IS_RUNNING_IN_RECURSION = 30341,30366
    PERLDOC = -MPod::Perldoc::ToTextOverstrike
    PERL_BATCH = yes
    PERL_CANARY_STABILITY_NOPROMPT = 1
    PERL_CPAN_REPORTER_CONFIG = /var/tmp/cpansmoker-1000/2016011318/cpanreporter_000_config.ini
    PERL_EXTUTILS_AUTOINSTALL = --defaultdeps
    PERL_HTML_DISPLAY_CLASS = HTML::Display::Mozilla
    SHELL = /bin/zsh
    STDPERL = perl
    TERM = xterm
    TMPDIR = /var/tmp/cpansmoker-1000/2016011318

Perl special variables (and OS-specific diagnostics, for MSWin32):

    $^X = /opt/perl-5.14.2/bin/perl5.14.2
    $UID/$EUID = 1000 / 1000
    $GID = 1000 4 20 24 25 29 44 46 120 1000
    $EGID = 1000 4 20 24 25 29 44 46 120 1000

Perl module toolchain versions installed:

    Module              Have     
    ------------------- ---------
    CPAN                1.9600_01
    CPAN::Meta          2.143240 
    Cwd                 3.47     
    ExtUtils::CBuilder  0.280203 
    ExtUtils::Command   1.17     
    ExtUtils::Install   1.56     
    ExtUtils::MakeMaker 7.04     
    ExtUtils::Manifest  1.70     
    ExtUtils::ParseXS   2.2210   
    File::Spec          3.47     
    JSON                2.53     
    JSON::PP            2.27203  
    Module::Build       0.4211   
    Module::Signature   n/a      
    Parse::CPAN::Meta   1.4414   
    Test::Harness       3.35     
    Test::More          1.001014 
    YAML                1.13     
    YAML::Syck          1.20     
    version             0.88     


--

Summary of my perl5 (revision 5 version 14 subversion 2) configuration:
   
  Platform:
    osname=linux, osvers=2.6.32-5-686, archname=i686-linux
    uname='linux mosor 2.6.32-5-686 #1 smp mon jan 16 16:04:25 utc 2012 i686 gnulinux '
    config_args='-ds -e -Dprefix=/opt/perl-5.14.2'
    hint=recommended, useposix=true, d_sigaction=define
    useithreads=undef, usemultiplicity=undef
    useperlio=define, d_sfio=undef, uselargefiles=define, usesocks=undef
    use64bitint=undef, use64bitall=undef, uselongdouble=undef
    usemymalloc=n, bincompat5005=undef
  Compiler:
    cc='cc', ccflags ='-fno-strict-aliasing -pipe -fstack-protector -I/usr/local/include -D_LARGEFILE_SOURCE -D_FILE_OFFSET_BITS=64',
    optimize='-O2',
    cppflags='-fno-strict-aliasing -pipe -fstack-protector -I/usr/local/include'
    ccversion='', gccversion='4.4.5', gccosandvers=''
    intsize=4, longsize=4, ptrsize=4, doublesize=8, byteorder=1234
    d_longlong=define, longlongsize=8, d_longdbl=define, longdblsize=12
    ivtype='long', ivsize=4, nvtype='double', nvsize=8, Off_t='off_t', lseeksize=8
    alignbytes=4, prototype=define
  Linker and Libraries:
    ld='cc', ldflags =' -fstack-protector -L/usr/local/lib'
    libpth=/usr/local/lib /lib/../lib /usr/lib/../lib /lib /usr/lib /usr/lib64
    libs=-lnsl -ldb -ldl -lm -lcrypt -lutil -lc
    perllibs=-lnsl -ldl -lm -lcrypt -lutil -lc
    libc=/lib/libc-2.11.3.so, so=so, useshrplib=false, libperl=libperl.a
    gnulibc_version='2.11.3'
  Dynamic Linking:
    dlsrc=dl_dlopen.xs, dlext=so, d_dlsymun=undef, ccdlflags='-Wl,-E'
    cccdlflags='-fPIC', lddlflags='-shared -O2 -L/usr/local/lib -fstack-protector'


Characteristics of this binary (from libperl): 
  Compile-time options: PERL_DONT_CREATE_GVSV PERL_MALLOC_WRAP
                        PERL_PRESERVE_IVUV USE_LARGE_FILES USE_PERLIO
                        USE_PERL_ATOF
  Built under linux
  Compiled at Mar 30 2012 11:00:02
  %ENV:
    PERL5LIB=""
    PERL5OPT=""
    PERL5_CPANPLUS_IS_RUNNING="30366"
    PERL5_CPAN_IS_RUNNING="30366"
    PERL5_CPAN_IS_RUNNING_IN_RECURSION="30341,30366"
    PERLDOC="-MPod::Perldoc::ToTextOverstrike"
    PERL_BATCH="yes"
    PERL_CANARY_STABILITY_NOPROMPT="1"
    PERL_CPAN_REPORTER_CONFIG="/var/tmp/cpansmoker-1000/2016011318/cpanreporter_000_config.ini"
    PERL_EXTUTILS_AUTOINSTALL="--defaultdeps"
    PERL_HTML_DISPLAY_CLASS="HTML::Display::Mozilla"
  @INC:
    /opt/perl-5.14.2/lib/site_perl/5.14.2/i686-linux
    /opt/perl-5.14.2/lib/site_perl/5.14.2
    /opt/perl-5.14.2/lib/5.14.2/i686-linux
    /opt/perl-5.14.2/lib/5.14.2
    .