Back
From: metabase:user:ade1afce-f882-11e3-b8e5-e4ac2292c85c
Subject: PASS MooseX-Types-Structured-0.30 v5.20.0 GNU/Linux
Date: 2014-09-16T18:13:36Z
This distribution has been tested as part of the CPAN Testers
project, supporting the Perl programming language. See
http://wiki.cpantesters.org/ for more information or email
questions to cpan-testers-discuss@perl.org
--
Dear Karen Etheridge,
This is a computer-generated error report created automatically by
CPANPLUS, version 0.9152. Testers personal comments may appear
at the end of this report.
Thank you for uploading your work to CPAN. Congratulations!
All tests were successful.
TEST RESULTS:
Below is the error stack from stage 'make test':
PERL_DL_NONLAZY=1 /opt/perl5/perls/perl-5.20.0/bin/perl "-MExtUtils::Command::MM" "-MTest::Harness" "-e" "undef *Test::Harness::Switches; test_harness(0, 'blib/lib', 'blib/arch')" t/*.t t/regressions/*.t
t/00-load.t .................... ok
#
# Versions for all modules listed in MYMETA.json (including optional ones):
# Version Module
# -------- --------------------------------------------
# 2.142060 CPAN::Meta
# 2.128 CPAN::Meta::Requirements
# 2.151 Data::Dumper
# 1.12 DateTime
# 0.17 Devel::PartialDump
# 6.98 ExtUtils::MakeMaker
# 3.47 File::Spec::Functions
# 1.41 List::Util
# 0.038 Module::Build::Tiny
# 2.1211 Moose
# 2.1211 Moose::Meta::TypeCoercion
# 2.1211 Moose::Meta::TypeConstraint
# 2.1211 Moose::Meta::TypeConstraint::Parameterizable
# 2.1211 Moose::Util::TypeConstraints
# 0.45 MooseX::Types
# 0.10 MooseX::Types::DateTime
# 0.45 MooseX::Types::Moose
# 1.41 Scalar::Util
# 0.987 Sub::Exporter
# 0.013 Test::Fatal
# 1.001006 Test::More
# 1.22 overload
# 1.08 strict
# 1.23 warnings
t/00-report-prereqs.t .......... ok
t/01-basic.t ................... ok
t/02-tuple.t ................... ok
t/03-dict.t .................... ok
t/04-combined.t ................ ok
t/04-map.t ..................... ok
t/05-advanced.t ................ ok
t/06-api.t ..................... ok
t/07-coerce.t .................. ok
t/08-examples.t ................ ok
t/09-optional.t ................ ok
t/10-recursion.t ............... ok
t/11-overflow.t ................ ok
t/12-error.t ................... ok
t/13-deeper_error.t ............ ok
t/bug-incorrect-message.t ...... ok
t/bug-is-subtype.t ............. ok
t/bug-mixed-stringy.t .......... ok
t/bug-optional.t ............... ok
t/regressions/01-is_type_of.t .. ok
All tests successful.
Files=21, Tests=357, 9 wallclock secs ( 0.17 usr 0.02 sys + 8.05 cusr 0.57 csys = 8.81 CPU)
Result: PASS
PREREQUISITES:
Here is a list of prerequisites you specified and versions we
managed to load:
Module Name Have Want
Data::Dumper 2.151 0
DateTime 1.12 0
Devel::PartialDump 0.17 0.13
ExtUtils::MakeMaker 6.98 0
File::Spec::Functions 3.47 0
List::Util 1.41 0
Moose 2.1211 1.08
Moose::Meta::TypeCoercion 2.1211 0
Moose::Meta::TypeConstraint 2.1211 0
Moose::Meta::TypeConstraint::Parameterizable 2.1211 0
Moose::Util::TypeConstraints 2.1211 1.06
MooseX::Types 0.45 0.22
MooseX::Types::DateTime 0.10 0
MooseX::Types::Moose 0.45 0
Scalar::Util 1.41 0
Sub::Exporter 0.987 0.982
Test::Fatal 0.013 0
Test::More 1.001006 0.94
overload 1.22 0
strict 1.08 0
warnings 1.23 0
Perl module toolchain versions installed:
Module Name Have
CPANPLUS 0.9152
CPANPLUS::Dist::Build 0.78
Cwd 3.47
ExtUtils::CBuilder 0.280219
ExtUtils::Command 1.18
ExtUtils::Install 1.68
ExtUtils::MakeMaker 6.98
ExtUtils::Manifest 1.66
ExtUtils::ParseXS 3.24
File::Spec 3.47
Module::Build 0.4210
Pod::Parser 1.62
Pod::Simple 3.28
Test::Harness 3.33
Test::More 1.001006
version 0.9909
******************************** NOTE ********************************
The comments above are created mechanically, possibly without manual
checking by the sender. As there are many people performing automatic
tests on each upload to CPAN, it is likely that you will receive
identical messages about the same problem.
If you believe that the message is mistaken, please reply to the first
one with correction and/or additional informations, and do not take
it personally. We appreciate your patience. :)
**********************************************************************
Additional comments:
--
Summary of my perl5 (revision 5 version 20 subversion 0) configuration:
Platform:
osname=linux, osvers=3.13.0-27-generic, archname=x86_64-linux
uname='linux skydevel 3.13.0-27-generic #50-ubuntu smp thu may 15 18:06:16 utc 2014 x86_64 x86_64 x86_64 gnulinux '
config_args='-de -Dprefix=/opt/perl5/perls/perl-5.20.0 -Uccflags=-march=native -Aeval:scriptdir=/opt/perl5/perls/perl-5.20.0/bin'
hint=recommended, useposix=true, d_sigaction=define
useithreads=undef, usemultiplicity=undef
use64bitint=define, use64bitall=define, uselongdouble=undef
usemymalloc=n, bincompat5005=undef
Compiler:
cc='cc', ccflags ='-fwrapv -fno-strict-aliasing -pipe -fstack-protector -I/usr/local/include -D_LARGEFILE_SOURCE -D_FILE_OFFSET_BITS=64',
optimize='-O2',
cppflags='-fwrapv -fno-strict-aliasing -pipe -fstack-protector -I/usr/local/include'
ccversion='', gccversion='4.8.2', gccosandvers=''
intsize=4, longsize=8, ptrsize=8, doublesize=8, byteorder=12345678
d_longlong=define, longlongsize=8, d_longdbl=define, longdblsize=16
ivtype='long', ivsize=8, nvtype='double', nvsize=8, Off_t='off_t', lseeksize=8
alignbytes=8, prototype=define
Linker and Libraries:
ld='cc', ldflags =' -fstack-protector -L/usr/local/lib'
libpth=/usr/local/lib /usr/lib/gcc/x86_64-linux-gnu/4.8/include-fixed /usr/include/x86_64-linux-gnu /usr/lib /lib/x86_64-linux-gnu /lib/../lib /usr/lib/x86_64-linux-gnu /usr/lib/../lib /lib
libs=-lnsl -lgdbm -ldb -ldl -lm -lcrypt -lutil -lc -lgdbm_compat
perllibs=-lnsl -ldl -lm -lcrypt -lutil -lc
libc=libc-2.19.so, so=so, useshrplib=false, libperl=libperl.a
gnulibc_version='2.19'
Dynamic Linking:
dlsrc=dl_dlopen.xs, dlext=so, d_dlsymun=undef, ccdlflags='-Wl,-E'
cccdlflags='-fPIC', lddlflags='-shared -O2 -L/usr/local/lib -fstack-protector'
Characteristics of this binary (from libperl):
Compile-time options: HAS_TIMES PERLIO_LAYERS PERL_DONT_CREATE_GVSV
PERL_HASH_FUNC_ONE_AT_A_TIME_HARD PERL_MALLOC_WRAP
PERL_NEW_COPY_ON_WRITE PERL_PRESERVE_IVUV
USE_64_BIT_ALL USE_64_BIT_INT USE_LARGE_FILES
USE_LOCALE USE_LOCALE_COLLATE USE_LOCALE_CTYPE
USE_LOCALE_NUMERIC USE_PERLIO USE_PERL_ATOF
Built under linux
Compiled at Jun 3 2014 17:11:10
%ENV:
PERL5LIB=":/home/skyrider/.cpanplus/5.20.0/build/MooseX-Types-Structured-0.30/blib/lib:/home/skyrider/.cpanplus/5.20.0/build/MooseX-Types-Structured-0.30/blib/arch"
PERL5_CPANPLUS_IS_RUNNING="16722"
PERL5_CPANPLUS_IS_VERSION="0.9152"
PERLBREW_FISH_VERSION="0.67.1"
PERLBREW_HOME="/home/skyrider/.perlbrew"
PERLBREW_MANPATH="/opt/perl5/perls/perl-5.20.0/man:setenv:PERLBREW_PATH:/opt/perl5/bin /opt/perl5/perls/perl-5.20.0/bin:setenv:PERLBREW_PERL:perl-5.20.0:setenv:PERLBREW_ROOT:/opt/perl5:setenv:PERLBREW_VERSION:0.67.1"
PERLBREW_PATH="/opt/perl5/bin /opt/perl5/perls/perl-5.20.0/bin"
PERLBREW_PERL="perl-5.20.0"
PERLBREW_ROOT="/opt/perl5"
PERLBREW_SKIP_INIT="1"
PERLBREW_VERSION="0.67.1"
PERLDOC_PAGER="most"
PERL_MM_USE_DEFAULT="1"
PERL_READLINE_NOWARN="1"
@INC:
/home/skyrider/.cpanplus/5.20.0/build/MooseX-Types-Structured-0.30/blib/lib
/home/skyrider/.cpanplus/5.20.0/build/MooseX-Types-Structured-0.30/blib/arch
/opt/perl5/perls/perl-5.20.0/lib/site_perl/5.20.0/x86_64-linux
/opt/perl5/perls/perl-5.20.0/lib/site_perl/5.20.0
/opt/perl5/perls/perl-5.20.0/lib/5.20.0/x86_64-linux
/opt/perl5/perls/perl-5.20.0/lib/5.20.0
.