Report for POE-Component-Server-SimpleHTTP-2.18

Back
From: metabase:user:320bfe00-2aae-11df-837a-5e0a49663a4f
Subject: PASS POE-Component-Server-SimpleHTTP-2.18 v5.23.3 GNU/Linux
Date: 2015-09-10T02:25:18Z

This distribution has been tested as part of the CPAN Testers
project, supporting the Perl programming language.  See
http://wiki.cpantesters.org/ for more information or email
questions to cpan-testers-discuss@perl.org


--
Dear Chris Williams,

This is a computer-generated report for POE-Component-Server-SimpleHTTP-2.18
on perl 5.23.3, created by CPAN-Reporter-1.2015.

Thank you for uploading your work to CPAN.  Congratulations!
All tests were successful.

Sections of this report:

    * Tester comments
    * Program output
    * Prerequisites
    * Environment and other context

------------------------------
TESTER COMMENTS
------------------------------

Additional comments from tester:

this report is from an automated smoke testing program
and was not reviewed by a human for accuracy

------------------------------
PROGRAM OUTPUT
------------------------------

Output from '/usr/bin/make test':

PERL_DL_NONLAZY=1 "/tmp/basesmoker-reloperl-MiG1/bin/perl" "-MExtUtils::Command::MM" "-MTest::Harness" "-e" "undef *Test::Harness::Switches; test_harness(0, 'inc', 'blib/lib', 'blib/arch')" t/*.t
# Testing POE::Component::Server::SimpleHTTP-2.18, POE-1.367, Perl 5.023003, /tmp/basesmoker-reloperl-MiG1/bin/perl
t/01_load.t ........... ok
# GET http://pocosimpletest.com:49387/ HTTP/1.1
# Host: 127.0.0.1:49387
# 
# HTTP/1.1 200 (OK)
# Date: Thu, 10 Sep 2015 02:25:07 GMT
# Content-Length: 3
# Content-Type: text/plain
# 
# Moo
t/02_simple.t ......... ok
# HTTP/1.1 404 (Not Found)
# Date: Thu, 10 Sep 2015 02:25:07 GMT
# Content-Length: 13
# Content-Type: text/plain
# 
# 404 Not Found
t/03_bad_handler.t .... ok
# GEt http://pocosimpletest.com:59850/ HTTP/1.1
# Host: 127.0.0.1:59850
# 
# HTTP/1.1 200 (OK)
# Date: Thu, 10 Sep 2015 02:25:08 GMT
# Content-Length: 3
# Content-Type: text/plain
# 
# Moo
t/03_bad_request.t .... ok
# 200 (OK)
# Date: Thu, 10 Sep 2015 02:25:09 GMT
# Content-Length: 11
# Content-Type: text/plain
# X-HTTP-Version: 1.1
# 
# this is top
# 200 (OK)
# Date: Thu, 10 Sep 2015 02:25:09 GMT
# Content-Length: 12
# Content-Type: text/plain
# X-HTTP-Version: 1.1
# 
# this is honk
# 200 (OK)
# Date: Thu, 10 Sep 2015 02:25:09 GMT
# Content-Length: 123
# Content-Type: text/html
# X-HTTP-Version: 1.1
# 
# <html>
# <head><title>YEAH!</title></head>
# <body><p>This, my friend, is the page you've been looking for.</p></body>
# </html>
# 404 (Not Found)
# Date: Thu, 10 Sep 2015 02:25:09 GMT
# Content-Length: 13
# Content-Type: text/plain
# X-HTTP-Version: 1.1
# 
# 404 Not Found
t/04_run_close.t ...... ok
Use of uninitialized value in lc at /tmp/loop_over_bdir-27534-C0cSbh/POE-Component-Server-SimpleHTTP-2.18-E1U508/blib/lib/POE/Component/Server/SimpleHTTP.pm line 801.
Use of uninitialized value in lc at /tmp/loop_over_bdir-27534-C0cSbh/POE-Component-Server-SimpleHTTP-2.18-E1U508/blib/lib/POE/Component/Server/SimpleHTTP.pm line 803.
# 200 (OK)
# Date: Thu, 10 Sep 2015 02:25:09 GMT
# Content-Length: 11
# Content-Type: text/plain
# X-HTTP-Version: 1.1
# 
# this is top
Use of uninitialized value in lc at /tmp/loop_over_bdir-27534-C0cSbh/POE-Component-Server-SimpleHTTP-2.18-E1U508/blib/lib/POE/Component/Server/SimpleHTTP.pm line 801.
Use of uninitialized value in lc at /tmp/loop_over_bdir-27534-C0cSbh/POE-Component-Server-SimpleHTTP-2.18-E1U508/blib/lib/POE/Component/Server/SimpleHTTP.pm line 803.
# 200 (OK)
# Date: Thu, 10 Sep 2015 02:25:09 GMT
# Content-Length: 12
# Content-Type: text/plain
# X-HTTP-Version: 1.1
# 
# this is honk
Use of uninitialized value in lc at /tmp/loop_over_bdir-27534-C0cSbh/POE-Component-Server-SimpleHTTP-2.18-E1U508/blib/lib/POE/Component/Server/SimpleHTTP.pm line 801.
Use of uninitialized value in lc at /tmp/loop_over_bdir-27534-C0cSbh/POE-Component-Server-SimpleHTTP-2.18-E1U508/blib/lib/POE/Component/Server/SimpleHTTP.pm line 803.
# 200 (OK)
# Date: Thu, 10 Sep 2015 02:25:09 GMT
# Content-Length: 123
# Content-Type: text/html
# X-HTTP-Version: 1.1
# 
# <html>
# <head><title>YEAH!</title></head>
# <body><p>This, my friend, is the page you've been looking for.</p></body>
# </html>
# 404 (Not Found)
# Date: Thu, 10 Sep 2015 02:25:09 GMT
# Content-Length: 13
# Content-Type: text/plain
# X-HTTP-Version: 1.1
# 
# 404 Not Found
t/04_run_keepalive.t .. ok
# POST http://pocosimpletest.com:46116/ HTTP/1.1
# Host: 127.0.0.1:46116
# Content-Length: 40
# 
# brother !~we need to get off this island
# 200 (OK)
# Date: Thu, 10 Sep 2015 02:25:10 GMT
# Content-Length: 40
# Content-Type: text/plain
# X-HTTP-Version: 1.1
# 
# we need to get off this island brother !
t/05_post.t ........... ok
# Test a stream of 3 helloworlds ..
t/06_stream.t ......... ok
t/99_pod.t ............ ok
t/99_pod_coverage.t ... skipped: Test::Pod::Coverage 1.00 required for testing POD coverage
All tests successful.
Files=10, Tests=55,  5 wallclock secs ( 0.05 usr  0.06 sys +  4.55 cusr  0.84 csys =  5.50 CPU)
Result: PASS

------------------------------
PREREQUISITES
------------------------------

Prerequisite modules loaded:

requires:

    Module                    Need   Have    
    ------------------------- ------ --------
    Carp                      0      1.37    
    HTTP::Date                0      6.02    
    HTTP::Request             0      6.10    
    HTTP::Response            0      6.10    
    Moose                     0.9    2.1603  
    MooseX::POE               0.205  0.215   
    perl                      5.006  5.023003
    POE                       1.0000 1.367   
    Socket                    0      2.020_01
    Storable                  0      2.54    
    Sys::Hostname             0      1.20    

build_requires:

    Module                    Need   Have    
    ------------------------- ------ --------
    ExtUtils::MakeMaker       6.59   7.08    
    POE::Filter::HTTP::Parser 1.06   1.06    
    Test::More                0.47   1.001014
    Test::POE::Client::TCP    0.1    1.12    

configure_requires:

    Module                    Need   Have    
    ------------------------- ------ --------
    ExtUtils::MakeMaker       6.59   7.08    


------------------------------
ENVIRONMENT AND OTHER CONTEXT
------------------------------

Environment variables:

    AUTOMATED_TESTING = 1
    LANG = en_US.UTF-8
    LANGUAGE = en_US:en
    PATH = /home/sand/bin:/usr/local/bin:/usr/bin:/bin:/usr/games:/usr/local/perl/bin:/usr/X11/bin:/sbin:/usr/sbin
    PERL5LIB = /tmp/loop_over_bdir-27534-C0cSbh/Alien-ActiveMQ-0.00005-IOiieg/blib/arch:/tmp/loop_over_bdir-27534-C0cSbh/Alien-ActiveMQ-0.00005-IOiieg/blib/lib
    PERL5OPT = 
    PERL5_CPANPLUS_IS_RUNNING = 13363
    PERL5_CPAN_IS_RUNNING = 13363
    PERL_MM_USE_DEFAULT = 1
    SHELL = /usr/bin/zsh
    TERM = screen

Perl special variables (and OS-specific diagnostics, for MSWin32):

    $^X = /tmp/basesmoker-reloperl-MiG1/bin/perl
    $UID/$EUID = 1005 / 1005
    $GID = 1005 1005
    $EGID = 1005 1005

Perl module toolchain versions installed:

    Module              Have    
    ------------------- --------
    CPAN                2.10    
    CPAN::Meta          2.150005
    Cwd                 3.58    
    ExtUtils::CBuilder  0.280223
    ExtUtils::Command   7.08    
    ExtUtils::Install   2.04    
    ExtUtils::MakeMaker 7.08    
    ExtUtils::Manifest  1.70    
    ExtUtils::ParseXS   3.30    
    File::Spec          3.58    
    JSON                2.90    
    JSON::PP            2.27300 
    Module::Build       0.4214  
    Module::Signature   0.79    
    Parse::CPAN::Meta   1.4417  
    Test::Harness       3.35    
    Test::More          1.001014
    YAML                1.15    
    YAML::Syck          1.29    
    version             0.9909  


--

Summary of my perl5 (revision 5 version 23 subversion 3) configuration:
  Commit id: bc150b6ce0f4272607b4e7ce03d2abbf81418215
  Platform:
    osname=linux, osvers=4.0.0-2-amd64, archname=x86_64-linux-thread-multi-ld
    uname='linux k83 4.0.0-2-amd64 #1 smp debian 4.0.5-1 (2015-06-16) x86_64 gnulinux '
    config_args='-Dprefix=/home/sand/src/perl/repoperls/installed-perls/perl/v5.23.2-220-gbc150b6/a2da -Dmyhostname=k83 -Dinstallusrbinperl=n -Uversiononly -Dusedevel -des -Ui_db -Duseithreads -Duselongdouble -DDEBUGGING=-g'
    hint=recommended, useposix=true, d_sigaction=define
    useithreads=define, usemultiplicity=define
    use64bitint=define, use64bitall=define, uselongdouble=define
    usemymalloc=n, bincompat5005=undef
  Compiler:
    cc='cc', ccflags ='-D_REENTRANT -D_GNU_SOURCE -fwrapv -fno-strict-aliasing -pipe -fstack-protector-strong -I/usr/local/include -D_LARGEFILE_SOURCE -D_FILE_OFFSET_BITS=64',
    optimize='-O2 -g',
    cppflags='-D_REENTRANT -D_GNU_SOURCE -fwrapv -fno-strict-aliasing -pipe -fstack-protector-strong -I/usr/local/include'
    ccversion='', gccversion='5.2.1 20150808', gccosandvers=''
    intsize=4, longsize=8, ptrsize=8, doublesize=8, byteorder=12345678, doublekind=3
    d_longlong=define, longlongsize=8, d_longdbl=define, longdblsize=16, longdblkind=3
    ivtype='long', ivsize=8, nvtype='long double', nvsize=16, Off_t='off_t', lseeksize=8
    alignbytes=16, prototype=define
  Linker and Libraries:
    ld='cc', ldflags =' -fstack-protector-strong -L/usr/local/lib'
    libpth=/usr/local/lib /usr/lib/gcc/x86_64-linux-gnu/5/include-fixed /usr/include/x86_64-linux-gnu /usr/lib /lib/x86_64-linux-gnu /lib/../lib /usr/lib/x86_64-linux-gnu /usr/lib/../lib /lib
    libs=-lpthread -lnsl -lgdbm -ldb -ldl -lm -lcrypt -lutil -lc -lgdbm_compat
    perllibs=-lpthread -lnsl -ldl -lm -lcrypt -lutil -lc
    libc=libc-2.19.so, so=so, useshrplib=false, libperl=libperl.a
    gnulibc_version='2.19'
  Dynamic Linking:
    dlsrc=dl_dlopen.xs, dlext=so, d_dlsymun=undef, ccdlflags='-Wl,-E'
    cccdlflags='-fPIC', lddlflags='-shared -O2 -g -L/usr/local/lib -fstack-protector-strong'


Characteristics of this binary (from libperl): 
  Compile-time options: HAS_TIMES MULTIPLICITY PERLIO_LAYERS
                        PERL_COPY_ON_WRITE PERL_DONT_CREATE_GVSV
                        PERL_HASH_FUNC_ONE_AT_A_TIME_HARD
                        PERL_IMPLICIT_CONTEXT PERL_MALLOC_WRAP
                        PERL_PRESERVE_IVUV PERL_USE_DEVEL USE_64_BIT_ALL
                        USE_64_BIT_INT USE_ITHREADS USE_LARGE_FILES
                        USE_LOCALE USE_LOCALE_COLLATE USE_LOCALE_CTYPE
                        USE_LOCALE_NUMERIC USE_LOCALE_TIME USE_LONG_DOUBLE
                        USE_PERLIO USE_PERL_ATOF USE_REENTRANT_API
  Built under linux
  Compiled at Sep  9 2015 08:01:20
  %ENV:
    PERL5LIB="/tmp/loop_over_bdir-27534-C0cSbh/Alien-ActiveMQ-0.00005-IOiieg/blib/arch:/tmp/loop_over_bdir-27534-C0cSbh/Alien-ActiveMQ-0.00005-IOiieg/blib/lib"
    PERL5OPT=""
    PERL5_CPANPLUS_IS_RUNNING="13363"
    PERL5_CPAN_IS_RUNNING="13363"
    PERL_MM_USE_DEFAULT="1"
  @INC:
    /tmp/loop_over_bdir-27534-C0cSbh/Alien-ActiveMQ-0.00005-IOiieg/blib/arch
    /tmp/loop_over_bdir-27534-C0cSbh/Alien-ActiveMQ-0.00005-IOiieg/blib/lib
    /home/sand/src/perl/repoperls/installed-perls/perl/v5.23.2-220-gbc150b6/a2da/lib/site_perl/5.23.3/x86_64-linux-thread-multi-ld
    /home/sand/src/perl/repoperls/installed-perls/perl/v5.23.2-220-gbc150b6/a2da/lib/site_perl/5.23.3
    /home/sand/src/perl/repoperls/installed-perls/perl/v5.23.2-220-gbc150b6/a2da/lib/5.23.3/x86_64-linux-thread-multi-ld
    /home/sand/src/perl/repoperls/installed-perls/perl/v5.23.2-220-gbc150b6/a2da/lib/5.23.3
    .