Back
From: metabase:user:8286d1fc-3d52-11e2-9ec4-cb9cdd236785
Subject: PASS Nagios-Scrape-0.03 v5.18.0 RC0 GNU/Linux
Date: 2013-05-11T20:41:38Z
This distribution has been tested as part of the CPAN Testers
project, supporting the Perl programming language. See
http://wiki.cpantesters.org/ for more information or email
questions to cpan-testers-discuss@perl.org
--
Dear Joe Topjian,
This is a computer-generated report for Nagios-Scrape-0.03
on perl 5.18.0, created by CPAN-Reporter-1.2010.
Thank you for uploading your work to CPAN. Congratulations!
All tests were successful.
Sections of this report:
* Tester comments
* Program output
* Prerequisites
* Environment and other context
------------------------------
TESTER COMMENTS
------------------------------
Additional comments from tester:
this report is from an automated smoke testing program
and was not reviewed by a human for accuracy
------------------------------
PROGRAM OUTPUT
------------------------------
Output from '/usr/bin/make test':
PERL_DL_NONLAZY=1 /opt/perlno22-5.18.0-RC0/bin/perl "-MExtUtils::Command::MM" "-e" "test_harness(0, 'blib/lib', 'blib/arch')" t/*.t
# Testing Nagios::Scrape 0.03, Perl 5.018000, /opt/perlno22-5.18.0-RC0/bin/perl
[13:41:25] t/00-load.t ....... ok 680 ms
[13:41:26] t/manifest.t ...... ok 616 ms
[13:41:27] t/pod-coverage.t .. ok 970 ms
[13:41:28] t/pod.t ........... ok 616 ms
[13:41:28] t/scrape.t ........ ok 764 ms
[13:41:28]
All tests successful.
Files=5, Tests=21, 3 wallclock secs ( 0.09 usr 0.02 sys + 0.96 cusr 0.11 csys = 1.18 CPU)
Result: PASS
------------------------------
PREREQUISITES
------------------------------
Prerequisite modules loaded:
requires:
Module Need Have
------------------- ---- -------
CGI 0 3.63
Error 0 0.17020
LWP::UserAgent 0 6.05
Test::Exception 0 0.32
Test::More 0 0.98
build_requires:
Module Need Have
------------------- ---- -------
ExtUtils::MakeMaker 0 6.66
------------------------------
ENVIRONMENT AND OTHER CONTEXT
------------------------------
Environment variables:
AUTHOR_TESTING = 1
AUTOMATED_TESTING = 1
LANG = en_US.UTF-8
PATH = /usr/lib/qt-3.3/bin:/usr/kerberos/sbin:/usr/kerberos/bin:/usr/lib/ccache:/usr/local/sbin:/usr/local/bin:/sbin:/bin:/usr/sbin:/usr/bin:/usr/X11R6/bin:/usr/lib/alliance/bin:/root/bin:/usr/lib/alliance/bin
PERL5LIB = /root/.cpan/build/Acme-Crap-0.001002-6qwLGC/blib/arch:/root/.cpan/build/Acme-Crap-0.001002-6qwLGC/blib/lib
PERL5OPT =
PERL5_CPANPLUS_IS_RUNNING = 21084
PERL5_CPAN_IS_RUNNING = 21084
PERL_MM_USE_DEFAULT = 1
SHELL = /bin/bash
TERM = xterm
Perl special variables (and OS-specific diagnostics, for MSWin32):
$^X = /opt/perlno22-5.18.0-RC0/bin/perl
$UID/$EUID = 0 / 0
$GID = 0 0 1 2 3 4 6 10
$EGID = 0 0 1 2 3 4 6 10
Perl module toolchain versions installed:
Module Have
------------------- --------
CPAN 2.00
CPAN::Meta 2.130880
Cwd 3.40
ExtUtils::CBuilder 0.280205
ExtUtils::Command 1.17
ExtUtils::Install 1.54
ExtUtils::MakeMaker 6.66
ExtUtils::Manifest 1.61
ExtUtils::ParseXS 3.18
File::Spec 3.40
JSON 2.57
JSON::PP 2.27202
Module::Build 0.4005
Module::Signature 0.70
Parse::CPAN::Meta 1.4404
Test::Harness 3.28
Test::More 0.98
YAML 0.84
YAML::Syck 1.25
version 0.9902
--
Summary of my perl5 (revision 5 version 18 subversion 0) configuration:
Snapshot of: d5f315e803fe1953c8cd57acce109a3378ea5d7d
Platform:
osname=linux, osvers=2.6.22.14-72.fc6, archname=i686-linux
uname='linux localhost.localdomain 2.6.22.14-72.fc6 #1 smp wed nov 21 13:44:07 est 2007 i686 i686 i386 gnulinux '
config_args='-Dcc=gcc -Dprefix=/opt/perlno22-5.18.0-RC0'
hint=recommended, useposix=true, d_sigaction=define
useithreads=undef, usemultiplicity=undef
useperlio=define, d_sfio=undef, uselargefiles=define, usesocks=undef
use64bitint=undef, use64bitall=undef, uselongdouble=undef
usemymalloc=n, bincompat5005=undef
Compiler:
cc='gcc', ccflags ='-fno-strict-aliasing -pipe -fstack-protector -I/usr/local/include -D_LARGEFILE_SOURCE -D_FILE_OFFSET_BITS=64',
optimize='-O2',
cppflags='-fno-strict-aliasing -pipe -fstack-protector -I/usr/local/include'
ccversion='', gccversion='4.1.2 20070626 (Red Hat 4.1.2-13)', gccosandvers=''
intsize=4, longsize=4, ptrsize=4, doublesize=8, byteorder=1234
d_longlong=define, longlongsize=8, d_longdbl=define, longdblsize=12
ivtype='long', ivsize=4, nvtype='double', nvsize=8, Off_t='off_t', lseeksize=8
alignbytes=4, prototype=define
Linker and Libraries:
ld='gcc', ldflags =' -fstack-protector -L/usr/local/lib'
libpth=/usr/local/lib /lib /usr/lib
libs=-lnsl -lgdbm -ldb -ldl -lm -lcrypt -lutil -lc
perllibs=-lnsl -ldl -lm -lcrypt -lutil -lc
libc=/lib/libc-2.5.so, so=so, useshrplib=false, libperl=libperl.a
gnulibc_version='2.5'
Dynamic Linking:
dlsrc=dl_dlopen.xs, dlext=so, d_dlsymun=undef, ccdlflags='-Wl,-E'
cccdlflags='-fPIC', lddlflags='-shared -O2 -L/usr/local/lib -fstack-protector'
Characteristics of this binary (from libperl):
Compile-time options: HAS_TIMES PERLIO_LAYERS PERL_DONT_CREATE_GVSV
PERL_MALLOC_WRAP PERL_PRESERVE_IVUV PERL_SAWAMPERSAND
USE_FAST_STDIO USE_LARGE_FILES USE_LOCALE
USE_LOCALE_COLLATE USE_LOCALE_CTYPE
USE_LOCALE_NUMERIC USE_PERLIO USE_PERL_ATOF
Locally applied patches:
RC0
Built under linux
Compiled at May 10 2013 04:22:19
%ENV:
PERL5LIB="/root/.cpan/build/Acme-Crap-0.001002-6qwLGC/blib/arch:/root/.cpan/build/Acme-Crap-0.001002-6qwLGC/blib/lib"
PERL5OPT=""
PERL5_CPANPLUS_IS_RUNNING="21084"
PERL5_CPAN_IS_RUNNING="21084"
PERL_MM_USE_DEFAULT="1"
@INC:
/root/.cpan/build/Acme-Crap-0.001002-6qwLGC/blib/arch
/root/.cpan/build/Acme-Crap-0.001002-6qwLGC/blib/lib
/opt/perlno22-5.18.0-RC0/lib/site_perl/5.18.0/i686-linux
/opt/perlno22-5.18.0-RC0/lib/site_perl/5.18.0
/opt/perlno22-5.18.0-RC0/lib/5.18.0/i686-linux
/opt/perlno22-5.18.0-RC0/lib/5.18.0
.