Report for Spreadsheet-Simple-1.0.0

Back
From: metabase:user:314402c4-2aae-11df-837a-5e0a49663a4f
Subject: PASS Spreadsheet-Simple-1.0.0 v5.24.0 GNU/Linux
Date: 2016-10-02T13:14:41Z

This distribution has been tested as part of the CPAN Testers
project, supporting the Perl programming language.  See
http://wiki.cpantesters.org/ for more information or email
questions to cpan-testers-discuss@perl.org


--
Dear Dylan William Hardison,

This is a computer-generated report for Spreadsheet-Simple-1.0.0
on perl 5.24.0, created by CPAN-Reporter-1.2018.

Thank you for uploading your work to CPAN.  Congratulations!
All tests were successful.

Sections of this report:

    * Tester comments
    * Program output
    * Prerequisites
    * Environment and other context

------------------------------
TESTER COMMENTS
------------------------------

Additional comments from tester:

none provided

------------------------------
PROGRAM OUTPUT
------------------------------

Output from '/usr/bin/make test':

PERL_DL_NONLAZY=1 "/bbbike/perl-5.24.0/bin/perl5.24.0" "-MExtUtils::Command::MM" "-MTest::Harness" "-e" "undef *Test::Harness::Switches; test_harness(0, 'blib/lib', 'blib/arch')" t/*.t
# Testing Spreadsheet::Simple 1.0.0, Perl 5.024000, /bbbike/perl-5.24.0/bin/perl5.24.0
t/000-load.t .............. ok
Class::MOP::load_class is deprecated at /opt/perl-5.24.0/lib/site_perl/5.24.0/x86_64-linux/Class/MOP.pm line 69.
	Class::MOP::load_class("Spreadsheet::Simple::Document") called at /tmpfs/.cpan-build-cpansand/2016100212/Spreadsheet-Simple-1.0.0-0/blib/lib/Spreadsheet/Simple.pm line 62
	Spreadsheet::Simple::new_document(Spreadsheet::Simple=HASH(0x329d7c8)) called at t/001-basic.t line 11
Class::MOP::load_class is deprecated at /opt/perl-5.24.0/lib/site_perl/5.24.0/x86_64-linux/Class/MOP.pm line 69.
	Class::MOP::load_class("Spreadsheet::Simple::Row") called at /tmpfs/.cpan-build-cpansand/2016100212/Spreadsheet-Simple-1.0.0-0/blib/lib/Spreadsheet/Simple/Types.pm line 37
	Spreadsheet::Simple::Types::__ANON__(ARRAY(0x32e9320)) called at /opt/perl-5.24.0/lib/site_perl/5.24.0/x86_64-linux/Moose/Meta/TypeCoercion.pm line 65
	Moose::Meta::TypeCoercion::__ANON__(ARRAY(0x32e9320)) called at /opt/perl-5.24.0/lib/site_perl/5.24.0/x86_64-linux/Moose/Meta/TypeCoercion.pm line 100
	Moose::Meta::TypeCoercion::coerce(Moose::Meta::TypeCoercion=HASH(0x3298ff0), ARRAY(0x32e9320)) called at /opt/perl-5.24.0/lib/site_perl/5.24.0/x86_64-linux/Moose/Meta/TypeConstraint.pm line 145
	Moose::Meta::TypeConstraint::coerce(Moose::Meta::TypeConstraint::Parameterizable=HASH(0x32870c0), ARRAY(0x32e9320)) called at /opt/perl-5.24.0/lib/site_perl/5.24.0/MooseX/Types/TypeDecorator.pm line 221
	MooseX::Types::TypeDecorator::_try_delegate(MooseX::Types::TypeDecorator=HASH(0x32e98d8), "coerce", ARRAY(0x32e9320)) called at /opt/perl-5.24.0/lib/site_perl/5.24.0/MooseX/Types/TypeDecorator.pm line 186
	MooseX::Types::TypeDecorator::AUTOLOAD(MooseX::Types::TypeDecorator=HASH(0x32e98d8), ARRAY(0x32e9320)) called at /opt/perl-5.24.0/lib/site_perl/5.24.0/x86_64-linux/Moose/Meta/Attribute.pm line 1271
	Moose::Meta::Attribute::_coerce_and_verify(Moose::Meta::Class::__ANON__::SERIAL::1=HASH(0x3447480), ARRAY(0x32e9320), Spreadsheet::Simple::Sheet=HASH(0x32ee958)) called at /opt/perl-5.24.0/lib/site_perl/5.24.0/x86_64-linux/Moose/Meta/Attribute.pm line 515
	Moose::Meta::Attribute::initialize_instance_slot(Moose::Meta::Class::__ANON__::SERIAL::1=HASH(0x3447480), Moose::Meta::Instance=HASH(0x3468238), Spreadsheet::Simple::Sheet=HASH(0x32ee958), HASH(0x32edf20)) called at /opt/perl-5.24.0/lib/site_perl/5.24.0/x86_64-linux/Class/MOP/Class.pm line 526
	Class::MOP::Class::_construct_instance(Moose::Meta::Class=HASH(0x32ef5c0), HASH(0x32edf20)) called at /opt/perl-5.24.0/lib/site_perl/5.24.0/x86_64-linux/Class/MOP/Class.pm line 496
	Class::MOP::Class::new_object(Moose::Meta::Class=HASH(0x32ef5c0), HASH(0x32edf20)) called at /opt/perl-5.24.0/lib/site_perl/5.24.0/x86_64-linux/Moose/Meta/Class.pm line 273
	Moose::Meta::Class::new_object(Moose::Meta::Class=HASH(0x32ef5c0), HASH(0x32edf20)) called at /opt/perl-5.24.0/lib/site_perl/5.24.0/x86_64-linux/Moose/Object.pm line 24
	Moose::Object::new("Spreadsheet::Simple::Sheet", "name", "test", "rows", ARRAY(0x32e9320)) called at /tmpfs/.cpan-build-cpansand/2016100212/Spreadsheet-Simple-1.0.0-0/blib/lib/Spreadsheet/Simple/Document.pm line 31
	Spreadsheet::Simple::Document::new_sheet(Spreadsheet::Simple::Document=HASH(0x25cabf0), "name", "test", "rows", ARRAY(0x32e9320)) called at t/001-basic.t line 16
t/001-basic.t ............. ok
Class::MOP::load_class is deprecated at /opt/perl-5.24.0/lib/site_perl/5.24.0/x86_64-linux/Class/MOP.pm line 69.
	Class::MOP::load_class() called at /tmpfs/.cpan-build-cpansand/2016100212/Spreadsheet-Simple-1.0.0-0/blib/lib/Spreadsheet/Simple/Types.pm line 26
	Spreadsheet::Simple::Types::__ANON__() called at /opt/perl-5.24.0/lib/site_perl/5.24.0/x86_64-linux/Moose/Meta/TypeCoercion.pm line 65
	Moose::Meta::TypeCoercion::__ANON__() called at /opt/perl-5.24.0/lib/site_perl/5.24.0/x86_64-linux/Moose/Meta/TypeCoercion.pm line 100
	Moose::Meta::TypeCoercion::coerce() called at /opt/perl-5.24.0/lib/site_perl/5.24.0/x86_64-linux/Moose/Meta/TypeConstraint.pm line 145
	Moose::Meta::TypeConstraint::coerce() called at /opt/perl-5.24.0/lib/site_perl/5.24.0/MooseX/Types/TypeDecorator.pm line 221
	MooseX::Types::TypeDecorator::_try_delegate() called at /opt/perl-5.24.0/lib/site_perl/5.24.0/MooseX/Types/TypeDecorator.pm line 186
	MooseX::Types::TypeDecorator::AUTOLOAD() called at /opt/perl-5.24.0/lib/site_perl/5.24.0/x86_64-linux/Moose/Meta/Attribute.pm line 1271
	Moose::Meta::Attribute::_coerce_and_verify() called at /opt/perl-5.24.0/lib/site_perl/5.24.0/x86_64-linux/Moose/Meta/Attribute.pm line 515
	Moose::Meta::Attribute::initialize_instance_slot() called at /opt/perl-5.24.0/lib/site_perl/5.24.0/x86_64-linux/Class/MOP/Class.pm line 526
	Class::MOP::Class::_construct_instance() called at /opt/perl-5.24.0/lib/site_perl/5.24.0/x86_64-linux/Class/MOP/Class.pm line 496
	Class::MOP::Class::new_object() called at /opt/perl-5.24.0/lib/site_perl/5.24.0/x86_64-linux/Moose/Meta/Class.pm line 273
	Moose::Meta::Class::new_object() called at /opt/perl-5.24.0/lib/site_perl/5.24.0/x86_64-linux/Moose/Object.pm line 24
	Moose::Object::new() called at t/002-row.t line 10
	Test::Exception::lives_ok() called at t/002-row.t line 11
t/002-row.t ............... ok
t/003-cell.t .............. ok
t/100-excel.t ............. ok
Class::MOP::load_class is deprecated at /opt/perl-5.24.0/lib/site_perl/5.24.0/x86_64-linux/Class/MOP.pm line 69.
	Class::MOP::load_class("Spreadsheet::Simple::Reader::Excel") called at /tmpfs/.cpan-build-cpansand/2016100212/Spreadsheet-Simple-1.0.0-0/blib/lib/Spreadsheet/Simple.pm line 43
	Spreadsheet::Simple::_build_reader(Spreadsheet::Simple=HASH(0x1386770)) called at reader Spreadsheet::Simple::reader (defined at /tmpfs/.cpan-build-cpansand/2016100212/Spreadsheet-Simple-1.0.0-0/blib/lib/Spreadsheet/Simple.pm line 24) line 8
	Spreadsheet::Simple::reader(Spreadsheet::Simple=HASH(0x1386770)) called at /opt/perl-5.24.0/lib/site_perl/5.24.0/x86_64-linux/Moose/Meta/Method/Delegation.pm line 93
	Spreadsheet::Simple::read_file(Spreadsheet::Simple=HASH(0x1386770), "t/data/100-excel.xls") called at t/101-excel.t line 21
t/101-excel.t ............. ok
t/release-pod-coverage.t .. skipped: these tests are for release candidate testing
t/release-pod-syntax.t .... skipped: these tests are for release candidate testing
All tests successful.
Files=8, Tests=92,  3 wallclock secs ( 0.03 usr  0.02 sys +  2.00 cusr  0.21 csys =  2.26 CPU)
Result: PASS

------------------------------
PREREQUISITES
------------------------------

Prerequisite modules loaded:

requires:

    Module                    Need Have    
    ------------------------- ---- --------
    Moose                     0    2.1806  
    Moose::Role               0    2.1806  
    MooseX::Types             0    0.46    
    MooseX::Types::Moose      0    0.46    
    MooseX::Types::Structured 0    0.35    
    namespace::autoclean      0    0.28    
    Spreadsheet::ParseExcel   0.59 0.65    
    strict                    0    1.11    
    warnings                  0    1.36    

build_requires:

    Module                    Need Have    
    ------------------------- ---- --------
    Path::Class               0.25 0.37    
    Test::Exception           0    0.43    
    Test::More                0    1.302059

configure_requires:

    Module                    Need Have    
    ------------------------- ---- --------
    ExtUtils::MakeMaker       6.30 7.24    


------------------------------
ENVIRONMENT AND OTHER CONTEXT
------------------------------

Environment variables:

    LANG = C
    LC_ALL = de_DE.UTF-8
    PATH = /usr/local/bin:/usr/bin:/bin:/usr/local/sbin:/usr/sbin:/sbin:/home/cpansand/bin/linux-gnu:/home/cpansand/bin/sh:/home/cpansand/bin:/usr/games:/home/cpansand/devel:/home/eserte/src/srezic-misc/scripts
    PERL5LIB = /home/cpansand/.cpan/build/2016100212/App-nrun-v1.1.2-0/blib/arch:/home/cpansand/.cpan/build/2016100212/App-nrun-v1.1.2-0/blib/lib
    PERL5OPT = 
    PERL5_CPANPLUS_IS_RUNNING = 6599
    PERL5_CPAN_IS_RUNNING = 6599
    PERL5_CPAN_IS_RUNNING_IN_RECURSION = 9554,6599
    PERLDOC = -MPod::Perldoc::ToTextOverstrike
    PERL_BATCH = yes
    PERL_CANARY_STABILITY_NOPROMPT = 1
    PERL_CPAN_REPORTER_CONFIG = /run/user/1023/cpansmoker/2016100209/cpanreporter_001_config.ini
    PERL_EXTUTILS_AUTOINSTALL = --defaultdeps
    PERL_PARALLEL_SMOKER = yes
    PERL_USE_UNSAFE_INC = 1
    SHELL = /bin/zsh
    TERM = screen
    TMPDIR = /run/user/1023/cpansmoker/2016100209

Perl special variables (and OS-specific diagnostics, for MSWin32):

    $^X = /bbbike/perl-5.24.0/bin/perl5.24.0
    $UID/$EUID = 1023 / 1023
    $GID = 1023 1023
    $EGID = 1023 1023

Perl module toolchain versions installed:

    Module              Have    
    ------------------- --------
    CPAN                2.14    
    CPAN::Meta          2.150010
    Cwd                 3.63    
    ExtUtils::CBuilder  0.280225
    ExtUtils::Command   7.24    
    ExtUtils::Install   2.04    
    ExtUtils::MakeMaker 7.24    
    ExtUtils::Manifest  1.70    
    ExtUtils::ParseXS   3.31    
    File::Spec          3.63    
    JSON                2.90    
    JSON::PP            2.27400 
    Module::Build       0.4220  
    Module::Signature   0.79    
    Parse::CPAN::Meta   2.150010
    Test::Harness       3.36    
    Test::More          1.302059
    YAML                1.18    
    YAML::Syck          1.29    
    version             0.9917  


--

Summary of my perl5 (revision 5 version 24 subversion 0) configuration:
   
  Platform:
    osname=linux, osvers=3.16.0-4-amd64, archname=x86_64-linux
    uname='linux eserte 3.16.0-4-amd64 #1 smp debian 3.16.7-ckt25-2 (2016-04-08) x86_64 gnulinux '
    config_args='-ds -e -Dprefix=/opt/perl-5.24.0 -Dcf_email=srezic@cpan.org'
    hint=recommended, useposix=true, d_sigaction=define
    useithreads=undef, usemultiplicity=undef
    use64bitint=define, use64bitall=define, uselongdouble=undef
    usemymalloc=n, bincompat5005=undef
  Compiler:
    cc='cc', ccflags ='-fwrapv -fno-strict-aliasing -pipe -fstack-protector-strong -I/usr/local/include -D_LARGEFILE_SOURCE -D_FILE_OFFSET_BITS=64 -D_FORTIFY_SOURCE=2',
    optimize='-O2',
    cppflags='-fwrapv -fno-strict-aliasing -pipe -fstack-protector-strong -I/usr/local/include'
    ccversion='', gccversion='4.9.2', gccosandvers=''
    intsize=4, longsize=8, ptrsize=8, doublesize=8, byteorder=12345678, doublekind=3
    d_longlong=define, longlongsize=8, d_longdbl=define, longdblsize=16, longdblkind=3
    ivtype='long', ivsize=8, nvtype='double', nvsize=8, Off_t='off_t', lseeksize=8
    alignbytes=8, prototype=define
  Linker and Libraries:
    ld='cc', ldflags =' -fstack-protector-strong -L/usr/local/lib'
    libpth=/usr/local/lib /usr/lib/gcc/x86_64-linux-gnu/4.9/include-fixed /usr/include/x86_64-linux-gnu /usr/lib /lib/x86_64-linux-gnu /lib/../lib /usr/lib/x86_64-linux-gnu /usr/lib/../lib /lib
    libs=-lpthread -lnsl -lgdbm -ldb -ldl -lm -lcrypt -lutil -lc -lgdbm_compat
    perllibs=-lpthread -lnsl -ldl -lm -lcrypt -lutil -lc
    libc=libc-2.19.so, so=so, useshrplib=false, libperl=libperl.a
    gnulibc_version='2.19'
  Dynamic Linking:
    dlsrc=dl_dlopen.xs, dlext=so, d_dlsymun=undef, ccdlflags='-Wl,-E'
    cccdlflags='-fPIC', lddlflags='-shared -O2 -L/usr/local/lib -fstack-protector-strong'


Characteristics of this binary (from libperl): 
  Compile-time options: HAS_TIMES PERLIO_LAYERS PERL_COPY_ON_WRITE
                        PERL_DONT_CREATE_GVSV
                        PERL_HASH_FUNC_ONE_AT_A_TIME_HARD PERL_MALLOC_WRAP
                        PERL_PRESERVE_IVUV USE_64_BIT_ALL USE_64_BIT_INT
                        USE_LARGE_FILES USE_LOCALE USE_LOCALE_COLLATE
                        USE_LOCALE_CTYPE USE_LOCALE_NUMERIC USE_LOCALE_TIME
                        USE_PERLIO USE_PERL_ATOF
  Built under linux
  Compiled at May  9 2016 17:35:52
  %ENV:
    PERL5LIB="/home/cpansand/.cpan/build/2016100212/App-nrun-v1.1.2-0/blib/arch:/home/cpansand/.cpan/build/2016100212/App-nrun-v1.1.2-0/blib/lib"
    PERL5OPT=""
    PERL5_CPANPLUS_IS_RUNNING="6599"
    PERL5_CPAN_IS_RUNNING="6599"
    PERL5_CPAN_IS_RUNNING_IN_RECURSION="9554,6599"
    PERLDOC="-MPod::Perldoc::ToTextOverstrike"
    PERL_BATCH="yes"
    PERL_CANARY_STABILITY_NOPROMPT="1"
    PERL_CPAN_REPORTER_CONFIG="/run/user/1023/cpansmoker/2016100209/cpanreporter_001_config.ini"
    PERL_EXTUTILS_AUTOINSTALL="--defaultdeps"
    PERL_PARALLEL_SMOKER="yes"
    PERL_USE_UNSAFE_INC="1"
  @INC:
    /home/cpansand/.cpan/build/2016100212/App-nrun-v1.1.2-0/blib/arch
    /home/cpansand/.cpan/build/2016100212/App-nrun-v1.1.2-0/blib/lib
    /opt/perl-5.24.0/lib/site_perl/5.24.0/x86_64-linux
    /opt/perl-5.24.0/lib/site_perl/5.24.0
    /opt/perl-5.24.0/lib/5.24.0/x86_64-linux
    /opt/perl-5.24.0/lib/5.24.0
    .