Report for Test-Differences-0.62

Back
From: metabase:user:30f4dfbe-2aae-11df-837a-5e0a49663a4f
Subject: PASS Test-Differences-0.62 v5.8.9 GNU/Linux
Date: 2014-07-17T19:40:16Z

This distribution has been tested as part of the CPAN Testers
project, supporting the Perl programming language.  See
http://wiki.cpantesters.org/ for more information or email
questions to cpan-testers-discuss@perl.org


--
Dear David Cantrell,

This is a computer-generated report for Test-Differences-0.62
on perl 5.8.9, created by CPAN-Reporter-1.2010.

Thank you for uploading your work to CPAN.  Congratulations!
All tests were successful.

Sections of this report:

    * Tester comments
    * Program output
    * Prerequisites
    * Environment and other context

------------------------------
TESTER COMMENTS
------------------------------

Additional comments from tester:

none provided

------------------------------
PROGRAM OUTPUT
------------------------------

Output from './Build test':

Use of uninitialized value in length at /home/njh/perl5/perlbrew/perls/perl-5.8.9/lib/site_perl/5.8.9/Module/Build/Base.pm line 2767.
# Testing Test::Differences 0.62, Perl 5.008009, /home/njh/perl5/perlbrew/perls/perl-5.8.9/bin/perl
t/00-load.t ......... ok
t/boilerplate.t ..... ok
t/column-headers.t .. ok
t/diff_styles.t ..... ok
t/example.t ......... ok
t/flatten.t ......... ok
t/pass.t ............ ok
t/pod-coverage.t .... ok
t/pod.t ............. ok
t/regression.t ...... ok
t/struct.t .......... ok
# This test misuses TODO: these TODOs are actually real tests.
t/test.t ............ ok
t/text_vs_data.t .... ok
t/undef.t ........... ok
All tests successful.
Files=14, Tests=47, 16 wallclock secs ( 0.94 usr  0.16 sys + 11.83 cusr  0.59 csys = 13.52 CPU)
Result: PASS

------------------------------
PREREQUISITES
------------------------------

Prerequisite modules loaded:

requires:

    Module              Need             Have
    ------------------- ---------------- ----
  ! build_requires      HASH(0x13a5250c) n/a 
  ! opt_build_requires  HASH(0x13a88b48) n/a 
  ! opt_requires        HASH(0x1352182c) n/a 
  ! requires            HASH(0x12e9250c) n/a 

configure_requires:

    Module              Need             Have
    ------------------- ---------------- ----
    ExtUtils::MakeMaker 0                6.86


------------------------------
ENVIRONMENT AND OTHER CONTEXT
------------------------------

Environment variables:

    LANG = en_GB
    PATH = /home/njh/perl5/perlbrew/bin:/home/njh/perl5/perlbrew/perls/perl-5.8.9/bin:/home/njh/perl5/perlbrew/bin:/usr/bin:/bin
    PERL5LIB = 
    PERL5OPT = 
    PERL5_CPANPLUS_IS_RUNNING = 10507
    PERL5_CPAN_IS_RUNNING = 10507
    PERLBREW_BASHRC_VERSION = 0.67
    PERLBREW_HOME = /home/njh/.perlbrew
    PERLBREW_MANPATH = /home/njh/perl5/perlbrew/perls/perl-5.8.9/man
    PERLBREW_PATH = /home/njh/perl5/perlbrew/bin:/home/njh/perl5/perlbrew/perls/perl-5.8.9/bin
    PERLBREW_PERL = perl-5.8.9
    PERLBREW_ROOT = /home/njh/perl5/perlbrew
    PERLBREW_VERSION = 0.67
    SHELL = /bin/sh
    TMPDIR = /tmp

Perl special variables (and OS-specific diagnostics, for MSWin32):

    $^X = /home/njh/perl5/perlbrew/perls/perl-5.8.9/bin/perl
    $UID/$EUID = 1000 / 1000
    $GID = 1000 4 24 25 29 30 44 46 200 1000
    $EGID = 1000 4 24 25 29 30 44 46 200 1000

Perl module toolchain versions installed:

    Module              Have    
    ------------------- --------
    CPAN                2.05    
    CPAN::Meta          2.120351
    Cwd                 3.40    
    ExtUtils::CBuilder  0.280205
    ExtUtils::Command   1.16    
    ExtUtils::Install   1.54    
    ExtUtils::MakeMaker 6.86    
    ExtUtils::Manifest  1.60    
    ExtUtils::ParseXS   3.18    
    File::Spec          3.40    
    JSON                n/a     
    JSON::PP            2.27203 
    Module::Build       0.4003  
    Module::Signature   n/a     
    Parse::CPAN::Meta   1.4405  
    Test::Harness       3.26    
    Test::More          0.98    
    YAML                0.84    
    YAML::Syck          1.22    
    version             0.9901  


--

Summary of my perl5 (revision 5 version 8 subversion 9) configuration:
  Platform:
    osname=linux, osvers=2.6.32-isobel-wii, archname=ppc-linux-thread-multi
    uname='linux wii.bandsman.co.uk 2.6.32-isobel-wii #1 preempt sun dec 6 20:42:34 cet 2009 ppc gnulinux '
    config_args='-de -Dprefix=/home/njh/perl5/perlbrew/perls/perl-5.8.9 -Duseithreads -Dusemultiplicity -Accflags=-Os -W -Wformat=2 -Wswitch -Wshadow -Wwrite-strings -Wuninitialized -Wall -pipe -mcpu=750 -fomit-frame-pointer -pedantic -D_FORTIFY_SOURCE=2 -Wpointer-arith -Wstrict-prototypes -fstack-protector -Wstack-protector -Wextra -Wbad-function-cast -Wcast-align -Wcast-qual -Wdisabled-optimization -Wendif-labels -Wfloat-equal -Wformat-nonliteral -Winline -Wmissing-declarations -Wmissing-prototypes -Wnested-externs -Wpointer-arith -Wundef -Wformat-security -Aeval:scriptdir=/home/njh/perl5/perlbrew/perls/perl-5.8.9/bin'
    hint=recommended, useposix=true, d_sigaction=define
    usethreads=define use5005threads=undef useithreads=define usemultiplicity=define
    useperlio=define d_sfio=undef uselargefiles=define usesocks=undef
    use64bitint=undef use64bitall=undef uselongdouble=undef
    usemymalloc=n, bincompat5005=undef
  Compiler:
    cc='cc', ccflags ='-D_REENTRANT -D_GNU_SOURCE -Os -W -Wformat=2 -Wswitch -Wshadow -Wwrite-strings -Wuninitialized -Wall -pipe -mcpu=750 -fomit-frame-pointer -pedantic -D_FORTIFY_SOURCE=2 -Wpointer-arith -Wstrict-prototypes -fstack-protector -Wstack-protector -Wextra -Wbad-function-cast -Wcast-align -Wcast-qual -Wdisabled-optimization -Wendif-labels -Wfloat-equal -Wformat-nonliteral -Winline -Wmissing-declarations -Wmissing-prototypes -Wnested-externs -Wpointer-arith -Wundef -Wformat-security -fno-strict-aliasing -I/usr/local/include -D_LARGEFILE_SOURCE -D_FILE_OFFSET_BITS=64',
    optimize='-O1',
    cppflags='-D_REENTRANT -D_GNU_SOURCE -Os -W -Wformat=2 -Wswitch -Wshadow -Wwrite-strings -Wuninitialized -Wall -pipe -mcpu=750 -fomit-frame-pointer -pedantic -D_FORTIFY_SOURCE=2 -Wpointer-arith -Wstrict-prototypes -fstack-protector -Wstack-protector -Wextra -Wbad-function-cast -Wcast-align -Wcast-qual -Wdisabled-optimization -Wendif-labels -Wfloat-equal -Wformat-nonliteral -Winline -Wmissing-declarations -Wmissing-prototypes -Wnested-externs -Wpointer-arith -Wundef -Wformat-security -fno-strict-aliasing -I/usr/local/include'
    ccversion='', gccversion='4.4.5', gccosandvers=''
    intsize=4, longsize=4, ptrsize=4, doublesize=8, byteorder=4321
    d_longlong=define, longlongsize=8, d_longdbl=define, longdblsize=16
    ivtype='long', ivsize=4, nvtype='double', nvsize=8, Off_t='off_t', lseeksize=8
    alignbytes=8, prototype=define
  Linker and Libraries:
    ld='cc', ldflags =' -L/usr/local/lib'
    libpth=/usr/local/lib /lib/../lib /usr/lib/../lib /lib /usr/lib /usr/lib64
    libs=-lnsl -lgdbm -ldb -ldl -lm -lcrypt -lutil -lpthread -lc -lgdbm_compat
    perllibs=-lnsl -ldl -lm -lcrypt -lutil -lpthread -lc -lgdbm_compat
    libc=/lib/libc-2.11.3.so, so=so, useshrplib=false, libperl=libperl.a
    gnulibc_version='2.11.3'
  Dynamic Linking:
    dlsrc=dl_dlopen.xs, dlext=so, d_dlsymun=undef, ccdlflags='-Wl,-E'
    cccdlflags='-fPIC', lddlflags='-shared -O1 -L/usr/local/lib'


Characteristics of this binary (from libperl): 
  Compile-time options: MULTIPLICITY PERL_IMPLICIT_CONTEXT PERL_MALLOC_WRAP
                        USE_FAST_STDIO USE_ITHREADS USE_LARGE_FILES
                        USE_PERLIO USE_REENTRANT_API
  Built under linux
  Compiled at Jan 26 2013 12:57:03
  %ENV:
    PERL5LIB=""
    PERL5OPT=""
    PERL5_CPANPLUS_IS_RUNNING="10507"
    PERL5_CPAN_IS_RUNNING="10507"
    PERLBREW_BASHRC_VERSION="0.67"
    PERLBREW_HOME="/home/njh/.perlbrew"
    PERLBREW_MANPATH="/home/njh/perl5/perlbrew/perls/perl-5.8.9/man"
    PERLBREW_PATH="/home/njh/perl5/perlbrew/bin:/home/njh/perl5/perlbrew/perls/perl-5.8.9/bin"
    PERLBREW_PERL="perl-5.8.9"
    PERLBREW_ROOT="/home/njh/perl5/perlbrew"
    PERLBREW_VERSION="0.67"
  @INC:
    /home/njh/perl5/perlbrew/perls/perl-5.8.9/lib/5.8.9/ppc-linux-thread-multi
    /home/njh/perl5/perlbrew/perls/perl-5.8.9/lib/5.8.9
    /home/njh/perl5/perlbrew/perls/perl-5.8.9/lib/site_perl/5.8.9/ppc-linux-thread-multi
    /home/njh/perl5/perlbrew/perls/perl-5.8.9/lib/site_perl/5.8.9
    .