Back
From: metabase:user:320bfe00-2aae-11df-837a-5e0a49663a4f
Subject: PASS MozRepl-RemoteObject-0.39 v5.8.5 GNU/Linux
Date: 2016-05-24T20:22:03Z
This distribution has been tested as part of the CPAN Testers
project, supporting the Perl programming language. See
http://wiki.cpantesters.org/ for more information or email
questions to cpan-testers-discuss@perl.org
--
Dear Max Maischein,
This is a computer-generated report for MozRepl-RemoteObject-0.39
on perl 5.8.5, created by CPAN-Reporter-1.2016.
Thank you for uploading your work to CPAN. Congratulations!
All tests were successful.
Sections of this report:
* Tester comments
* Program output
* Prerequisites
* Environment and other context
------------------------------
TESTER COMMENTS
------------------------------
Additional comments from tester:
this report is from an automated smoke testing program
and was not reviewed by a human for accuracy
------------------------------
PROGRAM OUTPUT
------------------------------
Output from '/usr/bin/make test':
PERL_DL_NONLAZY=1 "/home/sand/src/perl/repoperls/installed-perls/perl/perl-5.8.5/8942/bin/perl" "-MExtUtils::Command::MM" "-MTest::Harness" "-e" "undef *Test::Harness::Switches; test_harness(0, 'blib/lib', 'blib/arch')" t/*.t
# Testing MozRepl::RemoteObject 0.39, Perl 5.008005
# Carp 1.38
# Config <unknown>
# Encode 2.83
# Encode::Alias 2.20
# Encode::Config 2.05
# Encode::Encoding 2.07
# Exporter 5.72
# Exporter::Heavy 5.72
# JSON 2.90
# JSON::XS 3.02
# List::Util 1.45
# MozRepl::RemoteObject 0.39
# MozRepl::RemoteObject::Methods 0.39
# Scalar::Util 1.45
# Test::Builder 1.302020
# Test::Builder::Formatter 1.302020
# Test::Builder::Module 1.302020
# Test::Builder::TodoDiag 1.302020
# Test::More 1.302020
# Test2::API 1.302020
# Test2::API::Context 1.302020
# Test2::API::Instance 1.302020
# Test2::API::Stack 1.302020
# Test2::Event 1.302020
# Test2::Event::Bail 1.302020
# Test2::Event::Diag 1.302020
# Test2::Event::Exception 1.302020
# Test2::Event::Note 1.302020
# Test2::Event::Ok 1.302020
# Test2::Event::Plan 1.302020
# Test2::Event::Skip 1.302020
# Test2::Event::Subtest 1.302020
# Test2::Event::Waiting 1.302020
# Test2::Formatter 1.302020
# Test2::Formatter::TAP 1.302020
# Test2::Hub 1.302020
# Test2::Hub::Interceptor 1.302020
# Test2::Hub::Interceptor::Terminator 1.302020
# Test2::Hub::Subtest 1.302020
# Test2::Util 1.302020
# Test2::Util::ExternalMeta 1.302020
# Test2::Util::HashBase 1.302020
# Test2::Util::Trace 1.302020
# Types::Serialiser 1.0
# XSLoader 0.20
# attributes 0.06
# base 2.23
# bytes 1.01
# common::sense 3.74
# constant 1.33
# overload 1.01
# strict 1.03
# vars 1.01
# warnings 1.03
# warnings::register 1.00
t/00-load.t .................... ok
t/01-appversion.t .............. skipped: Couldn't connect to MozRepl: Can't locate MozRepl.pm in @INC (@INC contains: /tmp/loop_over_bdir-19725-aVZFcm/MozRepl-RemoteObject-0.39-0/blib/lib /tmp/loop_over_bdir-19725-aVZFcm/MozRepl-RemoteObject-0.39-0/blib/arch /home/sand/src/perl/repoperls/installed-perls/perl/perl-5.8.5/8942/lib/5.8.5/x86_64-linux-ld /home/sand/src/perl/repoperls/installed-perls/perl/perl-5.8.5/8942/lib/5.8.5 /home/sand/src/perl/repoperls/installed-perls/perl/perl-5.8.5/8942/lib/site_perl/5.8.5/x86_64-linux-ld /home/sand/src/perl/repoperls/installed-perls/perl/perl-5.8.5/8942/lib/site_perl/5.8.5 /home/sand/src/perl/repoperls/installed-perls/perl/perl-5.8.5/8942/lib/site_perl .) at /tmp/loop_over_bdir-19725-aVZFcm/MozRepl-RemoteObject-0.39-0/blib/lib/MozRepl/RemoteObject.pm line 402.
# --- Loading object functionality into repl
t/01-array.t ................... skipped: Couldn't connect to MozRepl: Can't locate MozRepl.pm in @INC (@INC contains: /tmp/loop_over_bdir-19725-aVZFcm/MozRepl-RemoteObject-0.39-0/blib/lib /tmp/loop_over_bdir-19725-aVZFcm/MozRepl-RemoteObject-0.39-0/blib/arch /home/sand/src/perl/repoperls/installed-perls/perl/perl-5.8.5/8942/lib/5.8.5/x86_64-linux-ld /home/sand/src/perl/repoperls/installed-perls/perl/perl-5.8.5/8942/lib/5.8.5 /home/sand/src/perl/repoperls/installed-perls/perl/perl-5.8.5/8942/lib/site_perl/5.8.5/x86_64-linux-ld /home/sand/src/perl/repoperls/installed-perls/perl/perl-5.8.5/8942/lib/site_perl/5.8.5 /home/sand/src/perl/repoperls/installed-perls/perl/perl-5.8.5/8942/lib/site_perl .) at /tmp/loop_over_bdir-19725-aVZFcm/MozRepl-RemoteObject-0.39-0/blib/lib/MozRepl/RemoteObject.pm line 402.
[error] Cannot assign requested address
t/01-backend-anyevent-timer.t .. skipped: Couldn't connect to Firefox: Failed to connect to , Cannot assign requested address at /tmp/loop_over_bdir-19725-aVZFcm/MozRepl-RemoteObject-0.39-0/blib/lib/MozRepl/AnyEvent.pm line 187.
t/01-backend-anyevent.t ........ skipped: Couldn't connect to Firefox: Cannot assign requested address at /tmp/loop_over_bdir-19725-aVZFcm/MozRepl-RemoteObject-0.39-0/blib/lib/MozRepl/AnyEvent.pm line 187.
t/01-callback-overhead.t ....... skipped: Couldn't connect to MozRepl: Can't locate MozRepl.pm in @INC (@INC contains: /tmp/loop_over_bdir-19725-aVZFcm/MozRepl-RemoteObject-0.39-0/blib/lib /tmp/loop_over_bdir-19725-aVZFcm/MozRepl-RemoteObject-0.39-0/blib/arch /home/sand/src/perl/repoperls/installed-perls/perl/perl-5.8.5/8942/lib/5.8.5/x86_64-linux-ld /home/sand/src/perl/repoperls/installed-perls/perl/perl-5.8.5/8942/lib/5.8.5 /home/sand/src/perl/repoperls/installed-perls/perl/perl-5.8.5/8942/lib/site_perl/5.8.5/x86_64-linux-ld /home/sand/src/perl/repoperls/installed-perls/perl/perl-5.8.5/8942/lib/site_perl/5.8.5 /home/sand/src/perl/repoperls/installed-perls/perl/perl-5.8.5/8942/lib/site_perl .) at /tmp/loop_over_bdir-19725-aVZFcm/MozRepl-RemoteObject-0.39-0/blib/lib/MozRepl/RemoteObject.pm line 402.
t/01-callback.t ................ skipped: Couldn't connect to MozRepl: Can't locate MozRepl.pm in @INC (@INC contains: /tmp/loop_over_bdir-19725-aVZFcm/MozRepl-RemoteObject-0.39-0/blib/lib /tmp/loop_over_bdir-19725-aVZFcm/MozRepl-RemoteObject-0.39-0/blib/arch /home/sand/src/perl/repoperls/installed-perls/perl/perl-5.8.5/8942/lib/5.8.5/x86_64-linux-ld /home/sand/src/perl/repoperls/installed-perls/perl/perl-5.8.5/8942/lib/5.8.5 /home/sand/src/perl/repoperls/installed-perls/perl/perl-5.8.5/8942/lib/site_perl/5.8.5/x86_64-linux-ld /home/sand/src/perl/repoperls/installed-perls/perl/perl-5.8.5/8942/lib/site_perl/5.8.5 /home/sand/src/perl/repoperls/installed-perls/perl/perl-5.8.5/8942/lib/site_perl .) at /tmp/loop_over_bdir-19725-aVZFcm/MozRepl-RemoteObject-0.39-0/blib/lib/MozRepl/RemoteObject.pm line 402.
t/01-constant.t ................ skipped: Couldn't connect to MozRepl: Can't locate MozRepl.pm in @INC (@INC contains: /tmp/loop_over_bdir-19725-aVZFcm/MozRepl-RemoteObject-0.39-0/blib/lib /tmp/loop_over_bdir-19725-aVZFcm/MozRepl-RemoteObject-0.39-0/blib/arch /home/sand/src/perl/repoperls/installed-perls/perl/perl-5.8.5/8942/lib/5.8.5/x86_64-linux-ld /home/sand/src/perl/repoperls/installed-perls/perl/perl-5.8.5/8942/lib/5.8.5 /home/sand/src/perl/repoperls/installed-perls/perl/perl-5.8.5/8942/lib/site_perl/5.8.5/x86_64-linux-ld /home/sand/src/perl/repoperls/installed-perls/perl/perl-5.8.5/8942/lib/site_perl/5.8.5 /home/sand/src/perl/repoperls/installed-perls/perl/perl-5.8.5/8942/lib/site_perl .) at /tmp/loop_over_bdir-19725-aVZFcm/MozRepl-RemoteObject-0.39-0/blib/lib/MozRepl/RemoteObject.pm line 402.
t/01-dive.t .................... skipped: Couldn't connect to MozRepl: Can't locate MozRepl.pm in @INC (@INC contains: /tmp/loop_over_bdir-19725-aVZFcm/MozRepl-RemoteObject-0.39-0/blib/lib /tmp/loop_over_bdir-19725-aVZFcm/MozRepl-RemoteObject-0.39-0/blib/arch /home/sand/src/perl/repoperls/installed-perls/perl/perl-5.8.5/8942/lib/5.8.5/x86_64-linux-ld /home/sand/src/perl/repoperls/installed-perls/perl/perl-5.8.5/8942/lib/5.8.5 /home/sand/src/perl/repoperls/installed-perls/perl/perl-5.8.5/8942/lib/site_perl/5.8.5/x86_64-linux-ld /home/sand/src/perl/repoperls/installed-perls/perl/perl-5.8.5/8942/lib/site_perl/5.8.5 /home/sand/src/perl/repoperls/installed-perls/perl/perl-5.8.5/8942/lib/site_perl .) at /tmp/loop_over_bdir-19725-aVZFcm/MozRepl-RemoteObject-0.39-0/blib/lib/MozRepl/RemoteObject.pm line 402.
[error] Cannot assign requested address
t/01-expr-anyevent.t ........... skipped: Couldn't connect to Firefix: Failed to connect to , Cannot assign requested address at /tmp/loop_over_bdir-19725-aVZFcm/MozRepl-RemoteObject-0.39-0/blib/lib/MozRepl/AnyEvent.pm line 187.
t/01-expr.t .................... skipped: Couldn't connect to MozRepl: Can't locate MozRepl.pm in @INC (@INC contains: /tmp/loop_over_bdir-19725-aVZFcm/MozRepl-RemoteObject-0.39-0/blib/lib /tmp/loop_over_bdir-19725-aVZFcm/MozRepl-RemoteObject-0.39-0/blib/arch /home/sand/src/perl/repoperls/installed-perls/perl/perl-5.8.5/8942/lib/5.8.5/x86_64-linux-ld /home/sand/src/perl/repoperls/installed-perls/perl/perl-5.8.5/8942/lib/5.8.5 /home/sand/src/perl/repoperls/installed-perls/perl/perl-5.8.5/8942/lib/site_perl/5.8.5/x86_64-linux-ld /home/sand/src/perl/repoperls/installed-perls/perl/perl-5.8.5/8942/lib/site_perl/5.8.5 /home/sand/src/perl/repoperls/installed-perls/perl/perl-5.8.5/8942/lib/site_perl .) at /tmp/loop_over_bdir-19725-aVZFcm/MozRepl-RemoteObject-0.39-0/blib/lib/MozRepl/RemoteObject.pm line 402.
t/01-hash.t .................... skipped: Couldn't connect to MozRepl: Can't locate MozRepl.pm in @INC (@INC contains: /tmp/loop_over_bdir-19725-aVZFcm/MozRepl-RemoteObject-0.39-0/blib/lib /tmp/loop_over_bdir-19725-aVZFcm/MozRepl-RemoteObject-0.39-0/blib/arch /home/sand/src/perl/repoperls/installed-perls/perl/perl-5.8.5/8942/lib/5.8.5/x86_64-linux-ld /home/sand/src/perl/repoperls/installed-perls/perl/perl-5.8.5/8942/lib/5.8.5 /home/sand/src/perl/repoperls/installed-perls/perl/perl-5.8.5/8942/lib/site_perl/5.8.5/x86_64-linux-ld /home/sand/src/perl/repoperls/installed-perls/perl/perl-5.8.5/8942/lib/site_perl/5.8.5 /home/sand/src/perl/repoperls/installed-perls/perl/perl-5.8.5/8942/lib/site_perl) at /tmp/loop_over_bdir-19725-aVZFcm/MozRepl-RemoteObject-0.39-0/blib/lib/MozRepl/RemoteObject.pm line 402.
t/01-invoke.t .................. skipped: Couldn't connect to MozRepl: Can't locate MozRepl.pm in @INC (@INC contains: /tmp/loop_over_bdir-19725-aVZFcm/MozRepl-RemoteObject-0.39-0/blib/lib /tmp/loop_over_bdir-19725-aVZFcm/MozRepl-RemoteObject-0.39-0/blib/arch /home/sand/src/perl/repoperls/installed-perls/perl/perl-5.8.5/8942/lib/5.8.5/x86_64-linux-ld /home/sand/src/perl/repoperls/installed-perls/perl/perl-5.8.5/8942/lib/5.8.5 /home/sand/src/perl/repoperls/installed-perls/perl/perl-5.8.5/8942/lib/site_perl/5.8.5/x86_64-linux-ld /home/sand/src/perl/repoperls/installed-perls/perl/perl-5.8.5/8942/lib/site_perl/5.8.5 /home/sand/src/perl/repoperls/installed-perls/perl/perl-5.8.5/8942/lib/site_perl .) at /tmp/loop_over_bdir-19725-aVZFcm/MozRepl-RemoteObject-0.39-0/blib/lib/MozRepl/RemoteObject.pm line 402.
# --- Loading object functionality into repl
t/01-multiline-string.t ........ skipped: Couldn't connect to MozRepl: Can't locate MozRepl.pm in @INC (@INC contains: /tmp/loop_over_bdir-19725-aVZFcm/MozRepl-RemoteObject-0.39-0/blib/lib /tmp/loop_over_bdir-19725-aVZFcm/MozRepl-RemoteObject-0.39-0/blib/arch /home/sand/src/perl/repoperls/installed-perls/perl/perl-5.8.5/8942/lib/5.8.5/x86_64-linux-ld /home/sand/src/perl/repoperls/installed-perls/perl/perl-5.8.5/8942/lib/5.8.5 /home/sand/src/perl/repoperls/installed-perls/perl/perl-5.8.5/8942/lib/site_perl/5.8.5/x86_64-linux-ld /home/sand/src/perl/repoperls/installed-perls/perl/perl-5.8.5/8942/lib/site_perl/5.8.5 /home/sand/src/perl/repoperls/installed-perls/perl/perl-5.8.5/8942/lib/site_perl .) at /tmp/loop_over_bdir-19725-aVZFcm/MozRepl-RemoteObject-0.39-0/blib/lib/MozRepl/RemoteObject.pm line 402.
# --- Loading object functionality into repl
t/01-object.t .................. skipped: Couldn't connect to MozRepl: Can't locate MozRepl.pm in @INC (@INC contains: /tmp/loop_over_bdir-19725-aVZFcm/MozRepl-RemoteObject-0.39-0/blib/lib /tmp/loop_over_bdir-19725-aVZFcm/MozRepl-RemoteObject-0.39-0/blib/arch /home/sand/src/perl/repoperls/installed-perls/perl/perl-5.8.5/8942/lib/5.8.5/x86_64-linux-ld /home/sand/src/perl/repoperls/installed-perls/perl/perl-5.8.5/8942/lib/5.8.5 /home/sand/src/perl/repoperls/installed-perls/perl/perl-5.8.5/8942/lib/site_perl/5.8.5/x86_64-linux-ld /home/sand/src/perl/repoperls/installed-perls/perl/perl-5.8.5/8942/lib/site_perl/5.8.5 /home/sand/src/perl/repoperls/installed-perls/perl/perl-5.8.5/8942/lib/site_perl .) at /tmp/loop_over_bdir-19725-aVZFcm/MozRepl-RemoteObject-0.39-0/blib/lib/MozRepl/RemoteObject.pm line 402.
# --- Loading object functionality into repl
t/01-queue.t ................... skipped: Couldn't connect to MozRepl: Can't locate MozRepl.pm in @INC (@INC contains: /tmp/loop_over_bdir-19725-aVZFcm/MozRepl-RemoteObject-0.39-0/blib/lib /tmp/loop_over_bdir-19725-aVZFcm/MozRepl-RemoteObject-0.39-0/blib/arch /home/sand/src/perl/repoperls/installed-perls/perl/perl-5.8.5/8942/lib/5.8.5/x86_64-linux-ld /home/sand/src/perl/repoperls/installed-perls/perl/perl-5.8.5/8942/lib/5.8.5 /home/sand/src/perl/repoperls/installed-perls/perl/perl-5.8.5/8942/lib/site_perl/5.8.5/x86_64-linux-ld /home/sand/src/perl/repoperls/installed-perls/perl/perl-5.8.5/8942/lib/site_perl/5.8.5 /home/sand/src/perl/repoperls/installed-perls/perl/perl-5.8.5/8942/lib/site_perl .) at /tmp/loop_over_bdir-19725-aVZFcm/MozRepl-RemoteObject-0.39-0/blib/lib/MozRepl/RemoteObject.pm line 402.
t/01-release-action.t .......... skipped: Couldn't connect to MozRepl: Can't locate MozRepl.pm in @INC (@INC contains: /tmp/loop_over_bdir-19725-aVZFcm/MozRepl-RemoteObject-0.39-0/blib/lib /tmp/loop_over_bdir-19725-aVZFcm/MozRepl-RemoteObject-0.39-0/blib/arch /home/sand/src/perl/repoperls/installed-perls/perl/perl-5.8.5/8942/lib/5.8.5/x86_64-linux-ld /home/sand/src/perl/repoperls/installed-perls/perl/perl-5.8.5/8942/lib/5.8.5 /home/sand/src/perl/repoperls/installed-perls/perl/perl-5.8.5/8942/lib/site_perl/5.8.5/x86_64-linux-ld /home/sand/src/perl/repoperls/installed-perls/perl/perl-5.8.5/8942/lib/site_perl/5.8.5 /home/sand/src/perl/repoperls/installed-perls/perl/perl-5.8.5/8942/lib/site_perl .) at /tmp/loop_over_bdir-19725-aVZFcm/MozRepl-RemoteObject-0.39-0/blib/lib/MozRepl/RemoteObject.pm line 402.
t/02-multiple-instances.t ...... skipped: Couldn't connect to MozRepl: Can't locate MozRepl.pm in @INC (@INC contains: /tmp/loop_over_bdir-19725-aVZFcm/MozRepl-RemoteObject-0.39-0/blib/lib /tmp/loop_over_bdir-19725-aVZFcm/MozRepl-RemoteObject-0.39-0/blib/arch /home/sand/src/perl/repoperls/installed-perls/perl/perl-5.8.5/8942/lib/5.8.5/x86_64-linux-ld /home/sand/src/perl/repoperls/installed-perls/perl/perl-5.8.5/8942/lib/5.8.5 /home/sand/src/perl/repoperls/installed-perls/perl/perl-5.8.5/8942/lib/site_perl/5.8.5/x86_64-linux-ld /home/sand/src/perl/repoperls/installed-perls/perl/perl-5.8.5/8942/lib/site_perl/5.8.5 /home/sand/src/perl/repoperls/installed-perls/perl/perl-5.8.5/8942/lib/site_perl .) at /tmp/loop_over_bdir-19725-aVZFcm/MozRepl-RemoteObject-0.39-0/blib/lib/MozRepl/RemoteObject.pm line 402.
t/02-repl.t .................... skipped: Couldn't connect to MozRepl: Can't locate MozRepl.pm in @INC (@INC contains: /tmp/loop_over_bdir-19725-aVZFcm/MozRepl-RemoteObject-0.39-0/blib/lib /tmp/loop_over_bdir-19725-aVZFcm/MozRepl-RemoteObject-0.39-0/blib/arch /home/sand/src/perl/repoperls/installed-perls/perl/perl-5.8.5/8942/lib/5.8.5/x86_64-linux-ld /home/sand/src/perl/repoperls/installed-perls/perl/perl-5.8.5/8942/lib/5.8.5 /home/sand/src/perl/repoperls/installed-perls/perl/perl-5.8.5/8942/lib/site_perl/5.8.5/x86_64-linux-ld /home/sand/src/perl/repoperls/installed-perls/perl/perl-5.8.5/8942/lib/site_perl/5.8.5 /home/sand/src/perl/repoperls/installed-perls/perl/perl-5.8.5/8942/lib/site_perl .) at /tmp/loop_over_bdir-19725-aVZFcm/MozRepl-RemoteObject-0.39-0/blib/lib/MozRepl/RemoteObject.pm line 402.
t/02-synopsis.t ................ skipped: Couldn't connect to MozRepl: Can't locate MozRepl.pm in @INC (@INC contains: /tmp/loop_over_bdir-19725-aVZFcm/MozRepl-RemoteObject-0.39-0/blib/lib /tmp/loop_over_bdir-19725-aVZFcm/MozRepl-RemoteObject-0.39-0/blib/arch /home/sand/src/perl/repoperls/installed-perls/perl/perl-5.8.5/8942/lib/5.8.5/x86_64-linux-ld /home/sand/src/perl/repoperls/installed-perls/perl/perl-5.8.5/8942/lib/5.8.5 /home/sand/src/perl/repoperls/installed-perls/perl/perl-5.8.5/8942/lib/site_perl/5.8.5/x86_64-linux-ld /home/sand/src/perl/repoperls/installed-perls/perl/perl-5.8.5/8942/lib/site_perl/5.8.5 /home/sand/src/perl/repoperls/installed-perls/perl/perl-5.8.5/8942/lib/site_perl .) at /tmp/loop_over_bdir-19725-aVZFcm/MozRepl-RemoteObject-0.39-0/blib/lib/MozRepl/RemoteObject.pm line 402.
t/03-unicode.t ................. skipped: Couldn't connect to MozRepl: Can't locate MozRepl.pm in @INC (@INC contains: /tmp/loop_over_bdir-19725-aVZFcm/MozRepl-RemoteObject-0.39-0/blib/lib /tmp/loop_over_bdir-19725-aVZFcm/MozRepl-RemoteObject-0.39-0/blib/arch /home/sand/src/perl/repoperls/installed-perls/perl/perl-5.8.5/8942/lib/5.8.5/x86_64-linux-ld /home/sand/src/perl/repoperls/installed-perls/perl/perl-5.8.5/8942/lib/5.8.5 /home/sand/src/perl/repoperls/installed-perls/perl/perl-5.8.5/8942/lib/site_perl/5.8.5/x86_64-linux-ld /home/sand/src/perl/repoperls/installed-perls/perl/perl-5.8.5/8942/lib/site_perl/5.8.5 /home/sand/src/perl/repoperls/installed-perls/perl/perl-5.8.5/8942/lib/site_perl .) at /tmp/loop_over_bdir-19725-aVZFcm/MozRepl-RemoteObject-0.39-0/blib/lib/MozRepl/RemoteObject.pm line 402.
t/04-looong-input.t ............ skipped: Couldn't connect to MozRepl: Can't locate MozRepl.pm in @INC (@INC contains: /tmp/loop_over_bdir-19725-aVZFcm/MozRepl-RemoteObject-0.39-0/blib/lib /tmp/loop_over_bdir-19725-aVZFcm/MozRepl-RemoteObject-0.39-0/blib/arch /home/sand/src/perl/repoperls/installed-perls/perl/perl-5.8.5/8942/lib/5.8.5/x86_64-linux-ld /home/sand/src/perl/repoperls/installed-perls/perl/perl-5.8.5/8942/lib/5.8.5 /home/sand/src/perl/repoperls/installed-perls/perl/perl-5.8.5/8942/lib/site_perl/5.8.5/x86_64-linux-ld /home/sand/src/perl/repoperls/installed-perls/perl/perl-5.8.5/8942/lib/site_perl/5.8.5 /home/sand/src/perl/repoperls/installed-perls/perl/perl-5.8.5/8942/lib/site_perl .) at /tmp/loop_over_bdir-19725-aVZFcm/MozRepl-RemoteObject-0.39-0/blib/lib/MozRepl/RemoteObject.pm line 402.
t/05-callback-parameter.t ...... skipped: Couldn't connect to MozRepl: Can't locate MozRepl.pm in @INC (@INC contains: /tmp/loop_over_bdir-19725-aVZFcm/MozRepl-RemoteObject-0.39-0/blib/lib /tmp/loop_over_bdir-19725-aVZFcm/MozRepl-RemoteObject-0.39-0/blib/arch /home/sand/src/perl/repoperls/installed-perls/perl/perl-5.8.5/8942/lib/5.8.5/x86_64-linux-ld /home/sand/src/perl/repoperls/installed-perls/perl/perl-5.8.5/8942/lib/5.8.5 /home/sand/src/perl/repoperls/installed-perls/perl/perl-5.8.5/8942/lib/site_perl/5.8.5/x86_64-linux-ld /home/sand/src/perl/repoperls/installed-perls/perl/perl-5.8.5/8942/lib/site_perl/5.8.5 /home/sand/src/perl/repoperls/installed-perls/perl/perl-5.8.5/8942/lib/site_perl .) at /tmp/loop_over_bdir-19725-aVZFcm/MozRepl-RemoteObject-0.39-0/blib/lib/MozRepl/RemoteObject.pm line 402.
t/10-xul-hud.t ................. skipped: Couldn't connect to MozRepl: Can't locate MozRepl.pm in @INC (@INC contains: /tmp/loop_over_bdir-19725-aVZFcm/MozRepl-RemoteObject-0.39-0/blib/lib /tmp/loop_over_bdir-19725-aVZFcm/MozRepl-RemoteObject-0.39-0/blib/arch /home/sand/src/perl/repoperls/installed-perls/perl/perl-5.8.5/8942/lib/5.8.5/x86_64-linux-ld /home/sand/src/perl/repoperls/installed-perls/perl/perl-5.8.5/8942/lib/5.8.5 /home/sand/src/perl/repoperls/installed-perls/perl/perl-5.8.5/8942/lib/site_perl/5.8.5/x86_64-linux-ld /home/sand/src/perl/repoperls/installed-perls/perl/perl-5.8.5/8942/lib/site_perl/5.8.5 /home/sand/src/perl/repoperls/installed-perls/perl/perl-5.8.5/8942/lib/site_perl .) at /tmp/loop_over_bdir-19725-aVZFcm/MozRepl-RemoteObject-0.39-0/blib/lib/MozRepl/RemoteObject.pm line 402.
t/11-memleak-callback.t ........ skipped: Couldn't connect to MozRepl: Can't locate MozRepl.pm in @INC (@INC contains: /tmp/loop_over_bdir-19725-aVZFcm/MozRepl-RemoteObject-0.39-0/blib/lib /tmp/loop_over_bdir-19725-aVZFcm/MozRepl-RemoteObject-0.39-0/blib/arch /home/sand/src/perl/repoperls/installed-perls/perl/perl-5.8.5/8942/lib/5.8.5/x86_64-linux-ld /home/sand/src/perl/repoperls/installed-perls/perl/perl-5.8.5/8942/lib/5.8.5 /home/sand/src/perl/repoperls/installed-perls/perl/perl-5.8.5/8942/lib/site_perl/5.8.5/x86_64-linux-ld /home/sand/src/perl/repoperls/installed-perls/perl/perl-5.8.5/8942/lib/site_perl/5.8.5 /home/sand/src/perl/repoperls/installed-perls/perl/perl-5.8.5/8942/lib/site_perl .) at /tmp/loop_over_bdir-19725-aVZFcm/MozRepl-RemoteObject-0.39-0/blib/lib/MozRepl/RemoteObject.pm line 402.
t/11-memleak-constant.t ........ skipped: Couldn't connect to MozRepl: Can't locate MozRepl.pm in @INC (@INC contains: /tmp/loop_over_bdir-19725-aVZFcm/MozRepl-RemoteObject-0.39-0/blib/lib /tmp/loop_over_bdir-19725-aVZFcm/MozRepl-RemoteObject-0.39-0/blib/arch /home/sand/src/perl/repoperls/installed-perls/perl/perl-5.8.5/8942/lib/5.8.5/x86_64-linux-ld /home/sand/src/perl/repoperls/installed-perls/perl/perl-5.8.5/8942/lib/5.8.5 /home/sand/src/perl/repoperls/installed-perls/perl/perl-5.8.5/8942/lib/site_perl/5.8.5/x86_64-linux-ld /home/sand/src/perl/repoperls/installed-perls/perl/perl-5.8.5/8942/lib/site_perl/5.8.5 /home/sand/src/perl/repoperls/installed-perls/perl/perl-5.8.5/8942/lib/site_perl .) at /tmp/loop_over_bdir-19725-aVZFcm/MozRepl-RemoteObject-0.39-0/blib/lib/MozRepl/RemoteObject.pm line 402.
t/11-memleak-declare.t ......... skipped: Couldn't connect to MozRepl: Can't locate MozRepl.pm in @INC (@INC contains: /tmp/loop_over_bdir-19725-aVZFcm/MozRepl-RemoteObject-0.39-0/blib/lib /tmp/loop_over_bdir-19725-aVZFcm/MozRepl-RemoteObject-0.39-0/blib/arch /home/sand/src/perl/repoperls/installed-perls/perl/perl-5.8.5/8942/lib/5.8.5/x86_64-linux-ld /home/sand/src/perl/repoperls/installed-perls/perl/perl-5.8.5/8942/lib/5.8.5 /home/sand/src/perl/repoperls/installed-perls/perl/perl-5.8.5/8942/lib/site_perl/5.8.5/x86_64-linux-ld /home/sand/src/perl/repoperls/installed-perls/perl/perl-5.8.5/8942/lib/site_perl/5.8.5 /home/sand/src/perl/repoperls/installed-perls/perl/perl-5.8.5/8942/lib/site_perl .) at /tmp/loop_over_bdir-19725-aVZFcm/MozRepl-RemoteObject-0.39-0/blib/lib/MozRepl/RemoteObject.pm line 402.
t/11-memleak.t ................. skipped: Couldn't connect to MozRepl: Can't locate MozRepl.pm in @INC (@INC contains: /tmp/loop_over_bdir-19725-aVZFcm/MozRepl-RemoteObject-0.39-0/blib/lib /tmp/loop_over_bdir-19725-aVZFcm/MozRepl-RemoteObject-0.39-0/blib/arch /home/sand/src/perl/repoperls/installed-perls/perl/perl-5.8.5/8942/lib/5.8.5/x86_64-linux-ld /home/sand/src/perl/repoperls/installed-perls/perl/perl-5.8.5/8942/lib/5.8.5 /home/sand/src/perl/repoperls/installed-perls/perl/perl-5.8.5/8942/lib/site_perl/5.8.5/x86_64-linux-ld /home/sand/src/perl/repoperls/installed-perls/perl/perl-5.8.5/8942/lib/site_perl/5.8.5 /home/sand/src/perl/repoperls/installed-perls/perl/perl-5.8.5/8942/lib/site_perl .) at /tmp/loop_over_bdir-19725-aVZFcm/MozRepl-RemoteObject-0.39-0/blib/lib/MozRepl/RemoteObject.pm line 402.
# Checking for version 0.39
t/99-changes.t ................. ok
t/99-manifest.t ................ ok
t/99-pod.t ..................... ok
t/99-todo.t .................... ok
t/99-unix-text.t ............... ok
# Checking for $VERSION = '0.39';
t/99-versions.t ................ ok
All tests successful.
Files=34, Tests=31, 5 wallclock secs ( 0.09 usr 0.19 sys + 1.89 cusr 0.49 csys = 2.66 CPU)
Result: PASS
------------------------------
PREREQUISITES
------------------------------
Prerequisite modules loaded:
requires:
Module Need Have
------------------- ----- --------
Encode 0 2.83
Exporter 0 5.72
File::Basename 0 2.73
IPC::Run 0 0.94_02
JSON 2 2.90
! MozRepl 0.06 n/a
parent 0 0.234
perl 5.006 5.008005
Scalar::Util 0 1.45
build_requires:
Module Need Have
------------------- ----- --------
Task::Weaken 0 1.04
configure_requires:
Module Need Have
------------------- ----- --------
ExtUtils::MakeMaker 0 7.18
------------------------------
ENVIRONMENT AND OTHER CONTEXT
------------------------------
Environment variables:
AUTOMATED_TESTING = 1
LANG = en_US.UTF-8
LANGUAGE = en_US:en
PATH = /usr/lib/ccache:/home/sand/bin:/usr/local/bin:/usr/bin:/bin:/usr/games:/usr/local/perl/bin:/usr/X11/bin:/sbin:/usr/sbin
PERL5LIB =
PERL5OPT =
PERL5_CPANPLUS_IS_RUNNING = 19727
PERL5_CPAN_IS_RUNNING = 19727
PERL_CANARY_STABILITY_NOPROMPT = 1
PERL_MM_USE_DEFAULT = 1
SHELL = /usr/bin/zsh
TERM = screen
Perl special variables (and OS-specific diagnostics, for MSWin32):
$^X = /home/sand/src/perl/repoperls/installed-perls/perl/perl-5.8.5/8942/bin/perl
$UID/$EUID = 1005 / 1005
$GID = 1005 1005
$EGID = 1005 1005
Perl module toolchain versions installed:
Module Have
------------------- --------
CPAN 2.13
CPAN::Meta 2.150005
Cwd 3.62
ExtUtils::CBuilder 0.280224
ExtUtils::Command 7.18
ExtUtils::Install 1.54
ExtUtils::MakeMaker 7.18
ExtUtils::Manifest 1.70
ExtUtils::ParseXS 3.30
File::Spec 3.62
JSON 2.90
JSON::PP 2.27400
Module::Build 0.4218
Module::Signature 0.79
Parse::CPAN::Meta 1.4419
Test::Harness 3.36
Test::More 1.302020
YAML n/a
YAML::Syck 1.29
version 0.9915
--
Summary of my perl5 (revision 5 version 8 subversion 5) configuration:
Platform:
osname=linux, osvers=4.3.0-1-amd64, archname=x86_64-linux-ld
uname='linux k83 4.3.0-1-amd64 #1 smp debian 4.3.3-7 (2016-01-19) x86_64 gnulinux '
config_args='-Dprefix=/home/sand/src/perl/repoperls/installed-perls/perl/perl-5.8.5/8942 -Dmyhostname=k83 -Dinstallusrbinperl=n -Uversiononly -Dusedevel -des -Ui_db -Dlibswanted=cl pthread socket inet nsl gdbm dbm malloc dl ld sun m crypt sec util c cposix posix ucb BSD gdbm_compat -Uuseithreads -Duselongdouble -DDEBUGGING=-g'
hint=recommended, useposix=true, d_sigaction=define
usethreads=undef use5005threads=undef useithreads=undef usemultiplicity=undef
useperlio=define d_sfio=undef uselargefiles=define usesocks=undef
use64bitint=define use64bitall=define uselongdouble=define
usemymalloc=n, bincompat5005=undef
Compiler:
cc='cc', ccflags ='-fno-strict-aliasing -pipe -I/usr/local/include -D_LARGEFILE_SOURCE -D_FILE_OFFSET_BITS=64',
optimize='-O2',
cppflags='-fno-strict-aliasing -pipe -I/usr/local/include'
ccversion='', gccversion='5.3.1 20160121', gccosandvers=''
intsize=4, longsize=8, ptrsize=8, doublesize=8, byteorder=12345678
d_longlong=define, longlongsize=8, d_longdbl=define, longdblsize=16
ivtype='long', ivsize=8, nvtype='long double', nvsize=16, Off_t='off_t', lseeksize=8
alignbytes=16, prototype=define
Linker and Libraries:
ld='cc', ldflags =' -L/usr/local/lib'
libpth=/usr/local/lib /lib/x86_64-linux-gnu /lib/../lib /usr/lib/x86_64-linux-gnu /usr/lib/../lib /lib /usr/lib
libs=-lpthread -lnsl -lgdbm -ldl -lm -lcrypt -lutil -lc -lgdbm_compat
perllibs=-lpthread -lnsl -ldl -lm -lcrypt -lutil -lc -lgdbm_compat
libc=libc-2.21.so, so=so, useshrplib=false, libperl=libperl.a
gnulibc_version='2.21'
Dynamic Linking:
dlsrc=dl_dlopen.xs, dlext=so, d_dlsymun=undef, ccdlflags='-Wl,-E'
cccdlflags='-fpic', lddlflags='-shared -L/usr/local/lib'
Characteristics of this binary (from libperl):
Compile-time options: USE_64_BIT_INT USE_64_BIT_ALL USE_LONG_DOUBLE USE_LARGE_FILES
Locally applied patches:
MAINT23136
Devel::PatchPerl 1.40
Built under linux
Compiled at Feb 15 2016 08:07:02
%ENV:
PERL5LIB=""
PERL5OPT=""
PERL5_CPANPLUS_IS_RUNNING="19727"
PERL5_CPAN_IS_RUNNING="19727"
PERL_CANARY_STABILITY_NOPROMPT="1"
PERL_MM_USE_DEFAULT="1"
@INC:
/home/sand/src/perl/repoperls/installed-perls/perl/perl-5.8.5/8942/lib/5.8.5/x86_64-linux-ld
/home/sand/src/perl/repoperls/installed-perls/perl/perl-5.8.5/8942/lib/5.8.5
/home/sand/src/perl/repoperls/installed-perls/perl/perl-5.8.5/8942/lib/site_perl/5.8.5/x86_64-linux-ld
/home/sand/src/perl/repoperls/installed-perls/perl/perl-5.8.5/8942/lib/site_perl/5.8.5
/home/sand/src/perl/repoperls/installed-perls/perl/perl-5.8.5/8942/lib/site_perl
.