Report for Log-UDP-Client-0.20.0

Back
From: metabase:user:314402c4-2aae-11df-837a-5e0a49663a4f
Subject: PASS Log-UDP-Client-0.20.0 v5.23.5 GNU/Linux
Date: 2015-12-06T15:22:36Z

This distribution has been tested as part of the CPAN Testers
project, supporting the Perl programming language.  See
http://wiki.cpantesters.org/ for more information or email
questions to cpan-testers-discuss@perl.org


--
Dear Robin Smidsrod,

This is a computer-generated report for Log-UDP-Client-0.20.0
on perl 5.23.5, created by CPAN-Reporter-1.2015.

Thank you for uploading your work to CPAN.  Congratulations!
All tests were successful.

Sections of this report:

    * Tester comments
    * Program output
    * Prerequisites
    * Environment and other context

------------------------------
TESTER COMMENTS
------------------------------

Additional comments from tester:

none provided

------------------------------
PROGRAM OUTPUT
------------------------------

Output from '/usr/bin/make test':

PERL_DL_NONLAZY=1 "/bbbike/perl-5.23.5t/bin/perl5.23.5" "-MExtUtils::Command::MM" "-MTest::Harness" "-e" "undef *Test::Harness::Switches; test_harness(0, 'blib/lib', 'blib/arch')" t/*.t
# Testing Log::UDP::Client 0.20.0, Perl 5.023005, /bbbike/perl-5.23.5t/bin/perl5.23.5
t/00-load.t ............... ok
t/10_example_1.t .......... ok
# 10000 tests took 0.193912029266357 seconds, 51569.776448804 messages per second (using Storable::nfreeze).
t/10_example_2.t .......... ok
t/10_example_3.t .......... ok
t/10_example_4.t .......... ok
t/author-critic.t ......... skipped: these tests are for testing by the author
t/release-eol.t ........... skipped: these tests are for release candidate testing
t/release-kwalitee.t ...... skipped: these tests are for release candidate testing
t/release-no-tabs.t ....... skipped: these tests are for release candidate testing
t/release-pod-coverage.t .. skipped: these tests are for release candidate testing
t/release-pod-syntax.t .... skipped: these tests are for release candidate testing
All tests successful.
Files=11, Tests=1008,  2 wallclock secs ( 0.04 usr  0.08 sys +  1.26 cusr  0.28 csys =  1.66 CPU)
Result: PASS

------------------------------
PREREQUISITES
------------------------------

Prerequisite modules loaded:

requires:

    Module              Need    Have    
    ------------------- ------- --------
    Carp                0       1.38    
    Data::Serializable  v0.40.0 0.41.0  
    IO::Socket::INET    0       1.35    
    Moose               0       2.1604  

build_requires:

    Module              Need    Have    
    ------------------- ------- --------
    English             0       1.10    
    JSON                0       2.90    
    Test::More          0       1.001014
    Time::HiRes         0       1.9728  

configure_requires:

    Module              Need    Have    
    ------------------- ------- --------
    ExtUtils::MakeMaker 6.31    7.10    


------------------------------
ENVIRONMENT AND OTHER CONTEXT
------------------------------

Environment variables:

    LANG = C
    PATH = /usr/local/bin:/usr/bin:/bin:/usr/local/sbin:/usr/sbin:/sbin:/home/eserte/bin/linux-gnu:/home/eserte/bin/sh:/home/eserte/bin:/usr/games:/home/eserte/devel:/home/eserte/src/srezic-misc/scripts
    PERL5LIB = /home/eserte/.cpan/build/2015120615/Data-Serializable-0.41.0-QkyAkO/blib/arch:/home/eserte/.cpan/build/2015120615/Data-Serializable-0.41.0-QkyAkO/blib/lib:/home/eserte/.cpan/build/2015120615/Data-Serializer-0.60-7fJE3I/blib/arch:/home/eserte/.cpan/build/2015120615/Data-Serializer-0.60-7fJE3I/blib/lib
    PERL5OPT = 
    PERL5_CPANPLUS_IS_RUNNING = 24848
    PERL5_CPAN_IS_RUNNING = 24848
    PERL5_CPAN_IS_RUNNING_IN_RECURSION = 22990,24848
    PERLDOC = -MPod::Perldoc::ToTextOverstrike
    PERL_BATCH = yes
    PERL_CANARY_STABILITY_NOPROMPT = 1
    PERL_CPAN_REPORTER_CONFIG = /var/tmp/cpansmoker-1001/2015120615/cpanreporter_003_config.ini
    PERL_EXTUTILS_AUTOINSTALL = --defaultdeps
    SHELL = /bin/zsh
    TERM = screen
    TMPDIR = /var/tmp/cpansmoker-1001/2015120615

Perl special variables (and OS-specific diagnostics, for MSWin32):

    $^X = /bbbike/perl-5.23.5t/bin/perl5.23.5
    $UID/$EUID = 1001 / 1001
    $GID = 1001 109 1001
    $EGID = 1001 109 1001

Perl module toolchain versions installed:

    Module              Have    
    ------------------- --------
    CPAN                2.11    
    CPAN::Meta          2.150005
    Cwd                 3.59    
    ExtUtils::CBuilder  0.280224
    ExtUtils::Command   7.10    
    ExtUtils::Install   2.04    
    ExtUtils::MakeMaker 7.10    
    ExtUtils::Manifest  1.70    
    ExtUtils::ParseXS   3.30    
    File::Spec          3.59    
    JSON                2.90    
    JSON::PP            2.27300 
    Module::Build       0.4214  
    Module::Signature   n/a     
    Parse::CPAN::Meta   1.4417  
    Test::Harness       3.35    
    Test::More          1.001014
    YAML                1.15    
    YAML::Syck          1.29    
    version             0.9912  


--

Summary of my perl5 (revision 5 version 23 subversion 5) configuration:
   
  Platform:
    osname=linux, osvers=3.2.0-4-amd64, archname=x86_64-linux-thread-multi
    uname='linux eserte 3.2.0-4-amd64 #1 smp debian 3.2.68-1+deb7u6 x86_64 gnulinux '
    config_args='-ds -e -Dprefix=/opt/perl-5.23.5t -Dusedevel -Dusemallocwrap=no -Dusethreads -Dcf_email=srezic@cpan.org'
    hint=recommended, useposix=true, d_sigaction=define
    useithreads=define, usemultiplicity=define
    use64bitint=define, use64bitall=define, uselongdouble=undef
    usemymalloc=n, bincompat5005=undef
  Compiler:
    cc='cc', ccflags ='-D_REENTRANT -D_GNU_SOURCE -fwrapv -fno-strict-aliasing -pipe -fstack-protector -I/usr/local/include -D_LARGEFILE_SOURCE -D_FILE_OFFSET_BITS=64 -D_FORTIFY_SOURCE=2',
    optimize='-O2',
    cppflags='-D_REENTRANT -D_GNU_SOURCE -fwrapv -fno-strict-aliasing -pipe -fstack-protector -I/usr/local/include'
    ccversion='', gccversion='4.7.2', gccosandvers=''
    intsize=4, longsize=8, ptrsize=8, doublesize=8, byteorder=12345678, doublekind=3
    d_longlong=define, longlongsize=8, d_longdbl=define, longdblsize=16, longdblkind=3
    ivtype='long', ivsize=8, nvtype='double', nvsize=8, Off_t='off_t', lseeksize=8
    alignbytes=8, prototype=define
  Linker and Libraries:
    ld='cc', ldflags =' -fstack-protector -L/usr/local/lib'
    libpth=/usr/local/lib /usr/lib/gcc/x86_64-linux-gnu/4.7/include-fixed /usr/include/x86_64-linux-gnu /usr/lib /lib/x86_64-linux-gnu /lib/../lib /usr/lib/x86_64-linux-gnu /usr/lib/../lib /lib
    libs=-lpthread -lnsl -ldb -ldl -lm -lcrypt -lutil -lc
    perllibs=-lpthread -lnsl -ldl -lm -lcrypt -lutil -lc
    libc=libc-2.13.so, so=so, useshrplib=false, libperl=libperl.a
    gnulibc_version='2.13'
  Dynamic Linking:
    dlsrc=dl_dlopen.xs, dlext=so, d_dlsymun=undef, ccdlflags='-Wl,-E'
    cccdlflags='-fPIC', lddlflags='-shared -O2 -L/usr/local/lib -fstack-protector'


Characteristics of this binary (from libperl): 
  Compile-time options: HAS_TIMES MULTIPLICITY PERLIO_LAYERS
                        PERL_COPY_ON_WRITE PERL_DONT_CREATE_GVSV
                        PERL_HASH_FUNC_ONE_AT_A_TIME_HARD
                        PERL_IMPLICIT_CONTEXT PERL_PRESERVE_IVUV
                        PERL_USE_DEVEL USE_64_BIT_ALL USE_64_BIT_INT
                        USE_ITHREADS USE_LARGE_FILES USE_LOCALE
                        USE_LOCALE_COLLATE USE_LOCALE_CTYPE
                        USE_LOCALE_NUMERIC USE_LOCALE_TIME USE_PERLIO
                        USE_PERL_ATOF USE_REENTRANT_API
  Built under linux
  Compiled at Nov 24 2015 21:50:22
  %ENV:
    PERL5LIB="/home/eserte/.cpan/build/2015120615/Data-Serializable-0.41.0-QkyAkO/blib/arch:/home/eserte/.cpan/build/2015120615/Data-Serializable-0.41.0-QkyAkO/blib/lib:/home/eserte/.cpan/build/2015120615/Data-Serializer-0.60-7fJE3I/blib/arch:/home/eserte/.cpan/build/2015120615/Data-Serializer-0.60-7fJE3I/blib/lib"
    PERL5OPT=""
    PERL5_CPANPLUS_IS_RUNNING="24848"
    PERL5_CPAN_IS_RUNNING="24848"
    PERL5_CPAN_IS_RUNNING_IN_RECURSION="22990,24848"
    PERLDOC="-MPod::Perldoc::ToTextOverstrike"
    PERL_BATCH="yes"
    PERL_CANARY_STABILITY_NOPROMPT="1"
    PERL_CPAN_REPORTER_CONFIG="/var/tmp/cpansmoker-1001/2015120615/cpanreporter_003_config.ini"
    PERL_EXTUTILS_AUTOINSTALL="--defaultdeps"
  @INC:
    /home/eserte/.cpan/build/2015120615/Data-Serializable-0.41.0-QkyAkO/blib/arch
    /home/eserte/.cpan/build/2015120615/Data-Serializable-0.41.0-QkyAkO/blib/lib
    /home/eserte/.cpan/build/2015120615/Data-Serializer-0.60-7fJE3I/blib/arch
    /home/eserte/.cpan/build/2015120615/Data-Serializer-0.60-7fJE3I/blib/lib
    /opt/perl-5.23.5t/lib/site_perl/5.23.5/x86_64-linux-thread-multi
    /opt/perl-5.23.5t/lib/site_perl/5.23.5
    /opt/perl-5.23.5t/lib/5.23.5/x86_64-linux-thread-multi
    /opt/perl-5.23.5t/lib/5.23.5
    .