Report for XML-Parser-2.44

Back
From: metabase:user:3260881c-2aae-11df-837a-5e0a49663a4f
Subject: PASS XML-Parser-2.44 v5.20.1 Mac OS X
Date: 2015-04-08T06:26:24Z

This distribution has been tested as part of the CPAN Testers
project, supporting the Perl programming language.  See
http://wiki.cpantesters.org/ for more information or email
questions to cpan-testers-discuss@perl.org


--
Dear TODDR,

This is a computer-generated report for XML-Parser-2.44
on perl 5.20.1, created by App::cpanminus::reporter 0.12 (1.6937).

Thank you for uploading your work to CPAN.  Congratulations!
All tests were successful.

Sections of this report:

    * Tester comments
    * Program output
    * Prerequisites
    * Environment and other context

------------------------------
TESTER COMMENTS
------------------------------

Additional comments from tester:

none provided

------------------------------
PROGRAM OUTPUT
------------------------------

Output from '':

Building and testing XML-Parser-2.44
cp Parser/LWPExternEnt.pl blib/lib/XML/Parser/LWPExternEnt.pl
cp Parser/Encodings/Japanese_Encodings.msg blib/lib/XML/Parser/Encodings/Japanese_Encodings.msg
cp Parser/Encodings/x-sjis-cp932.enc blib/lib/XML/Parser/Encodings/x-sjis-cp932.enc
cp Parser/Encodings/iso-8859-9.enc blib/lib/XML/Parser/Encodings/iso-8859-9.enc
cp Parser.pm blib/lib/XML/Parser.pm
cp Parser/Style/Subs.pm blib/lib/XML/Parser/Style/Subs.pm
cp Parser/Encodings/README blib/lib/XML/Parser/Encodings/README
cp Parser/Style/Stream.pm blib/lib/XML/Parser/Style/Stream.pm
cp Parser/Encodings/iso-8859-7.enc blib/lib/XML/Parser/Encodings/iso-8859-7.enc
cp Parser/Encodings/iso-8859-5.enc blib/lib/XML/Parser/Encodings/iso-8859-5.enc
cp Parser/Encodings/iso-8859-8.enc blib/lib/XML/Parser/Encodings/iso-8859-8.enc
cp Parser/Encodings/big5.enc blib/lib/XML/Parser/Encodings/big5.enc
cp Parser/Encodings/windows-1252.enc blib/lib/XML/Parser/Encodings/windows-1252.enc
cp Parser/Encodings/iso-8859-4.enc blib/lib/XML/Parser/Encodings/iso-8859-4.enc
cp Parser/Encodings/iso-8859-2.enc blib/lib/XML/Parser/Encodings/iso-8859-2.enc
cp Parser/Encodings/windows-1250.enc blib/lib/XML/Parser/Encodings/windows-1250.enc
cp Parser/Encodings/x-sjis-jdk117.enc blib/lib/XML/Parser/Encodings/x-sjis-jdk117.enc
cp Parser/Encodings/koi8-r.enc blib/lib/XML/Parser/Encodings/koi8-r.enc
cp Parser/Encodings/x-euc-jp-jisx0221.enc blib/lib/XML/Parser/Encodings/x-euc-jp-jisx0221.enc
cp Parser/Style/Objects.pm blib/lib/XML/Parser/Style/Objects.pm
cp Parser/Style/Tree.pm blib/lib/XML/Parser/Style/Tree.pm
cp Parser/Encodings/x-sjis-jisx0221.enc blib/lib/XML/Parser/Encodings/x-sjis-jisx0221.enc
cp Parser/Encodings/euc-kr.enc blib/lib/XML/Parser/Encodings/euc-kr.enc
cp Parser/Encodings/x-euc-jp-unicode.enc blib/lib/XML/Parser/Encodings/x-euc-jp-unicode.enc
cp Parser/Encodings/windows-1255.enc blib/lib/XML/Parser/Encodings/windows-1255.enc
cp Parser/Encodings/windows-1251.enc blib/lib/XML/Parser/Encodings/windows-1251.enc
cp Parser/Encodings/x-sjis-unicode.enc blib/lib/XML/Parser/Encodings/x-sjis-unicode.enc
cp Parser/Encodings/iso-8859-3.enc blib/lib/XML/Parser/Encodings/iso-8859-3.enc
cp Parser/Style/Debug.pm blib/lib/XML/Parser/Style/Debug.pm
cp Parser/Encodings/ibm866.enc blib/lib/XML/Parser/Encodings/ibm866.enc
cp Expat.pm ../blib/lib/XML/Parser/Expat.pm
Running Mkbootstrap for XML::Parser::Expat ()
chmod 644 "Expat.bs"
"/Users/gabor/perl5/perlbrew/perls/perl-5.20.1_WITH_THREADS/bin/perl" "/Users/gabor/perl5/perlbrew/perls/perl-5.20.1_WITH_THREADS/lib/5.20.1/ExtUtils/xsubpp" -noprototypes -typemap "/Users/gabor/perl5/perlbrew/perls/perl-5.20.1_WITH_THREADS/lib/5.20.1/ExtUtils/typemap" -typemap "typemap"  Expat.xs > Expat.xsc && mv Expat.xsc Expat.c
cc -c   -fno-common -DPERL_DARWIN -fno-strict-aliasing -pipe -fstack-protector -I/usr/local/include -O3   -DVERSION=\"2.44\" -DXS_VERSION=\"2.44\"  "-I/Users/gabor/perl5/perlbrew/perls/perl-5.20.1_WITH_THREADS/lib/5.20.1/darwin-thread-multi-2level/CORE"   Expat.c
Expat.xs:262:10: warning: enumeration values 'XML_CTYPE_EMPTY' and 'XML_CTYPE_ANY' not handled in switch [-Wswitch]
  switch(model->type) {
         ^
1 warning generated.
rm -f ../blib/arch/auto/XML/Parser/Expat/Expat.bundle
LD_RUN_PATH="/usr/lib" env MACOSX_DEPLOYMENT_TARGET=10.3 cc  -bundle -undefined dynamic_lookup -L/usr/local/lib -fstack-protector Expat.o  -o ../blib/arch/auto/XML/Parser/Expat/Expat.bundle 	\
	   -lexpat  	\
	  
chmod 755 ../blib/arch/auto/XML/Parser/Expat/Expat.bundle
"/Users/gabor/perl5/perlbrew/perls/perl-5.20.1_WITH_THREADS/bin/perl" -MExtUtils::Command::MM -e 'cp_nonempty' -- Expat.bs ../blib/arch/auto/XML/Parser/Expat/Expat.bs 644
Manifying 1 pod document
Manifying 6 pod documents
Running Mkbootstrap for XML::Parser::Expat ()
chmod 644 "Expat.bs"
Manifying 1 pod document
PERL_DL_NONLAZY=1 "/Users/gabor/perl5/perlbrew/perls/perl-5.20.1_WITH_THREADS/bin/perl" "-MExtUtils::Command::MM" "-MTest::Harness" "-e" "undef *Test::Harness::Switches; test_harness(0, 'blib/lib', 'blib/arch')" t/*.t
t/astress.t ........... ok
t/cdata.t ............. ok
t/decl.t .............. ok
t/defaulted.t ......... ok
t/encoding.t .......... ok
t/external_ent.t ...... ok
t/file.t .............. ok
t/file_open_scalar.t .. ok
t/finish.t ............ ok
t/namespaces.t ........ ok
t/parament.t .......... ok
t/partial.t ........... ok
t/skip.t .............. ok
t/stream.t ............ ok
t/styles.t ............ ok
All tests successful.
Files=15, Tests=141,  1 wallclock secs ( 0.09 usr  0.04 sys +  1.11 cusr  0.20 csys =  1.44 CPU)
Result: PASS

------------------------------
PREREQUISITES
------------------------------

Prerequisite modules loaded:

    No requirements found

------------------------------
ENVIRONMENT AND OTHER CONTEXT
------------------------------

Environment variables:

    LANG = en_US.UTF-8
    PATH = /Users/gabor/dart/dart-sdk/bin:/Users/gabor/bin:/Users/gabor/rakudo-star-2014.12.1/install/bin:/Users/gabor/python/bin:/usr/local/bin:/Users/gabor/perl5/perlbrew/bin:/Users/gabor/perl5/perlbrew/perls/perl-5.20.1_WITH_THREADS/bin:/usr/local/bin:/usr/bin:/bin:/usr/sbin:/sbin:/opt/X11/bin:/Users/gabor/work/gabor/home/gabor/bin:/usr/local/share/npm/lib/node_modules/less/bin
    PERLBREW_BASHRC_VERSION = 0.63
    PERLBREW_HOME = /Users/gabor/.perlbrew
    PERLBREW_MANPATH = /Users/gabor/perl5/perlbrew/perls/perl-5.20.1_WITH_THREADS/man
    PERLBREW_PATH = /Users/gabor/perl5/perlbrew/bin:/Users/gabor/perl5/perlbrew/perls/perl-5.20.1_WITH_THREADS/bin
    PERLBREW_PERL = perl-5.20.1_WITH_THREADS
    PERLBREW_ROOT = /Users/gabor/perl5/perlbrew
    PERLBREW_VERSION = 0.63
    SHELL = /bin/bash
    TERM = xterm-256color
    TMPDIR = /var/folders/ry/zng097t53ql9x62cr60wdbmw0000gn/T/

Perl special variables (and OS-specific diagnostics, for MSWin32):

    EGID = 20 20 12 61 79 80 81 98 33 100 204 398 399
    EUID = 501
    EXECUTABLE_NAME = /Users/gabor/perl5/perlbrew/perls/perl-5.20.1_WITH_THREADS/bin/perl
    GID = 20 20 12 61 79 80 81 98 33 100 204 398 399
    UID = 501

Perl module toolchain versions installed:

    Module              Have        
    ------------------- ------------
    CPAN                2.10        
    CPAN::Meta          2.150001    
    Cwd                 3.48        
    ExtUtils::CBuilder  0.280220    
    ExtUtils::Command   1.20        
    ExtUtils::Install   2.04        
    ExtUtils::MakeMaker 7.04        
    ExtUtils::Manifest  1.70        
    ExtUtils::ParseXS   3.24        
    File::Spec          3.48        
    JSON                2.90        
    JSON::PP            2.27300     
    Module::Build       0.4211      
    Module::Signature   n/a         
    Parse::CPAN::Meta   1.4414      
    Test::Harness       3.35        
    Test::More          1.301001_096
    YAML                1.11        
    YAML::Syck          1.29        
    version             0.9912      


--

Summary of my perl5 (revision 5 version 20 subversion 1) configuration:
   
  Platform:
    osname=darwin, osvers=13.3.0, archname=darwin-thread-multi-2level
    uname='darwin air.local 13.3.0 darwin kernel version 13.3.0: tue jun 3 21:27:35 pdt 2014; root:xnu-2422.110.17~1release_x86_64 x86_64 '
    config_args='-de -Dprefix=/Users/gabor/perl5/perlbrew/perls/perl-5.20.1_WITH_THREADS -Dusethreads -Aeval:scriptdir=/Users/gabor/perl5/perlbrew/perls/perl-5.20.1_WITH_THREADS/bin'
    hint=recommended, useposix=true, d_sigaction=define
    useithreads=define, usemultiplicity=define
    use64bitint=define, use64bitall=define, uselongdouble=undef
    usemymalloc=n, bincompat5005=undef
  Compiler:
    cc='cc', ccflags ='-fno-common -DPERL_DARWIN -fno-strict-aliasing -pipe -fstack-protector -I/usr/local/include',
    optimize='-O3',
    cppflags='-fno-common -DPERL_DARWIN -fno-strict-aliasing -pipe -fstack-protector -I/usr/local/include'
    ccversion='', gccversion='4.2.1 Compatible Apple LLVM 5.1 (clang-503.0.40)', gccosandvers=''
    intsize=4, longsize=8, ptrsize=8, doublesize=8, byteorder=12345678
    d_longlong=define, longlongsize=8, d_longdbl=define, longdblsize=16
    ivtype='long', ivsize=8, nvtype='double', nvsize=8, Off_t='off_t', lseeksize=8
    alignbytes=8, prototype=define
  Linker and Libraries:
    ld='env MACOSX_DEPLOYMENT_TARGET=10.3 cc', ldflags =' -fstack-protector -L/usr/local/lib'
    libpth=/usr/local/lib /Applications/Xcode.app/Contents/Developer/Toolchains/XcodeDefault.xctoolchain/usr/bin/../lib/clang/5.1/lib /Applications/Xcode.app/Contents/Developer/Toolchains/XcodeDefault.xctoolchain/usr/lib /usr/lib
    libs=-lgdbm -ldbm -ldl -lm -lutil -lc
    perllibs=-ldl -lm -lutil -lc
    libc=, so=dylib, useshrplib=false, libperl=libperl.a
    gnulibc_version=''
  Dynamic Linking:
    dlsrc=dl_dlopen.xs, dlext=bundle, d_dlsymun=undef, ccdlflags=' '
    cccdlflags=' ', lddlflags=' -bundle -undefined dynamic_lookup -L/usr/local/lib -fstack-protector'


Characteristics of this binary (from libperl): 
  Compile-time options: HAS_TIMES MULTIPLICITY PERLIO_LAYERS
                        PERL_DONT_CREATE_GVSV
                        PERL_HASH_FUNC_ONE_AT_A_TIME_HARD
                        PERL_IMPLICIT_CONTEXT PERL_MALLOC_WRAP
                        PERL_NEW_COPY_ON_WRITE PERL_PRESERVE_IVUV
                        USE_64_BIT_ALL USE_64_BIT_INT USE_ITHREADS
                        USE_LARGE_FILES USE_LOCALE USE_LOCALE_COLLATE
                        USE_LOCALE_CTYPE USE_LOCALE_NUMERIC USE_PERLIO
                        USE_PERL_ATOF USE_REENTRANT_API
  Built under darwin
  Compiled at Sep 16 2014 21:55:45
  %ENV:
    PERLBREW_BASHRC_VERSION="0.63"
    PERLBREW_HOME="/Users/gabor/.perlbrew"
    PERLBREW_MANPATH="/Users/gabor/perl5/perlbrew/perls/perl-5.20.1_WITH_THREADS/man"
    PERLBREW_PATH="/Users/gabor/perl5/perlbrew/bin:/Users/gabor/perl5/perlbrew/perls/perl-5.20.1_WITH_THREADS/bin"
    PERLBREW_PERL="perl-5.20.1_WITH_THREADS"
    PERLBREW_ROOT="/Users/gabor/perl5/perlbrew"
    PERLBREW_VERSION="0.63"
  @INC:
    /Users/gabor/perl5/perlbrew/perls/perl-5.20.1_WITH_THREADS/lib/site_perl/5.20.1/darwin-thread-multi-2level
    /Users/gabor/perl5/perlbrew/perls/perl-5.20.1_WITH_THREADS/lib/site_perl/5.20.1
    /Users/gabor/perl5/perlbrew/perls/perl-5.20.1_WITH_THREADS/lib/5.20.1/darwin-thread-multi-2level
    /Users/gabor/perl5/perlbrew/perls/perl-5.20.1_WITH_THREADS/lib/5.20.1
    .