Back
From: metabase:user:320bfe00-2aae-11df-837a-5e0a49663a4f
Subject: PASS App-Dancer2-0.02 v5.16.1 GNU/Linux
Date: 2012-12-26T17:25:01Z
This distribution has been tested as part of the CPAN Testers
project, supporting the Perl programming language. See
http://wiki.cpantesters.org/ for more information or email
questions to cpan-testers-discuss@perl.org
--
Dear celogeek,
This is a computer-generated report for App-Dancer2-0.02
on perl 5.16.1, created by CPAN-Reporter-1.2007.
Thank you for uploading your work to CPAN. Congratulations!
All tests were successful.
Sections of this report:
* Tester comments
* Program output
* Prerequisites
* Environment and other context
------------------------------
TESTER COMMENTS
------------------------------
Additional comments from tester:
this report is from an automated smoke testing program
and was not reviewed by a human for accuracy
------------------------------
PROGRAM OUTPUT
------------------------------
Output from './Build test':
t/00-compile.t ............ ok
# Testing with Perl 5.016001, /home/sand/src/perl/repoperls/installed-perls/perl/v5.16.1/165a/bin/perl
# Archive::Extract version is 0.60
# Archive::Zip version is 1.30
# Carp version is 1.26
# DateTime version is 0.78
# File::Find version is 1.20
# File::Path version is 2.08
# File::ShareDir version is 1.03
# File::Temp version is 0.22
# Git::Repository version is 1.29
# LWP::Curl version is 0.12
# Module::Build version is 0.4003
# Moo version is 1.000007
# MooX::Options version is 3.76
# Path::Class version is 0.29
# Scalar::Util version is 1.26001
# Test::More version is 0.9803
# feature version is 1.27
# strict version is 1.07
# warnings version is 1.13
t/000-report-versions.t ... ok
t/author-critic.t ......... skipped: these tests are for testing by the author
t/release-pod-coverage.t .. skipped: these tests are for release candidate testing
t/release-unused-vars.t ... skipped: these tests are for release candidate testing
All tests successful.
Files=5, Tests=21, 1 wallclock secs ( 0.03 usr 0.00 sys + 0.85 cusr 0.11 csys = 0.99 CPU)
Result: PASS
------------------------------
PREREQUISITES
------------------------------
Prerequisite modules loaded:
requires:
Module Need Have
---------------- ------ --------
Archive::Extract 0 0.60
Archive::Zip 0 1.30
Carp 0 1.26
DateTime 0 0.78
feature 0 1.27
File::Path 0 2.08
File::ShareDir 1.00 1.03
Git::Repository 0 1.29
LWP::Curl 0 0.12
Moo 0 1.000007
MooX::Options 3.76 3.76
Path::Class 0 0.29
perl 5.010 5.016001
strict 0 1.07
warnings 0 1.13
build_requires:
Module Need Have
---------------- ------ --------
File::Find 0 1.20
File::Temp 0 0.22
Module::Build 0.3601 0.4003
perl 5.004 5.016001
Scalar::Util 0 1.26_001
Test::More 0.94 0.98_03
configure_requires:
Module Need Have
---------------- ------ --------
Module::Build 0.3601 0.4003
------------------------------
ENVIRONMENT AND OTHER CONTEXT
------------------------------
Environment variables:
AUTOMATED_TESTING = 1
LANG = en_US.UTF-8
LANGUAGE = en_US:en
PATH = /usr/lib/ccache:/home/sand/bin:/usr/local/bin:/usr/bin:/bin:/usr/bin/X11:/usr/games:/usr/local/perl/bin:/usr/X11/bin:/sbin:/usr/sbin
PERL5LIB =
PERL5OPT =
PERL5_CPANPLUS_IS_RUNNING = 32365
PERL5_CPAN_IS_RUNNING = 32365
PERL_MM_USE_DEFAULT = 1
SHELL = /usr/bin/zsh
TERM = screen
Perl special variables (and OS-specific diagnostics, for MSWin32):
$^X = /home/sand/src/perl/repoperls/installed-perls/perl/v5.16.1/165a/bin/perl
$UID/$EUID = 1005 / 1005
$GID = 1005 1005
$EGID = 1005 1005
Perl module toolchain versions installed:
Module Have
------------------- --------
CPAN 1.99_51
CPAN::Meta 2.120921
Cwd 3.39_02
ExtUtils::CBuilder 0.280206
ExtUtils::Command 1.17
ExtUtils::Install 1.58
ExtUtils::MakeMaker 6.64
ExtUtils::Manifest 1.61
ExtUtils::ParseXS 3.18
File::Spec 3.39_02
JSON 2.53
JSON::PP 2.27200
Module::Build 0.4003
Module::Signature 0.70
Parse::CPAN::Meta 1.4404
Test::Harness 3.25
Test::More 0.98_03
YAML 0.84
YAML::Syck 1.22
version 0.9901
--
Summary of my perl5 (revision 5 version 16 subversion 1) configuration:
Commit id: 06d742c02d396d6515581002f376b55ab1972c1b
Platform:
osname=linux, osvers=3.2.0-3-amd64, archname=x86_64-linux
uname='linux k83 3.2.0-3-amd64 #1 smp mon jul 23 02:45:17 utc 2012 x86_64 gnulinux '
config_args='-Dprefix=/home/src/perl/repoperls/installed-perls/perl/v5.16.1/165a -Dmyhostname=k83 -Dinstallusrbinperl=n -Uversiononly -Dusedevel -des -Ui_db -Uuseithreads -Uuselongdouble -DDEBUGGING=-g'
hint=recommended, useposix=true, d_sigaction=define
useithreads=undef, usemultiplicity=undef
useperlio=define, d_sfio=undef, uselargefiles=define, usesocks=undef
use64bitint=define, use64bitall=define, uselongdouble=undef
usemymalloc=n, bincompat5005=undef
Compiler:
cc='cc', ccflags ='-fno-strict-aliasing -pipe -fstack-protector -I/usr/local/include -D_LARGEFILE_SOURCE -D_FILE_OFFSET_BITS=64',
optimize='-O2 -g',
cppflags='-fno-strict-aliasing -pipe -fstack-protector -I/usr/local/include'
ccversion='', gccversion='4.7.1', gccosandvers=''
intsize=4, longsize=8, ptrsize=8, doublesize=8, byteorder=12345678
d_longlong=define, longlongsize=8, d_longdbl=define, longdblsize=16
ivtype='long', ivsize=8, nvtype='double', nvsize=8, Off_t='off_t', lseeksize=8
alignbytes=8, prototype=define
Linker and Libraries:
ld='cc', ldflags =' -fstack-protector -L/usr/local/lib'
libpth=/usr/local/lib /lib/x86_64-linux-gnu /lib/../lib /usr/lib/x86_64-linux-gnu /usr/lib/../lib /lib /usr/lib
libs=-lnsl -ldb -ldl -lm -lcrypt -lutil -lc
perllibs=-lnsl -ldl -lm -lcrypt -lutil -lc
libc=, so=so, useshrplib=false, libperl=libperl.a
gnulibc_version='2.13'
Dynamic Linking:
dlsrc=dl_dlopen.xs, dlext=so, d_dlsymun=undef, ccdlflags='-Wl,-E'
cccdlflags='-fPIC', lddlflags='-shared -O2 -g -L/usr/local/lib -fstack-protector'
Characteristics of this binary (from libperl):
Compile-time options: HAS_TIMES PERLIO_LAYERS PERL_DONT_CREATE_GVSV
PERL_MALLOC_WRAP PERL_PRESERVE_IVUV PERL_USE_DEVEL
USE_64_BIT_ALL USE_64_BIT_INT USE_LARGE_FILES
USE_LOCALE USE_LOCALE_COLLATE USE_LOCALE_CTYPE
USE_LOCALE_NUMERIC USE_PERLIO USE_PERL_ATOF
Built under linux
Compiled at Aug 9 2012 08:12:15
%ENV:
PERL5LIB=""
PERL5OPT=""
PERL5_CPANPLUS_IS_RUNNING="32365"
PERL5_CPAN_IS_RUNNING="32365"
PERL_MM_USE_DEFAULT="1"
@INC:
/home/src/perl/repoperls/installed-perls/perl/v5.16.1/165a/lib/site_perl/5.16.1/x86_64-linux
/home/src/perl/repoperls/installed-perls/perl/v5.16.1/165a/lib/site_perl/5.16.1
/home/src/perl/repoperls/installed-perls/perl/v5.16.1/165a/lib/5.16.1/x86_64-linux
/home/src/perl/repoperls/installed-perls/perl/v5.16.1/165a/lib/5.16.1
.