Report for Catalyst-Plugin-Session-Store-FastMmap-0.16

Back
From: metabase:user:ecf8815b-74db-1014-88a4-f74601ba4adb
Subject: PASS Catalyst-Plugin-Session-Store-FastMmap-0.16 v5.14.2 
Date: 2013-02-01T13:50:16Z

This distribution has been tested as part of the CPAN Testers
project, supporting the Perl programming language.  See
http://wiki.cpantesters.org/ for more information or email
questions to cpan-testers-discuss@perl.org


--
Dear Tomas Doran,

This is a computer-generated report for Catalyst-Plugin-Session-Store-FastMmap-0.16
on perl 5.14.2, created by CPAN-Reporter-1.2009.

Thank you for uploading your work to CPAN.  Congratulations!
All tests were successful.

Sections of this report:

    * Tester comments
    * Program output
    * Prerequisites
    * Environment and other context

------------------------------
TESTER COMMENTS
------------------------------

Additional comments from tester:

none provided

------------------------------
PROGRAM OUTPUT
------------------------------

Output from 'C:\Dwimperl\c\bin\dmake.EXE test':

C:\Dwimperl\perl\bin\perl.exe "-MExtUtils::Command::MM" "-e" "test_harness(0, 'blib\lib', 'blib\arch')" t/*.t
# testing Catalyst::Plugin::Session::Store::FastMmap version 0.16
t/01use.t .......... ok
t/02pod.t .......... skipped: set TEST_POD to enable this test
t/03podcoverage.t .. skipped: set TEST_POD to enable this test
[warn] Action methods (create_session, recover_session, after_session) found defined in your application class, SessionStoreTest. This is deprecated, please move them into a Root controller.
[warn] Action methods (create_session, recover_session) found defined in your application class, SessionStoreTest2. This is deprecated, please move them into a Root controller.
t/basic.t .......... ok
All tests successful.
Files=4, Tests=21,  6 wallclock secs ( 0.06 usr +  0.03 sys =  0.09 CPU)
Result: PASS

------------------------------
PREREQUISITES
------------------------------

Prerequisite modules loaded:

requires:

    Module                                 Need Have   
    -------------------------------------- ---- -------
    Cache::FastMmap                        1.29 1.40   
    Catalyst::ClassData                    0    0      
    Catalyst::Plugin::Session              0.27 0.36   
    Catalyst::Runtime                      5.8  5.90016
    File::Spec                             0    3.33   
    File::Temp                             0    0.22   
    MooseX::Emulate::Class::Accessor::Fast 0    0.00903
    MRO::Compat                            0    0.11   
    Path::Class                            0    0.24   

build_requires:

    Module                                 Need Have   
    -------------------------------------- ---- -------
    ExtUtils::MakeMaker                    0    6.62   

configure_requires:

    Module                                 Need Have   
    -------------------------------------- ---- -------
    ExtUtils::MakeMaker                    0    6.62   


------------------------------
ENVIRONMENT AND OTHER CONTEXT
------------------------------

Environment variables:

    COMSPEC = C:\WINDOWS\system32\cmd.exe
    NUMBER_OF_PROCESSORS = 4
    PATH = C:\Program Files\PC Connectivity Solution\;C:\WINDOWS\system32;C:\WINDOWS;C:\WINDOWS\System32\Wbem;C:\Program Files\IBM\Infoprint Select;C:\Notes;C:\Program Files\XLView;C:\lotus\compnent;C:\Utilities;C:\Program Files\Common Files\Lenovo;C:\Program Files\IBM\Personal Communications\;C:\Program Files\IBM\Trace Facility\;C:\Program Files\Intel\WiFi\bin\;C:\Program Files\ThinkPad\ConnectUtilities;C:\Program Files\Perforce;C:\Dwimperl\perl\bin;C:\Dwimperl\perl\site\bin;C:\Dwimperl\c\bin;C:\Program Files\nodejs\;C:\Program Files\Heroku\bin;C:\Program Files\ruby-1.9.2\bin;C:\Program Files\git\bin;C:\Program Files\git\cmd;C:\notes\;C:\Program Files\TortoiseHg\;C:\Program Files\Bazaar;C:\Program Files\scala\\bin;C:\Program Files\sbt\;C:\Documents and Settings\Administrator\Application Data\npm\;C:\wamp\bin\php\php5.3.10;C:\Program Files\Git\bin;C:\nitish\Nitishs docs\Installers\sqlite-shell-win32-x86-3071401\sqlite3.exe
    PERL5LIB = 
    PERL5OPT = 
    PERL5_CPANPLUS_IS_RUNNING = 6672
    PERL5_CPAN_IS_RUNNING = 6672
    PROCESSOR_IDENTIFIER = x86 Family 6 Model 37 Stepping 5, GenuineIntel
    TEMP = C:\DOCUME~1\ADMINI~1\LOCALS~1\Temp

Perl special variables (and OS-specific diagnostics, for MSWin32):

    $^X = C:\Dwimperl\perl\bin\perl.exe
    $UID/$EUID = 0 / 0
    $GID = 0
    $EGID = 0
    Win32::GetOSName = WinXP/.Net
    Win32::GetOSVersion = Service Pack 3, 5, 1, 2600, 2, 3, 0, 256, 1
    Win32::FsType = NTFS
    Win32::IsAdminUser = 1

Perl module toolchain versions installed:

    Module              Have    
    ------------------- --------
    CPAN                1.9800  
    CPAN::Meta          2.120921
    Cwd                 3.36    
    ExtUtils::CBuilder  0.280203
    ExtUtils::Command   1.17    
    ExtUtils::Install   1.56    
    ExtUtils::MakeMaker 6.62    
    ExtUtils::Manifest  1.60    
    ExtUtils::ParseXS   3.05    
    File::Spec          3.33    
    JSON                2.53    
    JSON::PP            2.27200 
    Module::Build       0.4003  
    Module::Signature   0.68    
    Parse::CPAN::Meta   1.4404  
    Test::Harness       3.23    
    Test::More          0.98    
    YAML                0.77    
    YAML::Syck          n/a     
    version             0.95    


--

Summary of my perl5 (revision 5 version 14 subversion 2) configuration:
   
  Platform:
    osname=MSWin32, osvers=4.0, archname=MSWin32-x86-multi-thread
    uname='Win32 strawberryperl 5.14.2.1 #1 Tue Nov 22 21:00:59 2011 i386'
    config_args='undef'
    hint=recommended, useposix=true, d_sigaction=undef
    useithreads=define, usemultiplicity=define
    useperlio=define, d_sfio=undef, uselargefiles=define, usesocks=undef
    use64bitint=undef, use64bitall=undef, uselongdouble=undef
    usemymalloc=n, bincompat5005=undef
  Compiler:
    cc='gcc', ccflags =' -s -O2 -DWIN32  -DPERL_TEXTMODE_SCRIPTS -DUSE_SITECUSTOMIZE -DPERL_IMPLICIT_CONTEXT -DPERL_IMPLICIT_SYS -fno-strict-aliasing -mms-bitfields',
    optimize='-s -O2',
    cppflags='-DWIN32'
    ccversion='', gccversion='4.4.7', gccosandvers=''
    intsize=4, longsize=4, ptrsize=4, doublesize=8, byteorder=1234
    d_longlong=undef, longlongsize=8, d_longdbl=define, longdblsize=12
    ivtype='long', ivsize=4, nvtype='double', nvsize=8, Off_t='long long', lseeksize=8
    alignbytes=8, prototype=define
  Linker and Libraries:
    ld='g++', ldflags ='-s -L"C:\Dwimperl\perl\lib\CORE" -L"C:\Dwimperl\c\lib"'
    libpth=C:\Dwimperl\c\lib C:\Dwimperl\c\i686-w64-mingw32\lib
    libs=-lmoldname -lkernel32 -luser32 -lgdi32 -lwinspool -lcomdlg32 -ladvapi32 -lshell32 -lole32 -loleaut32 -lnetapi32 -luuid -lws2_32 -lmpr -lwinmm -lversion -lodbc32 -lodbccp32 -lcomctl32
    perllibs=-lmoldname -lkernel32 -luser32 -lgdi32 -lwinspool -lcomdlg32 -ladvapi32 -lshell32 -lole32 -loleaut32 -lnetapi32 -luuid -lws2_32 -lmpr -lwinmm -lversion -lodbc32 -lodbccp32 -lcomctl32
    libc=, so=dll, useshrplib=true, libperl=libperl514.a
    gnulibc_version=''
  Dynamic Linking:
    dlsrc=dl_win32.xs, dlext=dll, d_dlsymun=undef, ccdlflags=' '
    cccdlflags=' ', lddlflags='-mdll -s -L"C:\Dwimperl\perl\lib\CORE" -L"C:\Dwimperl\c\lib"'


Characteristics of this binary (from libperl): 
  Compile-time options: MULTIPLICITY PERL_DONT_CREATE_GVSV
                        PERL_IMPLICIT_CONTEXT PERL_IMPLICIT_SYS
                        PERL_MALLOC_WRAP PERL_PRESERVE_IVUV PL_OP_SLAB_ALLOC
                        USE_ITHREADS USE_LARGE_FILES USE_PERLIO USE_PERL_ATOF
                        USE_SITECUSTOMIZE
  Built under MSWin32
  Compiled at Nov 22 2011 21:13:28
  %ENV:
    PERL5_CPANPLUS_IS_RUNNING="6672"
    PERL5_CPAN_IS_RUNNING="6672"
  @INC:
    C:/Dwimperl/perl/site/lib/MSWin32-x86-multi-thread
    C:/Dwimperl/perl/site/lib
    C:/Dwimperl/perl/vendor/lib
    C:/Dwimperl/perl/lib
    .