Report for WWW-Mechanize-Firefox-Extended-0.03

Back
From: metabase:user:30ae4450-2aae-11df-837a-5e0a49663a4f
Subject: PASS WWW-Mechanize-Firefox-Extended-0.03 v5.16.3 
Date: 2015-05-20T20:05:48Z

This distribution has been tested as part of the CPAN Testers
project, supporting the Perl programming language.  See
http://wiki.cpantesters.org/ for more information or email
questions to cpan-testers-discuss@perl.org


--
Dear Hoe-Kit Chew,

This is a computer-generated report for WWW-Mechanize-Firefox-Extended-0.03
on perl 5.16.3, created by CPAN-Reporter-1.2011_02.

Thank you for uploading your work to CPAN.  Congratulations!
All tests were successful.

Sections of this report:

    * Tester comments
    * Program output
    * Prerequisites
    * Environment and other context

------------------------------
TESTER COMMENTS
------------------------------

Additional comments from tester:

this report is from an automated smoke testing program
and was not reviewed by a human for accuracy

------------------------------
PROGRAM OUTPUT
------------------------------

Output from 'C:\strawberry163\c\bin\dmake.exe test':

C:\strawberry163\perl\bin\perl.exe "-MExtUtils::Command::MM" "-e" "test_harness(0, 'blib\lib', 'blib\arch')" t/*.t
# Testing WWW::Mechanize::Firefox::Extended 0.03, Perl 5.016003
# AutoLoader 5.73
# B 1.35
# Carp 1.26
# Config <unknown>
# DynaLoader 1.14
# Encode 2.57
# Encode::Alias 2.18
# Encode::Config 2.05
# Encode::Encoding 2.07
# Exporter 5.68
# Exporter::Heavy 5.68
# Fcntl 1.11
# File::Basename 2.84
# Firefox::Application 0.78
# HTML::Selector::XPath 0.16
# HTTP::Cookies 6.01
# HTTP::Cookies::MozRepl 0.78
# HTTP::Cookies::Netscape 6.00
# HTTP::Date 6.02
# HTTP::Headers 6.05
# HTTP::Headers::Util 6.03
# HTTP::Message 6.06
# HTTP::Request 6.00
# HTTP::Request::Common 6.04
# HTTP::Response 6.04
# HTTP::Status 6.03
# JSON 2.90
# JSON::PP 2.27203
# JSON::XS 2.33
# List::Util 1.38
# Log::Agent 1
# Log::Agent::Formatting <unknown>
# Log::Agent::Message <unknown>
# Log::Agent::Priorities <unknown>
# MIME::Base64 3.13
# MozRepl::RemoteObject 0.39
# MozRepl::RemoteObject::Methods 0.39
# PerlIO 1.07
# Scalar::Util 1.38
# Storable 2.39
# Test::Builder 1.001002
# Test::Builder::Module 1.001002
# Test::More 1.001002
# Time::HiRes 1.9725
# Time::Local 1.2300
# URI 1.60
# URI::Escape 3.31
# WWW::Mechanize::Firefox 0.78
# WWW::Mechanize::Firefox::Extended 0.03
# WWW::Mechanize::Link <unknown>
# XSLoader 0.16
# attributes 0.19
# base 2.18
# bytes 1.04
# common::sense 3.6
# constant 1.25
# lib 0.63
# overload 1.18
# overloading 0.02
# parent 0.225
# strict 1.07
# utf8 1.09
# vars 1.02
# warnings 1.13
# warnings::register 1.02
t/00-load.t ............. ok
t/10-hasAll-hasAny.t .... skipped: Couldn't connect to MozRepl: Failed to connect to , problem connecting to "localhost", port 4242: Ïîäêëþ÷åíèå íå óñòàíîâëåíî, ò.ê. êîíå÷íûé êîìïüþòåð îòâåðã çàïðîñ íà ïîäêëþ÷åíèå. at C:\strawberry163\cpan\build\MozRepl-0.06-mGl3RM/blib/lib/MozRepl/Client.pm line 144
t/20-waitAll-waitAny.t .. skipped: Couldn't connect to MozRepl: Failed to connect to , problem connecting to "localhost", port 4242: Ïîäêëþ÷åíèå íå óñòàíîâëåíî, ò.ê. êîíå÷íûé êîìïüþòåð îòâåðã çàïðîñ íà ïîäêëþ÷åíèå. at C:\strawberry163\cpan\build\MozRepl-0.06-mGl3RM/blib/lib/MozRepl/Client.pm line 144
t/manifest.t ............ skipped: Author tests not required for installation
t/pod.t ................. ok
All tests successful.
Files=5, Tests=3,  4 wallclock secs ( 0.02 usr +  0.09 sys =  0.11 CPU)
Result: PASS

------------------------------
PREREQUISITES
------------------------------

Prerequisite modules loaded:

requires:

    Module                  Need  Have    
    ----------------------- ----- --------
    perl                    5.006 5.016003
    Time::HiRes             0     1.9725  
    WWW::Mechanize::Firefox 0     0.78    

build_requires:

    Module                  Need  Have    
    ----------------------- ----- --------
    Test::More              0     1.001002

configure_requires:

    Module                  Need  Have    
    ----------------------- ----- --------
    ExtUtils::MakeMaker     0     6.64    


------------------------------
ENVIRONMENT AND OTHER CONTEXT
------------------------------

Environment variables:

    AUTOMATED_TESTING = 1
    COMSPEC = C:\WINDOWS\system32\cmd.exe
    NUMBER_OF_PROCESSORS = 1
    PATH = C:\WINDOWS\system32;C:\WINDOWS;C:\WINDOWS\System32\Wbem;C:\strawberry163\c\bin;C:\strawberry163\perl\site\bin;C:\strawberry163\perl\bin
    PERL5LIB = C:\strawberry163\cpan\build\WWW-Mechanize-Firefox-0.78-iunZ44/blib/arch;C:\strawberry163\cpan\build\WWW-Mechanize-Firefox-0.78-iunZ44/blib/lib;C:\strawberry163\cpan\build\MozRepl-RemoteObject-0.39-REJExn/blib/arch;C:\strawberry163\cpan\build\MozRepl-RemoteObject-0.39-REJExn/blib/lib;C:\strawberry163\cpan\build\MozRepl-0.06-mGl3RM/blib/arch;C:\strawberry163\cpan\build\MozRepl-0.06-mGl3RM/blib/lib;C:\strawberry163\cpan\build\Data-JavaScript-Anon-1.03-DyLLN0/blib/arch;C:\strawberry163\cpan\build\Data-JavaScript-Anon-1.03-DyLLN0/blib/lib;C:\strawberry163\cpan\build\Class-Default-1.51-z4orfP/blib/arch;C:\strawberry163\cpan\build\Class-Default-1.51-z4orfP/blib/lib;C:\strawberry163\cpan\build\Module-Pluggable-Fast-0.19-VR8BDW/blib/arch;C:\strawberry163\cpan\build\Module-Pluggable-Fast-0.19-VR8BDW/blib/lib;C:\strawberry163\cpan\build\Template-Provider-FromDATA-0.13-SpCkGN/blib/arch;C:\strawberry163\cpan\build\Template-Provider-FromDATA-0.13-SpCkGN/blib/lib;C:\strawberry163\cpan\build\Object-Import-1.004-uEeOIJ/blib/arch;C:\strawberry163\cpan\build\Object-Import-1.004-uEeOIJ/blib/lib;C:\strawberry163\cpan\build\Shell-Command-0.06-3K3wUh/blib/arch;C:\strawberry163\cpan\build\Shell-Command-0.06-3K3wUh/blib/lib
    PERL5OPT = 
    PERL5_CPANPLUS_IS_RUNNING = 1204
    PERL5_CPAN_IS_RUNNING = 1204
    PERL5_CPAN_IS_RUNNING_IN_RECURSION = 188,1204
    PERL_CR_SMOKER_CURRENT = WWW-Mechanize-Firefox-Extended-0.03
    PERL_CR_SMOKER_RUNONCE = 1
    PERL_EXTUTILS_AUTOINSTALL = --defaultdeps
    PERL_MM_USE_DEFAULT = 1
    PROCESSOR_IDENTIFIER = x86 Family 16 Model 5 Stepping 3, AuthenticAMD
    TEMP = C:\DOCUME~1\c\LOCALS~1\Temp
    TERM = dumb

Perl special variables (and OS-specific diagnostics, for MSWin32):

    $^X = C:\strawberry163\perl\bin\perl.exe
    $UID/$EUID = 0 / 0
    $GID = 0
    $EGID = 0
    Win32::GetOSName = WinXP/.Net
    Win32::GetOSVersion = Service Pack 3, 5, 1, 2600, 2, 3, 0, 256, 1
    Win32::FsType = NTFS
    Win32::IsAdminUser = 1

Perl module toolchain versions installed:

    Module              Have    
    ------------------- --------
    CPAN                2.00    
    CPAN::Meta          2.140640
    Cwd                 3.40    
    ExtUtils::CBuilder  0.280206
    ExtUtils::Command   1.17    
    ExtUtils::Install   1.58    
    ExtUtils::MakeMaker 6.64    
    ExtUtils::Manifest  1.61    
    ExtUtils::ParseXS   3.24    
    File::Spec          3.40    
    JSON                2.90    
    JSON::PP            2.27203 
    Module::Build       0.4205  
    Module::Signature   0.70    
    Parse::CPAN::Meta   1.4414  
    Test::Harness       3.30    
    Test::More          1.001002
    YAML                0.90    
    YAML::Syck          1.24    
    version             0.9902  


--

Summary of my perl5 (revision 5 version 16 subversion 3) configuration:
   
  Platform:
    osname=MSWin32, osvers=4.0, archname=MSWin32-x86-multi-thread
    uname='Win32 strawberry-perl 5.16.3.1 #1 Tue Mar 12 13:55:20 2013 i386'
    config_args='undef'
    hint=recommended, useposix=true, d_sigaction=undef
    useithreads=define, usemultiplicity=define
    useperlio=define, d_sfio=undef, uselargefiles=define, usesocks=undef
    use64bitint=undef, use64bitall=undef, uselongdouble=undef
    usemymalloc=n, bincompat5005=undef
  Compiler:
    cc='gcc', ccflags =' -s -O2 -DWIN32  -DPERL_TEXTMODE_SCRIPTS -DPERL_IMPLICIT_CONTEXT -DPERL_IMPLICIT_SYS -fno-strict-aliasing -mms-bitfields',
    optimize='-s -O2',
    cppflags='-DWIN32'
    ccversion='', gccversion='4.6.3', gccosandvers=''
    intsize=4, longsize=4, ptrsize=4, doublesize=8, byteorder=1234
    d_longlong=undef, longlongsize=8, d_longdbl=define, longdblsize=12
    ivtype='long', ivsize=4, nvtype='double', nvsize=8, Off_t='long long', lseeksize=8
    alignbytes=8, prototype=define
  Linker and Libraries:
    ld='g++', ldflags ='-s -L"C:\strawberry163\perl\lib\CORE" -L"C:\strawberry163\c\lib"'
    libpth=C:\strawberry163\c\lib C:\strawberry163\c\i686-w64-mingw32\lib
    libs=-lmoldname -lkernel32 -luser32 -lgdi32 -lwinspool -lcomdlg32 -ladvapi32 -lshell32 -lole32 -loleaut32 -lnetapi32 -luuid -lws2_32 -lmpr -lwinmm -lversion -lodbc32 -lodbccp32 -lcomctl32
    perllibs=-lmoldname -lkernel32 -luser32 -lgdi32 -lwinspool -lcomdlg32 -ladvapi32 -lshell32 -lole32 -loleaut32 -lnetapi32 -luuid -lws2_32 -lmpr -lwinmm -lversion -lodbc32 -lodbccp32 -lcomctl32
    libc=, so=dll, useshrplib=true, libperl=libperl516.a
    gnulibc_version=''
  Dynamic Linking:
    dlsrc=dl_win32.xs, dlext=dll, d_dlsymun=undef, ccdlflags=' '
    cccdlflags=' ', lddlflags='-mdll -s -L"C:\strawberry163\perl\lib\CORE" -L"C:\strawberry163\c\lib"'


Characteristics of this binary (from libperl): 
  Compile-time options: HAS_TIMES HAVE_INTERP_INTERN MULTIPLICITY
                        PERLIO_LAYERS PERL_DONT_CREATE_GVSV
                        PERL_IMPLICIT_CONTEXT PERL_IMPLICIT_SYS
                        PERL_MALLOC_WRAP PERL_PRESERVE_IVUV PL_OP_SLAB_ALLOC
                        USE_ITHREADS USE_LARGE_FILES USE_LOCALE
                        USE_LOCALE_COLLATE USE_LOCALE_CTYPE
                        USE_LOCALE_NUMERIC USE_PERLIO USE_PERL_ATOF
  Built under MSWin32
  Compiled at Mar 12 2013 14:01:07
  %ENV:
    PERL5LIB="C:\strawberry163\cpan\build\WWW-Mechanize-Firefox-0.78-iunZ44/blib/arch;C:\strawberry163\cpan\build\WWW-Mechanize-Firefox-0.78-iunZ44/blib/lib;C:\strawberry163\cpan\build\MozRepl-RemoteObject-0.39-REJExn/blib/arch;C:\strawberry163\cpan\build\MozRepl-RemoteObject-0.39-REJExn/blib/lib;C:\strawberry163\cpan\build\MozRepl-0.06-mGl3RM/blib/arch;C:\strawberry163\cpan\build\MozRepl-0.06-mGl3RM/blib/lib;C:\strawberry163\cpan\build\Data-JavaScript-Anon-1.03-DyLLN0/blib/arch;C:\strawberry163\cpan\build\Data-JavaScript-Anon-1.03-DyLLN0/blib/lib;C:\strawberry163\cpan\build\Class-Default-1.51-z4orfP/blib/arch;C:\strawberry163\cpan\build\Class-Default-1.51-z4orfP/blib/lib;C:\strawberry163\cpan\build\Module-Pluggable-Fast-0.19-VR8BDW/blib/arch;C:\strawberry163\cpan\build\Module-Pluggable-Fast-0.19-VR8BDW/blib/lib;C:\strawberry163\cpan\build\Template-Provider-FromDATA-0.13-SpCkGN/blib/arch;C:\strawberry163\cpan\build\Template-Provider-FromDATA-0.13-SpCkGN/blib/lib;C:\strawberry163\cpan\build\Object-Import-1.004-uEeOIJ/blib/arch;C:\strawberry163\cpan\build\Object-Import-1.004-uEeOIJ/blib/lib;C:\strawberry163\cpan\build\Shell-Command-0.06-3K3wUh/blib/arch;C:\strawberry163\cpan\build\Shell-Command-0.06-3K3wUh/blib/lib"
    PERL5_CPANPLUS_IS_RUNNING="1204"
    PERL5_CPAN_IS_RUNNING="1204"
    PERL5_CPAN_IS_RUNNING_IN_RECURSION="188,1204"
    PERL_CR_SMOKER_CURRENT="WWW-Mechanize-Firefox-Extended-0.03"
    PERL_CR_SMOKER_RUNONCE="1"
    PERL_EXTUTILS_AUTOINSTALL="--defaultdeps"
    PERL_MM_USE_DEFAULT="1"
  @INC:
    C:\strawberry163\cpan\build\WWW-Mechanize-Firefox-0.78-iunZ44/blib/arch
    C:\strawberry163\cpan\build\WWW-Mechanize-Firefox-0.78-iunZ44/blib/lib
    C:\strawberry163\cpan\build\MozRepl-RemoteObject-0.39-REJExn/blib/arch
    C:\strawberry163\cpan\build\MozRepl-RemoteObject-0.39-REJExn/blib/lib
    C:\strawberry163\cpan\build\MozRepl-0.06-mGl3RM/blib/arch
    C:\strawberry163\cpan\build\MozRepl-0.06-mGl3RM/blib/lib
    C:\strawberry163\cpan\build\Data-JavaScript-Anon-1.03-DyLLN0/blib/arch
    C:\strawberry163\cpan\build\Data-JavaScript-Anon-1.03-DyLLN0/blib/lib
    C:\strawberry163\cpan\build\Class-Default-1.51-z4orfP/blib/arch
    C:\strawberry163\cpan\build\Class-Default-1.51-z4orfP/blib/lib
    C:\strawberry163\cpan\build\Module-Pluggable-Fast-0.19-VR8BDW/blib/arch
    C:\strawberry163\cpan\build\Module-Pluggable-Fast-0.19-VR8BDW/blib/lib
    C:\strawberry163\cpan\build\Template-Provider-FromDATA-0.13-SpCkGN/blib/arch
    C:\strawberry163\cpan\build\Template-Provider-FromDATA-0.13-SpCkGN/blib/lib
    C:\strawberry163\cpan\build\Object-Import-1.004-uEeOIJ/blib/arch
    C:\strawberry163\cpan\build\Object-Import-1.004-uEeOIJ/blib/lib
    C:\strawberry163\cpan\build\Shell-Command-0.06-3K3wUh/blib/arch
    C:\strawberry163\cpan\build\Shell-Command-0.06-3K3wUh/blib/lib
    C:/strawberry163/perl/site/lib
    C:/strawberry163/perl/vendor/lib
    C:/strawberry163/perl/lib
    .