Report for Soar-Production-0.03

Back
From: metabase:user:243d49fc-866b-11e2-aa44-71bf72408ccb
Subject: PASS Soar-Production-0.03 v5.16.3 GNU/Linux
Date: 2013-06-17T21:45:08Z

This distribution has been tested as part of the CPAN Testers
project, supporting the Perl programming language.  See
http://wiki.cpantesters.org/ for more information or email
questions to cpan-testers-discuss@perl.org


--
Dear Nathan Gary Glenn,

This is a computer-generated report for Soar-Production-0.03
on perl 5.16.3, created by CPAN-Reporter-1.2010.

Thank you for uploading your work to CPAN.  Congratulations!
All tests were successful.

Sections of this report:

    * Tester comments
    * Program output
    * Prerequisites
    * Environment and other context

------------------------------
TESTER COMMENTS
------------------------------

Additional comments from tester:

none provided

------------------------------
PROGRAM OUTPUT
------------------------------

Output from './Build test':

t/0-use.t ........................ ok
t/00-compile.t ................... ok
# 
# 
# Generated by Dist::Zilla::Plugin::ReportVersions::Tiny v1.08
# perl: 5.016003 (wanted 5.010) on linux from /usr/local/bin/perl
# 
# Carp                                          => 1.26       (want any version)
# Data::Diver                                   => 1.0101     (want any version)
# Data::Dumper                                  => 2.145      (want any version)
# Exporter::Easy                                => 0.16       (want any version)
# File::Find                                    => 1.20       (want any version)
# File::Spec                                    => 3.40       (want any version)
# File::Spec::Functions                         => 3.40       (want any version)
# File::Temp                                    => 0.2301     (want any version)
# FindBin                                       => 1.51       (want any version)
# Module::Build                                 => 0.4005     (want 0.3601) 
# Parse::RecDescent                             => 1.967009   (want any version)
# Path::Tiny                                    => 0.023      (want any version)
# Pod::Coverage::TrustPod                       => 0.100002   (want any version)
# Test::Base                                    => 0.60       (want any version)
# Test::Base::Filter                            => <undef>    (want any version)
# Test::CPAN::Meta                              => 0.23       (want any version)
# Test::Deep                                    => 0.11       (want any version)
# Test::Exception                               => 0.32       (want any version)
# Test::LongString                              => 0.15       (want any version)
# Test::More                                    => 0.98       (want 0.88)   
# Test::Pod                                     => 1.48       (want 1.41)   
# Test::Pod::Coverage                           => 1.08       (want 1.08)   
# Test::Warn                                    => 0.24       (want any version)
# strict                                        => 1.07       (want any version)
# utf8                                          => 1.09       (want any version)
# version                                       => 0.9902     (want 0.9901) 
# warnings                                      => 1.13       (want any version)
# 
# Thanks for using my code.  I hope it works for you.
# If not, please try and include this output in the bug report.
# That will help me reproduce the issue and solve your problem.
# 
t/000-report-versions-tiny.t ..... ok
t/1-basic.t ...................... ok
t/parser/00-use.t ................ ok
t/parser/01-bad_input.t .......... ok
t/parser/01_5-comments.t ......... ok
t/parser/02-split-productions.t .. ok
Subroutine main::is redefined at t/parser/03-production-names.t line 4.
t/parser/03-production-names.t ... ok
Subroutine main::is redefined at t/parser/04-documentation.t line 5.
t/parser/04-documentation.t ...... ok
Subroutine main::is redefined at t/parser/05-Flags.t line 5.
t/parser/05-Flags.t .............. ok
Subroutine main::is redefined at t/parser/06-State.t line 6.
t/parser/06-State.t .............. ok
Subroutine main::is redefined at t/parser/07-variables.t line 6.
t/parser/07-variables.t .......... ok
Subroutine main::is redefined at t/parser/08-attributes.t line 6.
t/parser/08-attributes.t ......... ok
Subroutine main::is redefined at t/parser/09-int.t line 6.
t/parser/09-int.t ................ ok
Subroutine main::is redefined at t/parser/10-float.t line 6.
t/parser/10-float.t .............. ok
Subroutine main::is redefined at t/parser/11-string.t line 5.
t/parser/11-string.t ............. ok
Subroutine main::is redefined at t/parser/12-quoted.t line 5.
t/parser/12-quoted.t ............. ok
Subroutine main::is redefined at t/parser/13-disjunct.t line 5.
t/parser/13-disjunct.t ........... ok
Subroutine main::is redefined at t/parser/14-conjunct.t line 5.
t/parser/14-conjunct.t ........... ok
Subroutine main::is redefined at t/parser/15-predicate.t line 5.
t/parser/15-predicate.t .......... ok
Subroutine main::is redefined at t/parser/16-preference.t line 6.
t/parser/16-preference.t ......... ok
Subroutine main::is redefined at t/parser/17-function.t line 5.
t/parser/17-function.t ........... ok
Subroutine main::is redefined at t/parser/18-negative.t line 5.
t/parser/18-negative.t ........... ok
Subroutine main::is redefined at t/parser/19-conjunctiveCond.t line 5.
t/parser/19-conjunctiveCond.t .... ok
t/parser/20-test_data.t .......... ok
t/printer/0-use.t ................ ok
t/printer/1-test_data.t .......... ok
All tests successful.
Files=28, Tests=1816, 102 wallclock secs ( 0.40 usr  0.06 sys + 101.28 cusr  0.77 csys = 102.51 CPU)
Result: PASS

------------------------------
PREREQUISITES
------------------------------

Prerequisite modules loaded:

requires:

    Module                Need   Have    
    --------------------- ------ --------
    Carp                  0      1.26    
    Data::Dumper          0      2.145   
    Exporter::Easy        0      0.16    
    Parse::RecDescent     0      1.967009
    perl                  5.010  5.016003
    strict                0      1.07    
    warnings              0      1.13    

build_requires:

    Module                Need   Have    
    --------------------- ------ --------
    Data::Diver           0      1.0101  
    File::Find            0      1.20    
    File::Spec            0      3.40    
    File::Spec::Functions 0      3.40    
    File::Temp            0      0.2301  
    FindBin               0      1.51    
    Module::Build         0.3601 0.4005  
    Path::Tiny            0      0.023   
    Test::Base            0      0.60    
    Test::Base::Filter    0      0       
    Test::Deep            0      0.110   
    Test::Exception       0      0.32    
    Test::LongString      0      0.15    
    Test::More            0.88   0.98    
    Test::Warn            0      0.24    
    utf8                  0      1.09    

configure_requires:

    Module                Need   Have    
    --------------------- ------ --------
    Module::Build         0.3601 0.4005  


------------------------------
ENVIRONMENT AND OTHER CONTEXT
------------------------------

Environment variables:

    LANG = en_GB.UTF-8
    PATH = /usr/local/apache/bin:/usr/local/bin:/usr/local/sbin:/usr/local/bin:/sbin:/bin:/usr/sbin:/usr/bin:/root/bin
    PERL5LIB = 
    PERL5OPT = 
    PERL5_CPANPLUS_IS_RUNNING = 28420
    PERL5_CPAN_IS_RUNNING = 28420
    PERL5_CPAN_IS_RUNNING_IN_RECURSION = 29480,28420
    SHELL = /bin/bash
    TERM = xterm

Perl special variables (and OS-specific diagnostics, for MSWin32):

    $^X = /usr/local/bin/perl
    $UID/$EUID = 0 / 0
    $GID = 0 0 1 2 3 4 6 10
    $EGID = 0 0 1 2 3 4 6 10

Perl module toolchain versions installed:

    Module              Have    
    ------------------- --------
    CPAN                2.00    
    CPAN::Meta          2.131560
    Cwd                 3.40    
    ExtUtils::CBuilder  0.280206
    ExtUtils::Command   1.17    
    ExtUtils::Install   1.58    
    ExtUtils::MakeMaker 6.66    
    ExtUtils::Manifest  1.61    
    ExtUtils::ParseXS   3.18    
    File::Spec          3.40    
    JSON                2.59    
    JSON::PP            2.27200 
    Module::Build       0.4005  
    Module::Signature   0.73    
    Parse::CPAN::Meta   1.4404  
    Test::Harness       3.28    
    Test::More          0.98    
    YAML                0.84    
    YAML::Syck          1.25    
    version             0.9902  


--

Summary of my perl5 (revision 5 version 16 subversion 3) configuration:
   
  Platform:
    osname=linux, osvers=2.6.32-220.2.1.el6.x86_64, archname=x86_64-linux
    uname='linux cogendo1.dh.bytemark.co.uk 2.6.32-220.2.1.el6.x86_64 #1 smp fri dec 23 02:21:33 cst 2011 x86_64 x86_64 x86_64 gnulinux '
    config_args='-Dprefix=/usr/local'
    hint=recommended, useposix=true, d_sigaction=define
    useithreads=undef, usemultiplicity=undef
    useperlio=define, d_sfio=undef, uselargefiles=define, usesocks=undef
    use64bitint=define, use64bitall=define, uselongdouble=undef
    usemymalloc=n, bincompat5005=undef
  Compiler:
    cc='gcc', ccflags ='-m64 -mtune=nocona -fPIC -fno-strict-aliasing -pipe -fstack-protector -I/usr/local/include -D_LARGEFILE_SOURCE -D_FILE_OFFSET_BITS=64',
    optimize='-O2',
    cppflags='-m64 -mtune=nocona -fPIC -fno-strict-aliasing -pipe -fstack-protector -I/usr/local/include'
    ccversion='', gccversion='4.4.6 20120305 (Red Hat 4.4.6-4)', gccosandvers=''
    intsize=4, longsize=8, ptrsize=8, doublesize=8, byteorder=12345678
    d_longlong=define, longlongsize=8, d_longdbl=define, longdblsize=16
    ivtype='long', ivsize=8, nvtype='double', nvsize=8, Off_t='off_t', lseeksize=8
    alignbytes=8, prototype=define
  Linker and Libraries:
    ld='gcc', ldflags ='-m64 -mtune=nocona -fPIC -fno-strict-aliasing -pipe -fstack-protector -L/usr/local/lib'
    libpth=/usr/local/lib /lib/../lib64 /usr/lib/../lib64 /lib /usr/lib /lib64 /usr/lib64 /usr/local/lib64
    libs=-lnsl -ldl -lm -lcrypt -lutil -lc
    perllibs=-lnsl -ldl -lm -lcrypt -lutil -lc
    libc=/lib/libc-2.12.so, so=so, useshrplib=false, libperl=libperl.a
    gnulibc_version='2.12'
  Dynamic Linking:
    dlsrc=dl_dlopen.xs, dlext=so, d_dlsymun=undef, ccdlflags='-Wl,-E'
    cccdlflags='-m64 -mtune=nocona -fPIC -fno-strict-aliasing -pipe -fstack-protector -I/usr/local/include', lddlflags='-shared -O2 -L/usr/local/lib -fstack-protector  -m64 -mtune=nocona -fPIC -fno-strict-aliasing -pipe'


Characteristics of this binary (from libperl): 
  Compile-time options: HAS_TIMES PERLIO_LAYERS PERL_DONT_CREATE_GVSV
                        PERL_MALLOC_WRAP PERL_PRESERVE_IVUV USE_64_BIT_ALL
                        USE_64_BIT_INT USE_LARGE_FILES USE_LOCALE
                        USE_LOCALE_COLLATE USE_LOCALE_CTYPE
                        USE_LOCALE_NUMERIC USE_PERLIO USE_PERL_ATOF
  Built under linux
  Compiled at Mar 15 2013 20:52:34
  %ENV:
    PERL5LIB=""
    PERL5OPT=""
    PERL5_CPANPLUS_IS_RUNNING="28420"
    PERL5_CPAN_IS_RUNNING="28420"
    PERL5_CPAN_IS_RUNNING_IN_RECURSION="29480,28420"
  @INC:
    /usr/local/lib/perl5/site_perl/5.16.3/x86_64-linux
    /usr/local/lib/perl5/site_perl/5.16.3
    /usr/local/lib/perl5/5.16.3/x86_64-linux
    /usr/local/lib/perl5/5.16.3
    .