Test-PDL v0.14 Perl 5 v5.24.1 x86_64-linux-thread-multi

Status
Pass
From
Slaven Rezić (SREZIC)
Dist
Test-PDL v0.14
Platform
Perl 5 v5.24.1 x86_64-linux-thread-multi
Date
2019-04-26 18:50:37
ID
2e0fb3b2-6854-11e9-a9a6-9e3c1f24ea8f
This distribution has been tested as part of the CPAN Testers
project, supporting the Perl programming language.  See
http://wiki.cpantesters.org/ for more information or email
questions to cpan-testers-discuss@perl.org


--
Dear Edward Baudrez,

This is a computer-generated report for Test-PDL-0.14
on perl 5.24.1, created by CPAN-Reporter-1.2018.

Thank you for uploading your work to CPAN.  Congratulations!
All tests were successful.

Sections of this report:

    * Tester comments
    * Program output
    * Prerequisites
    * Environment and other context

------------------------------
TESTER COMMENTS
------------------------------

Additional comments from tester:

none provided

------------------------------
PROGRAM OUTPUT
------------------------------

Output from '/usr/bin/make test':

PERL_DL_NONLAZY=1 "/opt/perl-5.24.1t/bin/perl" "-MExtUtils::Command::MM" "-MTest::Harness" "-e" "undef *Test::Harness::Switches; test_harness(0, 'blib/lib', 'blib/arch')" t/*.t
t/00-compile.t ................... ok
# 
# Versions for all modules listed in MYMETA.json (including optional ones):
# 
# === Configure Requires ===
# 
#     Module              Want    Have
#     ------------------- ---- -------
#     ExtUtils::MakeMaker  any 7.10_02
# 
# === Build Requires ===
# 
#     Module              Want    Have
#     ------------------- ---- -------
#     ExtUtils::MakeMaker  any 7.10_02
# 
# === Test Requires ===
# 
#     Module                 Want     Have
#     --------------------- ----- --------
#     Capture::Tiny           any     0.46
#     ExtUtils::MakeMaker     any  7.10_02
#     File::Spec              any  3.63_01
#     IO::Handle              any     1.36
#     IPC::Open3              any     1.20
#     List::MoreUtils         any    0.419
#     PDL                   2.004    2.019
#     PDL::Core               any    2.019
#     Test::Builder::Tester   any 1.302086
#     Test::Deep              any    1.127
#     Test::Exception         any     0.43
#     Test::More              any 1.302086
#     Test::NoWarnings        any     1.04
# 
# === Test Recommends ===
# 
#     Module         Want     Have
#     ---------- -------- --------
#     CPAN::Meta 2.120900 2.150005
# 
# === Runtime Requires ===
# 
#     Module           Want     Have
#     --------------- ----- --------
#     Exporter          any     5.72
#     PDL             2.004    2.019
#     PDL::Lite         any    undef
#     PDL::Types        any    undef
#     Test::Builder     any 1.302086
#     Test::Deep::Cmp   any    undef
#     base              any     2.23
#     strict            any     1.11
#     warnings          any     1.36
# 
# === Other Modules ===
# 
#     Module           Have
#     --------------- -----
#     File::Map        0.66
#     List::MoreUtils 0.419
# 
t/00-report-prereqs.t ............ ok
t/author-pod-coverage.t .......... skipped: these tests are for testing by the author
t/author-pod-syntax.t ............ skipped: these tests are for testing by the author
t/author-test-version.t .......... skipped: these tests are for testing by the author
t/deep.t ......................... ok
t/eq_pdl.t ....................... ok
t/eq_pdl_clean.t ................. ok
t/eq_pdl_diag.t .................. ok
t/import_options.t ............... ok
t/is_pdl.t ....................... ok
t/release-changes_has_content.t .. skipped: these tests are for release candidate testing
t/release-cpan-changes.t ......... skipped: these tests are for release candidate testing
All tests successful.
Files=13, Tests=253,  2 wallclock secs ( 0.04 usr  0.06 sys +  1.06 cusr  0.32 csys =  1.48 CPU)
Result: PASS

------------------------------
PREREQUISITES
------------------------------

Prerequisite modules loaded:

requires:

    Module                Need  Have    
    --------------------- ----- --------
    base                  0     2.23    
    Exporter              0     5.72    
    PDL                   2.004 2.019   
    PDL::Lite             0     2.019   
    PDL::Types            0     0       
    perl                  5.006 5.024001
    strict                0     1.11    
    Test::Builder         0     1.302086
    Test::Deep::Cmp       0     0       
    warnings              0     1.36    

build_requires:

    Module                Need  Have    
    --------------------- ----- --------
    Capture::Tiny         0     0.46    
    ExtUtils::MakeMaker   0     7.10_02 
    File::Spec            0     3.63_01 
    IO::Handle            0     1.36    
    IPC::Open3            0     1.20    
    List::MoreUtils       0     0.419   
    PDL                   2.004 2.019   
    PDL::Core             0     2.019   
    Test::Builder::Tester 0     1.302086
    Test::Deep            0     1.127   
    Test::Exception       0     0.43    
    Test::More            0     1.302086
    Test::NoWarnings      0     1.04    

configure_requires:

    Module                Need  Have    
    --------------------- ----- --------
    ExtUtils::MakeMaker   0     7.10_02 


------------------------------
ENVIRONMENT AND OTHER CONTEXT
------------------------------

Environment variables:

    LANG = C
    LC_ALL = de_DE.UTF-8
    PATH = /usr/local/bin:/usr/bin:/bin:/usr/local/sbin:/usr/sbin:/sbin:/home/cpansand/bin/linux-gnu:/home/cpansand/bin/sh:/home/cpansand/bin:/usr/games:/home/cpansand/devel:/home/eserte/src/srezic-misc/scripts
    PERL5LIB = /home/cpansand/.cpan/build/2019042618/PDL-2.019-FJ1vQR/blib/arch:/home/cpansand/.cpan/build/2019042618/PDL-2.019-FJ1vQR/blib/lib:/home/cpansand/.cpan/build/2019042618/File-Map-0.66-_oXvs6/blib/arch:/home/cpansand/.cpan/build/2019042618/File-Map-0.66-_oXvs6/blib/lib:/home/cpansand/.cpan/build/2019042618/PerlIO-Layers-0.011-zGALl8/blib/arch:/home/cpansand/.cpan/build/2019042618/PerlIO-Layers-0.011-zGALl8/blib/lib:/home/cpansand/.cpan/build/2019042618/Convert-UU-0.5201-suNm3n/blib/arch:/home/cpansand/.cpan/build/2019042618/Convert-UU-0.5201-suNm3n/blib/lib:/home/cpansand/.cpan/build/2019042618/Astro-FITS-Header-3.07-DEjH4Y/blib/arch:/home/cpansand/.cpan/build/2019042618/Astro-FITS-Header-3.07-DEjH4Y/blib/lib:/home/cpansand/.cpan/build/2019042618/Module-Compile-0.37-dcaYej/blib/arch:/home/cpansand/.cpan/build/2019042618/Module-Compile-0.37-dcaYej/blib/lib:/home/cpansand/.cpan/build/2019042618/Devel-CheckLib-1.13-3XtgCb/blib/arch:/home/cpansand/.cpan/build/2019042618/Devel-CheckLib-1.13-3XtgCb/blib/lib:/home/cpansand/.cpan/build/2019042618/Mock-Config-0.03-BygMHd/blib/arch:/home/cpansand/.cpan/build/2019042618/Mock-Config-0.03-BygMHd/blib/lib
    PERL5OPT = 
    PERL5_CPANPLUS_IS_RUNNING = 29439
    PERL5_CPAN_IS_RUNNING = 29439
    PERL5_CPAN_IS_RUNNING_IN_RECURSION = 8750,29439
    PERLDOC = -MPod::Perldoc::ToTextOverstrike
    PERL_BATCH = yes
    PERL_CANARY_STABILITY_NOPROMPT = 1
    PERL_CPAN_REPORTER_CONFIG = /var/tmp/cpansmoker-1023/2019042618/cpanreporter_000_config.ini
    PERL_EXTUTILS_AUTOINSTALL = --defaultdeps
    PERL_USE_UNSAFE_INC = 1
    SHELL = /usr/bin/zsh
    TERM = screen
    TMPDIR = /var/tmp/cpansmoker-1023/2019042618

Perl special variables (and OS-specific diagnostics, for MSWin32):

    $^X = /opt/perl-5.24.1t/bin/perl
    $UID/$EUID = 1023 / 1023
    $GID = 1023 1023
    $EGID = 1023 1023

Perl module toolchain versions installed:

    Module              Have      
    ------------------- ----------
    CPAN                2.11_01   
    CPAN::Meta          2.150005  
    Cwd                 3.63_01   
    ExtUtils::CBuilder  0.280225  
    ExtUtils::Command   7.10_02   
    ExtUtils::Install   2.04      
    ExtUtils::MakeMaker 7.10_02   
    ExtUtils::Manifest  1.70      
    ExtUtils::ParseXS   3.31      
    File::Spec          3.63_01   
    JSON                2.94      
    JSON::PP            2.27300_01
    Module::Build       0.4224    
    Module::Signature   n/a       
    Parse::CPAN::Meta   1.4417_001
    Test::Harness       3.36_01   
    Test::More          1.302086  
    YAML                1.23      
    YAML::Syck          1.30      
    version             0.9916    


--

Summary of my perl5 (revision 5 version 24 subversion 1) configuration:
   
  Platform:
    osname=linux, osvers=4.9.0-3-amd64, archname=x86_64-linux-thread-multi
    uname='linux debian9 4.9.0-3-amd64 #1 smp debian 4.9.30-2+deb9u1 (2017-06-18) x86_64 gnulinux '
    config_args='-ds -e -Dprefix=/opt/perl-5.24.1t -Dusethreads -Dcf_email=srezic@cpan.org'
    hint=recommended, useposix=true, d_sigaction=define
    useithreads=define, usemultiplicity=define
    use64bitint=define, use64bitall=define, uselongdouble=undef
    usemymalloc=n, bincompat5005=undef
  Compiler:
    cc='cc', ccflags ='-D_REENTRANT -D_GNU_SOURCE -fwrapv -fno-strict-aliasing -pipe -fstack-protector-strong -I/usr/local/include -D_LARGEFILE_SOURCE -D_FILE_OFFSET_BITS=64',
    optimize='-O2',
    cppflags='-D_REENTRANT -D_GNU_SOURCE -fwrapv -fno-strict-aliasing -pipe -fstack-protector-strong -I/usr/local/include'
    ccversion='', gccversion='6.3.0 20170516', gccosandvers=''
    intsize=4, longsize=8, ptrsize=8, doublesize=8, byteorder=12345678, doublekind=3
    d_longlong=define, longlongsize=8, d_longdbl=define, longdblsize=16, longdblkind=3
    ivtype='long', ivsize=8, nvtype='double', nvsize=8, Off_t='off_t', lseeksize=8
    alignbytes=8, prototype=define
  Linker and Libraries:
    ld='cc', ldflags =' -fstack-protector-strong -L/usr/local/lib'
    libpth=/usr/local/lib /usr/lib/gcc/x86_64-linux-gnu/6/include-fixed /usr/include/x86_64-linux-gnu /usr/lib /lib/x86_64-linux-gnu /lib/../lib /usr/lib/x86_64-linux-gnu /usr/lib/../lib /lib
    libs=-lpthread -lnsl -lgdbm -ldb -ldl -lm -lcrypt -lutil -lc -lgdbm_compat
    perllibs=-lpthread -lnsl -ldl -lm -lcrypt -lutil -lc
    libc=libc-2.24.so, so=so, useshrplib=false, libperl=libperl.a
    gnulibc_version='2.24'
  Dynamic Linking:
    dlsrc=dl_dlopen.xs, dlext=so, d_dlsymun=undef, ccdlflags='-Wl,-E'
    cccdlflags='-fPIC', lddlflags='-shared -O2 -L/usr/local/lib -fstack-protector-strong'


Characteristics of this binary (from libperl): 
  Compile-time options: HAS_TIMES MULTIPLICITY PERLIO_LAYERS
                        PERL_COPY_ON_WRITE PERL_DONT_CREATE_GVSV
                        PERL_HASH_FUNC_ONE_AT_A_TIME_HARD
                        PERL_IMPLICIT_CONTEXT PERL_MALLOC_WRAP
                        PERL_PRESERVE_IVUV USE_64_BIT_ALL USE_64_BIT_INT
                        USE_ITHREADS USE_LARGE_FILES USE_LOCALE
                        USE_LOCALE_COLLATE USE_LOCALE_CTYPE
                        USE_LOCALE_NUMERIC USE_LOCALE_TIME USE_PERLIO
                        USE_PERL_ATOF USE_REENTRANT_API
  Locally applied patches:
	Devel::PatchPerl 1.48
  Built under linux
  Compiled at Jun 25 2017 14:39:12
  %ENV:
    PERL5LIB="/home/cpansand/.cpan/build/2019042618/PDL-2.019-FJ1vQR/blib/arch:/home/cpansand/.cpan/build/2019042618/PDL-2.019-FJ1vQR/blib/lib:/home/cpansand/.cpan/build/2019042618/File-Map-0.66-_oXvs6/blib/arch:/home/cpansand/.cpan/build/2019042618/File-Map-0.66-_oXvs6/blib/lib:/home/cpansand/.cpan/build/2019042618/PerlIO-Layers-0.011-zGALl8/blib/arch:/home/cpansand/.cpan/build/2019042618/PerlIO-Layers-0.011-zGALl8/blib/lib:/home/cpansand/.cpan/build/2019042618/Convert-UU-0.5201-suNm3n/blib/arch:/home/cpansand/.cpan/build/2019042618/Convert-UU-0.5201-suNm3n/blib/lib:/home/cpansand/.cpan/build/2019042618/Astro-FITS-Header-3.07-DEjH4Y/blib/arch:/home/cpansand/.cpan/build/2019042618/Astro-FITS-Header-3.07-DEjH4Y/blib/lib:/home/cpansand/.cpan/build/2019042618/Module-Compile-0.37-dcaYej/blib/arch:/home/cpansand/.cpan/build/2019042618/Module-Compile-0.37-dcaYej/blib/lib:/home/cpansand/.cpan/build/2019042618/Devel-CheckLib-1.13-3XtgCb/blib/arch:/home/cpansand/.cpan/build/2019042618/Devel-CheckLib-1.13-3XtgCb/blib/lib:/home/cpansand/.cpan/build/2019042618/Mock-Config-0.03-BygMHd/blib/arch:/home/cpansand/.cpan/build/2019042618/Mock-Config-0.03-BygMHd/blib/lib"
    PERL5OPT=""
    PERL5_CPANPLUS_IS_RUNNING="29439"
    PERL5_CPAN_IS_RUNNING="29439"
    PERL5_CPAN_IS_RUNNING_IN_RECURSION="8750,29439"
    PERLDOC="-MPod::Perldoc::ToTextOverstrike"
    PERL_BATCH="yes"
    PERL_CANARY_STABILITY_NOPROMPT="1"
    PERL_CPAN_REPORTER_CONFIG="/var/tmp/cpansmoker-1023/2019042618/cpanreporter_000_config.ini"
    PERL_EXTUTILS_AUTOINSTALL="--defaultdeps"
    PERL_USE_UNSAFE_INC="1"
  @INC:
    /home/cpansand/.cpan/build/2019042618/PDL-2.019-FJ1vQR/blib/arch
    /home/cpansand/.cpan/build/2019042618/PDL-2.019-FJ1vQR/blib/lib
    /home/cpansand/.cpan/build/2019042618/File-Map-0.66-_oXvs6/blib/arch
    /home/cpansand/.cpan/build/2019042618/File-Map-0.66-_oXvs6/blib/lib
    /home/cpansand/.cpan/build/2019042618/PerlIO-Layers-0.011-zGALl8/blib/arch
    /home/cpansand/.cpan/build/2019042618/PerlIO-Layers-0.011-zGALl8/blib/lib
    /home/cpansand/.cpan/build/2019042618/Convert-UU-0.5201-suNm3n/blib/arch
    /home/cpansand/.cpan/build/2019042618/Convert-UU-0.5201-suNm3n/blib/lib
    /home/cpansand/.cpan/build/2019042618/Astro-FITS-Header-3.07-DEjH4Y/blib/arch
    /home/cpansand/.cpan/build/2019042618/Astro-FITS-Header-3.07-DEjH4Y/blib/lib
    /home/cpansand/.cpan/build/2019042618/Module-Compile-0.37-dcaYej/blib/arch
    /home/cpansand/.cpan/build/2019042618/Module-Compile-0.37-dcaYej/blib/lib
    /home/cpansand/.cpan/build/2019042618/Devel-CheckLib-1.13-3XtgCb/blib/arch
    /home/cpansand/.cpan/build/2019042618/Devel-CheckLib-1.13-3XtgCb/blib/lib
    /home/cpansand/.cpan/build/2019042618/Mock-Config-0.03-BygMHd/blib/arch
    /home/cpansand/.cpan/build/2019042618/Mock-Config-0.03-BygMHd/blib/lib
    /opt/perl-5.24.1t/lib/site_perl/5.24.1/x86_64-linux-thread-multi
    /opt/perl-5.24.1t/lib/site_perl/5.24.1
    /opt/perl-5.24.1t/lib/5.24.1/x86_64-linux-thread-multi
    /opt/perl-5.24.1t/lib/5.24.1
    .