Report for Class-MakeMethods-1.01

Back
From: metabase:user:b53c7f44-4c0e-11e4-9ced-a04ade49192c
Subject: PASS Class-MakeMethods-1.01 v5.21.10 GNU/Linux
Date: 2015-02-28T10:54:34Z

This distribution has been tested as part of the CPAN Testers
project, supporting the Perl programming language.  See
http://wiki.cpantesters.org/ for more information or email
questions to cpan-testers-discuss@perl.org


--
Dear Matthew Simon Cavalletto,

This is a computer-generated report for Class-MakeMethods-1.01
on perl 5.21.10, created by CPAN-Reporter-1.2011.

Thank you for uploading your work to CPAN.  Congratulations!
All tests were successful.

Sections of this report:

    * Tester comments
    * Program output
    * Prerequisites
    * Environment and other context

------------------------------
TESTER COMMENTS
------------------------------

Additional comments from tester:

this report is from an automated smoke testing program
and was not reviewed by a human for accuracy

------------------------------
PROGRAM OUTPUT
------------------------------

Output from '/usr/bin/make test':

PERL_DL_NONLAZY=1 "/opt/perl492-32-no-O0-5.21.10/bin/perl" "-Iblib/lib" "-Iblib/arch" test.pl
test.pl: Searching for test scripts in .
test.pl: Found 121 .t files for test harness.
./tests/access/attribute_stnd_hash.t .................... ok
./tests/access/autoload_stnd_hash.t ..................... ok
./tests/access/autoload_typemap.t ....................... ok
./tests/access/import_version.t ......................... ok
./tests/basic/array_scalar.t ............................ ok
./tests/basic/declarations.t ............................ ok
./tests/basic/global_hash.t ............................. ok
./tests/basic/global_scalar.t ........................... ok
./tests/basic/hash_scalar.t ............................. ok
./tests/composite/declarations.t ........................ ok
./tests/composite/hash.t ................................ ok
./tests/composite/inheritable.t ......................... ok
./tests/composite/inheritable_hash.t .................... ok
./tests/composite/inheritable_hook.t .................... ok
./tests/composite/patch.t ............................... ok
./tests/evaled/hash_scalar.t ............................ ok
./tests/standard/standard_declarations.t ................ ok
./tests/standard/standard_hash.t ........................ ok
./tests/standard/standard_inheritable.t ................. ok
./tests/standard/standard_inheritable_hash.t ............ ok
./tests/template/abstract.t ............................. ok
./tests/template/array_number.t ......................... ok
./tests/template/array_object.t ......................... ok
./tests/template/array_scalar.t ......................... ok
./tests/template/class_array.t .......................... ok
./tests/template/class_scalar.t ......................... ok
./tests/template/classvar_array.t ....................... ok
./tests/template/classvar_scalar.t ...................... ok
./tests/template/clone.t ................................ ok
./tests/template/declaration.t .......................... ok
./tests/template/doc_examples.t ......................... ok
./tests/template/doc_extending.t ........................ ok
./tests/template/global_array.t ......................... ok
./tests/template/global_code.t .......................... ok
./tests/template/global_hash.t .......................... ok
./tests/template/global_scalar.t ........................ ok
./tests/template/global_scalar_lvalue.t ................. ok
./tests/template/hash_array.t ........................... ok
./tests/template/hash_array_getset.t .................... ok
./tests/template/hash_array_lvalue.t .................... ok
./tests/template/hash_array_object.t .................... ok
./tests/template/hash_boolean.t ......................... ok
./tests/template/hash_code.t ............................ ok
./tests/template/hash_copy.t ............................ ok
./tests/template/hash_counter.t ......................... ok
./tests/template/hash_counter_closure.t ................. ok
./tests/template/hash_hash.t ............................ ok
./tests/template/hash_hash_array.t ...................... ok
./tests/template/hash_method.t .......................... ok
./tests/template/hash_new.t ............................. ok
./tests/template/hash_number.t .......................... ok
./tests/template/hash_number_interfaces.t ............... ok
./tests/template/hash_object.t .......................... ok
./tests/template/hash_scalar.t .......................... ok
./tests/template/hash_scalar_closure.t .................. ok
./tests/template/hash_scalar_interfaces.t ............... ok
./tests/template/hash_scalar_lvalue.t ................... ok
./tests/template/hash_string_concat.t ................... ok
./tests/template/hash_string_index.t .................... ok
./tests/template/hash_string_index_create.t ............. ok
./tests/template/hash_struct.t .......................... ok
./tests/template/hash_tiedhash.t ........................ ok
./tests/template/inherit_scalar.t ....................... ok
./tests/template/insideout_array.t ...................... ok
./tests/template/insideout_bool_i.t ..................... ok
./tests/template/insideout_scalar.t ..................... ok
./tests/template/modifier_private.t ..................... ok
./tests/template/package_scalar.t ....................... ok
./tests/template/scalar_bits.t .......................... ok
./tests/template/scalar_counter.t ....................... ok
./tests/utility/inheritable.t ........................... ok
./tests/utility/text_builder.t .......................... ok
./tests/xemulator/accessors/chained.t ................... ok
./tests/xemulator/accessors/classic.t ................... ok
./tests/xemulator/accessors/default.t ................... ok
./tests/xemulator/accessors/invalid.t ................... ok
./tests/xemulator/class_accessor/class_accessor_fast.t .. ok
./tests/xemulator/class_inheritable/emulate.t ........... ok
./tests/xemulator/class_inheritable/transparent.t ....... ok
Unescaped left brace in regex is deprecated, passed through in regex; marked by <-- HERE in m/(TEST\s{ <-- HERE )/ at tests/xemulator/class_methodmaker/Test.pm line 51.
./tests/xemulator/class_methodmaker/abstract.t .......... ok
Unescaped left brace in regex is deprecated, passed through in regex; marked by <-- HERE in m/(TEST\s{ <-- HERE )/ at tests/xemulator/class_methodmaker/Test.pm line 51.
./tests/xemulator/class_methodmaker/boolean.092.t ....... ok
Unescaped left brace in regex is deprecated, passed through in regex; marked by <-- HERE in m/(TEST\s{ <-- HERE )/ at tests/xemulator/class_methodmaker/Test.pm line 51.
./tests/xemulator/class_methodmaker/boolean.t ........... ok
Unescaped left brace in regex is deprecated, passed through in regex; marked by <-- HERE in m/(TEST\s{ <-- HERE )/ at tests/xemulator/class_methodmaker/Test.pm line 51.
./tests/xemulator/class_methodmaker/code.t .............. ok
Unescaped left brace in regex is deprecated, passed through in regex; marked by <-- HERE in m/(TEST\s{ <-- HERE )/ at tests/xemulator/class_methodmaker/Test.pm line 51.
./tests/xemulator/class_methodmaker/copy.t .............. ok
Unescaped left brace in regex is deprecated, passed through in regex; marked by <-- HERE in m/(TEST\s{ <-- HERE )/ at tests/xemulator/class_methodmaker/Test.pm line 51.
./tests/xemulator/class_methodmaker/counter.t ........... ok
Unescaped left brace in regex is deprecated, passed through in regex; marked by <-- HERE in m/(TEST\s{ <-- HERE )/ at tests/xemulator/class_methodmaker/Test.pm line 51.
./tests/xemulator/class_methodmaker/get_concat.092.t .... ok
Unescaped left brace in regex is deprecated, passed through in regex; marked by <-- HERE in m/(TEST\s{ <-- HERE )/ at tests/xemulator/class_methodmaker/Test.pm line 51.
./tests/xemulator/class_methodmaker/get_concat.t ........ ok
Unescaped left brace in regex is deprecated, passed through in regex; marked by <-- HERE in m/(TEST\s{ <-- HERE )/ at tests/xemulator/class_methodmaker/Test.pm line 51.
./tests/xemulator/class_methodmaker/get_set.092.t ....... ok
Unescaped left brace in regex is deprecated, passed through in regex; marked by <-- HERE in m/(TEST\s{ <-- HERE )/ at tests/xemulator/class_methodmaker/Test.pm line 51.
./tests/xemulator/class_methodmaker/get_set.t ........... ok
Unescaped left brace in regex is deprecated, passed through in regex; marked by <-- HERE in m/(TEST\s{ <-- HERE )/ at tests/xemulator/class_methodmaker/Test.pm line 51.
./tests/xemulator/class_methodmaker/grouped_fields.t .... ok
Unescaped left brace in regex is deprecated, passed through in regex; marked by <-- HERE in m/(TEST\s{ <-- HERE )/ at tests/xemulator/class_methodmaker/Test.pm line 51.
./tests/xemulator/class_methodmaker/hash.092.t .......... ok
Unescaped left brace in regex is deprecated, passed through in regex; marked by <-- HERE in m/(TEST\s{ <-- HERE )/ at tests/xemulator/class_methodmaker/Test.pm line 51.
./tests/xemulator/class_methodmaker/hash.t .............. ok
Unescaped left brace in regex is deprecated, passed through in regex; marked by <-- HERE in m/(TEST\s{ <-- HERE )/ at tests/xemulator/class_methodmaker/Test.pm line 51.
./tests/xemulator/class_methodmaker/hash_of_lists.t ..... ok
Unescaped left brace in regex is deprecated, passed through in regex; marked by <-- HERE in m/(TEST\s{ <-- HERE )/ at tests/xemulator/class_methodmaker/Test.pm line 51.
./tests/xemulator/class_methodmaker/key_attrib.t ........ ok
Unescaped left brace in regex is deprecated, passed through in regex; marked by <-- HERE in m/(TEST\s{ <-- HERE )/ at tests/xemulator/class_methodmaker/Test.pm line 51.
./tests/xemulator/class_methodmaker/key_with_create.t ... ok
Unescaped left brace in regex is deprecated, passed through in regex; marked by <-- HERE in m/(TEST\s{ <-- HERE )/ at tests/xemulator/class_methodmaker/Test.pm line 51.
./tests/xemulator/class_methodmaker/list.092.t .......... ok
Unescaped left brace in regex is deprecated, passed through in regex; marked by <-- HERE in m/(TEST\s{ <-- HERE )/ at tests/xemulator/class_methodmaker/Test.pm line 51.
./tests/xemulator/class_methodmaker/list.104.t .......... ok
Unescaped left brace in regex is deprecated, passed through in regex; marked by <-- HERE in m/(TEST\s{ <-- HERE )/ at tests/xemulator/class_methodmaker/Test.pm line 51.
./tests/xemulator/class_methodmaker/list.t .............. ok
Unescaped left brace in regex is deprecated, passed through in regex; marked by <-- HERE in m/(TEST\s{ <-- HERE )/ at tests/xemulator/class_methodmaker/Test.pm line 51.
./tests/xemulator/class_methodmaker/listed_attrib.t ..... ok
Unescaped left brace in regex is deprecated, passed through in regex; marked by <-- HERE in m/(TEST\s{ <-- HERE )/ at tests/xemulator/class_methodmaker/Test.pm line 51.
./tests/xemulator/class_methodmaker/method.t ............ ok
Unescaped left brace in regex is deprecated, passed through in regex; marked by <-- HERE in m/(TEST\s{ <-- HERE )/ at tests/xemulator/class_methodmaker/Test.pm line 51.
./tests/xemulator/class_methodmaker/new.092.t ........... ok
Unescaped left brace in regex is deprecated, passed through in regex; marked by <-- HERE in m/(TEST\s{ <-- HERE )/ at tests/xemulator/class_methodmaker/Test.pm line 51.
./tests/xemulator/class_methodmaker/new.102.t ........... ok
Unescaped left brace in regex is deprecated, passed through in regex; marked by <-- HERE in m/(TEST\s{ <-- HERE )/ at tests/xemulator/class_methodmaker/Test.pm line 51.
./tests/xemulator/class_methodmaker/new.t ............... ok
Unescaped left brace in regex is deprecated, passed through in regex; marked by <-- HERE in m/(TEST\s{ <-- HERE )/ at tests/xemulator/class_methodmaker/Test.pm line 51.
./tests/xemulator/class_methodmaker/object.092.t ........ ok
Unescaped left brace in regex is deprecated, passed through in regex; marked by <-- HERE in m/(TEST\s{ <-- HERE )/ at tests/xemulator/class_methodmaker/Test.pm line 51.
./tests/xemulator/class_methodmaker/object.t ............ ok
Unescaped left brace in regex is deprecated, passed through in regex; marked by <-- HERE in m/(TEST\s{ <-- HERE )/ at tests/xemulator/class_methodmaker/Test.pm line 51.
./tests/xemulator/class_methodmaker/object_list.102.t ... ok
Unescaped left brace in regex is deprecated, passed through in regex; marked by <-- HERE in m/(TEST\s{ <-- HERE )/ at tests/xemulator/class_methodmaker/Test.pm line 51.
./tests/xemulator/class_methodmaker/object_list.t ....... ok
Unescaped left brace in regex is deprecated, passed through in regex; marked by <-- HERE in m/(TEST\s{ <-- HERE )/ at tests/xemulator/class_methodmaker/Test.pm line 51.
./tests/xemulator/class_methodmaker/static_get_set.t .... ok
Unescaped left brace in regex is deprecated, passed through in regex; marked by <-- HERE in m/(TEST\s{ <-- HERE )/ at tests/xemulator/class_methodmaker/Test.pm line 51.
./tests/xemulator/class_methodmaker/static_hash.092.t ... ok
Unescaped left brace in regex is deprecated, passed through in regex; marked by <-- HERE in m/(TEST\s{ <-- HERE )/ at tests/xemulator/class_methodmaker/Test.pm line 51.
./tests/xemulator/class_methodmaker/static_hash.t ....... ok
Unescaped left brace in regex is deprecated, passed through in regex; marked by <-- HERE in m/(TEST\s{ <-- HERE )/ at tests/xemulator/class_methodmaker/Test.pm line 51.
./tests/xemulator/class_methodmaker/static_list.t ....... ok
Unescaped left brace in regex is deprecated, passed through in regex; marked by <-- HERE in m/(TEST\s{ <-- HERE )/ at tests/xemulator/class_methodmaker/Test.pm line 51.
./tests/xemulator/class_methodmaker/struct.t ............ ok
Unescaped left brace in regex is deprecated, passed through in regex; marked by <-- HERE in m/(TEST\s{ <-- HERE )/ at tests/xemulator/class_methodmaker/Test.pm line 51.
./tests/xemulator/class_methodmaker/sugar.092.t ......... ok
Unescaped left brace in regex is deprecated, passed through in regex; marked by <-- HERE in m/(TEST\s{ <-- HERE )/ at tests/xemulator/class_methodmaker/Test.pm line 51.
./tests/xemulator/class_methodmaker/tie_hash.t .......... ok
./tests/xemulator/class_singleton/emulate.t ............. ok
./tests/xemulator/class_singleton/transparent.t ......... ok
./tests/xemulator/class_struct/emulate.t ................ ok
./tests/xemulator/class_struct/equivalent.t ............. ok
./tests/xemulator/mcoder/getset.t ....................... ok
./tests/xemulator/mcoder/proxies.t ...................... ok
./tests/xemulator/mcoder/sugar.t ........................ ok
All tests successful.
Files=121, Tests=1760, 64 wallclock secs ( 2.46 usr  0.36 sys + 20.73 cusr  2.04 csys = 25.59 CPU)
Result: PASS

------------------------------
PREREQUISITES
------------------------------

Prerequisite modules loaded:

build_requires:

    Module              Need Have
    ------------------- ---- ----
    ExtUtils::MakeMaker 0    7.04


------------------------------
ENVIRONMENT AND OTHER CONTEXT
------------------------------

Environment variables:

    AUTOMATED_TESTING = 1
    LANG = en_US.utf8
    MB_TEST_EXPERIMENTAL = 1
    NONINTERACTIVE_TESTING = 1
    PATH = /usr/lib/qt-3.3/bin:/usr/kerberos/sbin:/usr/kerberos/bin:/usr/lib/ccache:/usr/local/sbin:/usr/sbin:/sbin:/usr/local/bin:/usr/bin:/bin:/usr/lib/firebird/bin:/opt/real/RealPlayer:/root/bin:/usr/lib/firebird/bin:/opt/real/RealPlayer
    PERL5LIB = 
    PERL5OPT = 
    PERL5_CPANPLUS_IS_RUNNING = 1610
    PERL5_CPAN_IS_RUNNING = 1610
    PERL_ANYEVENT_MODEL = POE
    PERL_EXTUTILS_AUTOINSTALL = --defaultdeps
    PERL_MM_USE_DEFAULT = 1
    SHELL = /bin/bash
    TERM = xterm

Perl special variables (and OS-specific diagnostics, for MSWin32):

    $^X = /opt/perl492-32-no-O0-5.21.10/bin/perl
    $UID/$EUID = 0 / 0
    $GID = 0 0 1 2 3 4 6 10
    $EGID = 0 0 1 2 3 4 6 10

Perl module toolchain versions installed:

    Module              Have        
    ------------------- ------------
    CPAN                2.05        
    CPAN::Meta          2.143240    
    Cwd                 3.54        
    ExtUtils::CBuilder  0.280221    
    ExtUtils::Command   1.20        
    ExtUtils::Install   2.04        
    ExtUtils::MakeMaker 7.04        
    ExtUtils::Manifest  1.70        
    ExtUtils::ParseXS   3.27        
    File::Spec          3.53        
    JSON                2.90        
    JSON::PP            2.27300     
    Module::Build       0.4211      
    Module::Signature   n/a         
    Parse::CPAN::Meta   1.4414      
    Test::Harness       3.35        
    Test::More          1.301001_098
    YAML                1.14        
    YAML::Syck          1.29        
    version             0.9909      


--

Summary of my perl5 (revision 5 version 21 subversion 10) configuration:
  Snapshot of: adc55e020e9dd90e3092c97ee7db0912097c4a7e
  Platform:
    osname=linux, osvers=2.6.32.63, archname=i686-linux-multi-64int-ld
    uname='linux localhost.localdomain 2.6.32.63 #2 smp fri jan 30 10:45:01 pst 2015 i686 i686 i386 gnulinux '
    config_args='-Dcc=/opt/492/bin/gcc -Dprefix=/opt/perl492-32-no-O0-5.21.10 -DDEBUGGING'
    hint=recommended, useposix=true, d_sigaction=define
    useithreads=undef, usemultiplicity=define
    use64bitint=define, use64bitall=undef, uselongdouble=define
    usemymalloc=y, bincompat5005=undef
  Compiler:
    cc='/opt/492/bin/gcc', ccflags ='-fwrapv -DDEBUGGING -fno-strict-aliasing -pipe -fstack-protector-strong -I/usr/local/include -D_LARGEFILE_SOURCE -D_FILE_OFFSET_BITS=64 -D_FORTIFY_SOURCE=2',
    optimize='-O0 -g',
    cppflags='-fwrapv -DDEBUGGING -fno-strict-aliasing -pipe -fstack-protector-strong -I/usr/local/include'
    ccversion='', gccversion='4.9.2', gccosandvers=''
    intsize=4, longsize=4, ptrsize=4, doublesize=8, byteorder=12345678, doublekind=3
    d_longlong=define, longlongsize=8, d_longdbl=define, longdblsize=12, longdblkind=3
    ivtype='long long', ivsize=8, nvtype='long double', nvsize=12, Off_t='off_t', lseeksize=8
    alignbytes=4, prototype=define
  Linker and Libraries:
    ld='/opt/492/bin/gcc', ldflags =' -fstack-protector-strong -L/usr/local/lib'
    libpth=/usr/local/lib /opt/492/lib /opt/492/lib/gcc/i686-pc-linux-gnu/4.9.2/include-fixed /usr/lib /lib
    libs=-lpthread -lnsl -lgdbm -ldb -ldl -lm -lcrypt -lutil -lc
    perllibs=-lpthread -lnsl -ldl -lm -lcrypt -lutil -lc
    libc=libc-2.8.so, so=so, useshrplib=false, libperl=libperl.a
    gnulibc_version='2.8'
  Dynamic Linking:
    dlsrc=dl_dlopen.xs, dlext=so, d_dlsymun=undef, ccdlflags='-Wl,-E'
    cccdlflags='-fPIC', lddlflags='-shared -O0 -g -L/usr/local/lib -fstack-protector-strong'


Characteristics of this binary (from libperl): 
  Compile-time options: DEBUGGING HAS_TIMES MULTIPLICITY MYMALLOC
                        PERLIO_LAYERS PERL_DONT_CREATE_GVSV
                        PERL_HASH_FUNC_ONE_AT_A_TIME_HARD
                        PERL_IMPLICIT_CONTEXT PERL_MALLOC_WRAP
                        PERL_NEW_COPY_ON_WRITE PERL_PRESERVE_IVUV
                        PERL_TRACK_MEMPOOL USE_64_BIT_INT USE_FAST_STDIO
                        USE_LARGE_FILES USE_LOCALE USE_LOCALE_COLLATE
                        USE_LOCALE_CTYPE USE_LOCALE_NUMERIC USE_LOCALE_TIME
                        USE_LONG_DOUBLE USE_PERLIO USE_PERL_ATOF
  Built under linux
  Compiled at Feb 27 2015 07:11:53
  %ENV:
    PERL5LIB=""
    PERL5OPT=""
    PERL5_CPANPLUS_IS_RUNNING="1610"
    PERL5_CPAN_IS_RUNNING="1610"
    PERL_ANYEVENT_MODEL="POE"
    PERL_EXTUTILS_AUTOINSTALL="--defaultdeps"
    PERL_MM_USE_DEFAULT="1"
  @INC:
    /opt/perl492-32-no-O0-5.21.10/lib/site_perl/5.21.10/i686-linux-multi-64int-ld
    /opt/perl492-32-no-O0-5.21.10/lib/site_perl/5.21.10
    /opt/perl492-32-no-O0-5.21.10/lib/5.21.10/i686-linux-multi-64int-ld
    /opt/perl492-32-no-O0-5.21.10/lib/5.21.10
    .