POE-Component-Server-SimpleHTTP v2.30 Perl 5 v5.36.0 x86_64-linux-thread-multi
- Status
- Pass
- From
- Slaven Rezić
- Dist
-
POE-Component-Server-SimpleHTTP v2.30
- Platform
- Perl 5 v5.36.0 x86_64-linux-thread-multi
- Date
- 2023-05-09 01:02:33
- ID
- 2e2ff79a-ee05-11ed-bdeb-c00a6e8775ea
This distribution has been tested as part of the CPAN Testers
project, supporting the Perl programming language. See
http://wiki.cpantesters.org/ for more information or email
questions to cpan-testers-discuss@perl.org
--
Dear Chris Williams,
This is a computer-generated report for POE-Component-Server-SimpleHTTP-2.30
on perl 5.36.0, created by CPAN-Reporter-1.2018.
Thank you for uploading your work to CPAN. Congratulations!
All tests were successful.
Sections of this report:
* Tester comments
* Program output
* Prerequisites
* Environment and other context
------------------------------
TESTER COMMENTS
------------------------------
Additional comments from tester:
none provided
------------------------------
PROGRAM OUTPUT
------------------------------
Output from '/usr/bin/make test':
PERL_DL_NONLAZY=1 "/opt/perl-5.36.0t/bin/perl" "-MExtUtils::Command::MM" "-MTest::Harness" "-e" "undef *Test::Harness::Switches; test_harness(0, 'blib/lib', 'blib/arch')" t/*.t
t/00-compile.t ........... ok
# GET http://pocosimpletest.com:37339/ HTTP/1.1
# Host: 127.0.0.1:37339
#
# HTTP/1.1 200 (OK)
# Date: Tue, 09 May 2023 01:00:58 GMT
# Content-Length: 3
# Content-Type: text/plain
#
# Moo
t/02_simple.t ............ ok
# starting httpd6
# httpd6 started
# Port is 40121
# webc_connected
# GET http://pocosimpletest.com:40121/ HTTP/1.1
# Host: ::1:40121
#
# HTTP/1.1 200 (OK)
# Date: Tue, 09 May 2023 01:00:58 GMT
# Content-Length: 3
# Content-Type: text/plain
#
# Moo
t/02_simple_ipv6.t ....... ok
# HTTP/1.1 404 (Not Found)
# Date: Tue, 09 May 2023 01:00:59 GMT
# Content-Length: 13
# Content-Type: text/plain
#
# 404 Not Found
t/03_bad_handler.t ....... ok
# GEt http://pocosimpletest.com:41463/ HTTP/1.1
# Host: 127.0.0.1:41463
#
# HTTP/1.1 200 (OK)
# Date: Tue, 09 May 2023 01:00:59 GMT
# Content-Length: 3
# Content-Type: text/plain
#
# Moo
t/03_bad_request.t ....... ok
# 200 (OK)
# Date: Tue, 09 May 2023 01:00:59 GMT
# Content-Length: 11
# Content-Type: text/plain
# X-HTTP-Version: 1.1
#
# this is top
# 200 (OK)
# Date: Tue, 09 May 2023 01:00:59 GMT
# Content-Length: 12
# Content-Type: text/plain
# X-HTTP-Version: 1.1
#
# this is honk
# 200 (OK)
# Date: Tue, 09 May 2023 01:00:59 GMT
# Content-Length: 123
# Content-Type: text/html
# X-HTTP-Version: 1.1
#
# <html>
# <head><title>YEAH!</title></head>
# <body><p>This, my friend, is the page you've been looking for.</p></body>
# </html>
# 404 (Not Found)
# Date: Tue, 09 May 2023 01:00:59 GMT
# Content-Length: 13
# Content-Type: text/plain
# X-HTTP-Version: 1.1
#
# 404 Not Found
t/04_run_close.t ......... ok
# 200 (OK)
# Date: Tue, 09 May 2023 01:01:00 GMT
# Content-Length: 11
# Content-Type: text/plain
# X-HTTP-Version: 1.1
#
# this is top
# 200 (OK)
# Date: Tue, 09 May 2023 01:01:00 GMT
# Content-Length: 12
# Content-Type: text/plain
# X-HTTP-Version: 1.1
#
# this is honk
# 200 (OK)
# Date: Tue, 09 May 2023 01:01:00 GMT
# Content-Length: 123
# Content-Type: text/html
# X-HTTP-Version: 1.1
#
# <html>
# <head><title>YEAH!</title></head>
# <body><p>This, my friend, is the page you've been looking for.</p></body>
# </html>
# 404 (Not Found)
# Date: Tue, 09 May 2023 01:01:00 GMT
# Content-Length: 13
# Content-Type: text/plain
# X-HTTP-Version: 1.1
#
# 404 Not Found
t/04_run_keepalive.t ..... ok
# POST http://pocosimpletest.com:34683/ HTTP/1.1
# Host: 127.0.0.1:34683
# Content-Length: 40
#
# brother !~we need to get off this island
# 200 (OK)
# Date: Tue, 09 May 2023 01:01:00 GMT
# Content-Length: 40
# Content-Type: text/plain
# X-HTTP-Version: 1.1
#
# we need to get off this island brother !
t/05_post.t .............. ok
t/06_stream.t ............ skipped: POE::Component::Client::HTTP is required for this test
t/author-pod-coverage.t .. skipped: these tests are for testing by the author
t/author-pod-syntax.t .... skipped: these tests are for testing by the author
All tests successful.
Files=11, Tests=47, 3 wallclock secs ( 0.02 usr 0.04 sys + 2.24 cusr 0.50 csys = 2.80 CPU)
Result: PASS
------------------------------
PREREQUISITES
------------------------------
Prerequisite modules loaded:
requires:
Module Need Have
------------------------- ------ --------
Carp 0 1.52
HTTP::Date 0 6.05
HTTP::Request 0 6.36
HTTP::Response 0 6.36
Moose 0.9 2.2201
MooseX::POE 0.205 0.215
perl 5.006 5.036000
POE 1.0000 1.370
Socket 0 2.033
Storable 0 3.26
Sys::Hostname 0 1.24
build_requires:
Module Need Have
------------------------- ------ --------
ExtUtils::MakeMaker 6.59 7.64
File::Spec 0 3.84
IO::Handle 0 1.48
IPC::Open3 0 1.22
POE::Filter::HTTP::Parser 1.06 1.08
Test::More 0.47 1.302190
Test::POE::Client::TCP 1.24 1.26
configure_requires:
Module Need Have
------------------------- ------ --------
ExtUtils::MakeMaker 0 7.64
------------------------------
ENVIRONMENT AND OTHER CONTEXT
------------------------------
Environment variables:
LANG = C
PATH = /usr/local/bin:/usr/bin:/bin:/usr/local/sbin:/usr/sbin:/sbin:/home/cpansand/bin/linux-gnu:/home/cpansand/bin/sh:/home/cpansand/bin:/usr/games:/home/cpansand/devel:/home/eserte/src/srezic-misc/scripts
PERL5LIB = /home/cpansand/.cpan/build/2023050901/POE-Filter-HTTP-Parser-1.08-0/blib/arch:/home/cpansand/.cpan/build/2023050901/POE-Filter-HTTP-Parser-1.08-0/blib/lib:/home/cpansand/.cpan/build/2023050901/Test-POE-Server-TCP-1.20-0/blib/arch:/home/cpansand/.cpan/build/2023050901/Test-POE-Server-TCP-1.20-0/blib/lib:/home/cpansand/.cpan/build/2023050901/Test-POE-Client-TCP-1.26-0/blib/arch:/home/cpansand/.cpan/build/2023050901/Test-POE-Client-TCP-1.26-0/blib/lib:/home/cpansand/.cpan/build/2023050901/HTTP-Parser-0.06-0/blib/arch:/home/cpansand/.cpan/build/2023050901/HTTP-Parser-0.06-0/blib/lib:/home/cpansand/.cpan/build/2023050901/MooseX-POE-0.215-0/blib/arch:/home/cpansand/.cpan/build/2023050901/MooseX-POE-0.215-0/blib/lib
PERL5OPT =
PERL5_CPANPLUS_IS_RUNNING = 2552983
PERL5_CPAN_IS_RUNNING = 2552983
PERL5_CPAN_IS_RUNNING_IN_RECURSION = 2357017,2552983
PERLDOC = -MPod::Perldoc::ToTextOverstrike
PERL_BATCH = yes
PERL_CANARY_STABILITY_NOPROMPT = 1
PERL_CPAN_REPORTER_CONFIG = /var/tmp/cpansmoker-1023/2023050821/cpanreporter_000_config.ini
PERL_EXTUTILS_AUTOINSTALL = --defaultdeps
PERL_USE_UNSAFE_INC = 1
SHELL = /usr/bin/zsh
TERM = screen
TMPDIR = /var/tmp/cpansmoker-1023/2023050821
Perl special variables (and OS-specific diagnostics, for MSWin32):
$^X = /opt/perl-5.36.0t/bin/perl
$UID/$EUID = 1023 / 1023
$GID = 1023 1023
$EGID = 1023 1023
Perl module toolchain versions installed:
Module Have
------------------- --------
CPAN 2.33
CPAN::Meta 2.150010
Cwd 3.84
ExtUtils::CBuilder 0.280236
ExtUtils::Command 7.64
ExtUtils::Install 2.20
ExtUtils::MakeMaker 7.64
ExtUtils::Manifest 1.73
ExtUtils::ParseXS 3.45
File::Spec 3.84
JSON 4.06
JSON::PP 4.07
Module::Build 0.4231
Module::Signature n/a
Parse::CPAN::Meta 2.150010
Test::Harness 3.44
Test::More 1.302190
YAML 1.30
YAML::Syck 1.34
version 0.9929
--
Summary of my perl5 (revision 5 version 36 subversion 0) configuration:
Platform:
osname=linux
osvers=5.10.0-13-amd64
archname=x86_64-linux-thread-multi
uname='linux eserte 5.10.0-13-amd64 #1 smp debian 5.10.106-1 (2022-03-17) x86_64 gnulinux '
config_args='-ds -e -Dprefix=/opt/perl-5.36.0t -Dusethreads -Dcf_email=srezic@cpan.org'
hint=recommended
useposix=true
d_sigaction=define
useithreads=define
usemultiplicity=define
use64bitint=define
use64bitall=define
uselongdouble=undef
usemymalloc=n
default_inc_excludes_dot=define
Compiler:
cc='cc'
ccflags ='-D_REENTRANT -D_GNU_SOURCE -fwrapv -fno-strict-aliasing -pipe -fstack-protector-strong -I/usr/local/include -D_LARGEFILE_SOURCE -D_FILE_OFFSET_BITS=64 -D_FORTIFY_SOURCE=2'
optimize='-O2'
cppflags='-D_REENTRANT -D_GNU_SOURCE -fwrapv -fno-strict-aliasing -pipe -fstack-protector-strong -I/usr/local/include'
ccversion=''
gccversion='10.2.1 20210110'
gccosandvers=''
intsize=4
longsize=8
ptrsize=8
doublesize=8
byteorder=12345678
doublekind=3
d_longlong=define
longlongsize=8
d_longdbl=define
longdblsize=16
longdblkind=3
ivtype='long'
ivsize=8
nvtype='double'
nvsize=8
Off_t='off_t'
lseeksize=8
alignbytes=8
prototype=define
Linker and Libraries:
ld='cc'
ldflags =' -fstack-protector-strong -L/usr/local/lib'
libpth=/usr/local/lib /usr/lib/x86_64-linux-gnu /usr/lib /lib/x86_64-linux-gnu /lib
libs=-lpthread -lnsl -lgdbm -ldb -ldl -lm -lcrypt -lutil -lc
perllibs=-lpthread -lnsl -ldl -lm -lcrypt -lutil -lc
libc=libc-2.31.so
so=so
useshrplib=false
libperl=libperl.a
gnulibc_version='2.31'
Dynamic Linking:
dlsrc=dl_dlopen.xs
dlext=so
d_dlsymun=undef
ccdlflags='-Wl,-E'
cccdlflags='-fPIC'
lddlflags='-shared -O2 -L/usr/local/lib -fstack-protector-strong'
Characteristics of this binary (from libperl):
Compile-time options:
HAS_TIMES
MULTIPLICITY
PERLIO_LAYERS
PERL_COPY_ON_WRITE
PERL_DONT_CREATE_GVSV
PERL_MALLOC_WRAP
PERL_OP_PARENT
PERL_PRESERVE_IVUV
USE_64_BIT_ALL
USE_64_BIT_INT
USE_ITHREADS
USE_LARGE_FILES
USE_LOCALE
USE_LOCALE_COLLATE
USE_LOCALE_CTYPE
USE_LOCALE_NUMERIC
USE_LOCALE_TIME
USE_PERLIO
USE_PERL_ATOF
USE_REENTRANT_API
USE_THREAD_SAFE_LOCALE
Built under linux
Compiled at May 30 2022 19:18:45
%ENV:
PERL5LIB="/home/cpansand/.cpan/build/2023050901/POE-Filter-HTTP-Parser-1.08-0/blib/arch:/home/cpansand/.cpan/build/2023050901/POE-Filter-HTTP-Parser-1.08-0/blib/lib:/home/cpansand/.cpan/build/2023050901/Test-POE-Server-TCP-1.20-0/blib/arch:/home/cpansand/.cpan/build/2023050901/Test-POE-Server-TCP-1.20-0/blib/lib:/home/cpansand/.cpan/build/2023050901/Test-POE-Client-TCP-1.26-0/blib/arch:/home/cpansand/.cpan/build/2023050901/Test-POE-Client-TCP-1.26-0/blib/lib:/home/cpansand/.cpan/build/2023050901/HTTP-Parser-0.06-0/blib/arch:/home/cpansand/.cpan/build/2023050901/HTTP-Parser-0.06-0/blib/lib:/home/cpansand/.cpan/build/2023050901/MooseX-POE-0.215-0/blib/arch:/home/cpansand/.cpan/build/2023050901/MooseX-POE-0.215-0/blib/lib"
PERL5OPT=""
PERL5_CPANPLUS_IS_RUNNING="2552983"
PERL5_CPAN_IS_RUNNING="2552983"
PERL5_CPAN_IS_RUNNING_IN_RECURSION="2357017,2552983"
PERLDOC="-MPod::Perldoc::ToTextOverstrike"
PERL_BATCH="yes"
PERL_CANARY_STABILITY_NOPROMPT="1"
PERL_CPAN_REPORTER_CONFIG="/var/tmp/cpansmoker-1023/2023050821/cpanreporter_000_config.ini"
PERL_EXTUTILS_AUTOINSTALL="--defaultdeps"
PERL_USE_UNSAFE_INC="1"
@INC:
/home/cpansand/.cpan/build/2023050901/POE-Filter-HTTP-Parser-1.08-0/blib/arch
/home/cpansand/.cpan/build/2023050901/POE-Filter-HTTP-Parser-1.08-0/blib/lib
/home/cpansand/.cpan/build/2023050901/Test-POE-Server-TCP-1.20-0/blib/arch
/home/cpansand/.cpan/build/2023050901/Test-POE-Server-TCP-1.20-0/blib/lib
/home/cpansand/.cpan/build/2023050901/Test-POE-Client-TCP-1.26-0/blib/arch
/home/cpansand/.cpan/build/2023050901/Test-POE-Client-TCP-1.26-0/blib/lib
/home/cpansand/.cpan/build/2023050901/HTTP-Parser-0.06-0/blib/arch
/home/cpansand/.cpan/build/2023050901/HTTP-Parser-0.06-0/blib/lib
/home/cpansand/.cpan/build/2023050901/MooseX-POE-0.215-0/blib/arch
/home/cpansand/.cpan/build/2023050901/MooseX-POE-0.215-0/blib/lib
/opt/perl-5.36.0t/lib/site_perl/5.36.0/x86_64-linux-thread-multi
/opt/perl-5.36.0t/lib/site_perl/5.36.0
/opt/perl-5.36.0t/lib/5.36.0/x86_64-linux-thread-multi
/opt/perl-5.36.0t/lib/5.36.0
.