Debug-Client v0.34 Perl 5 v5.40.0 armv6l-linux
- Status
- Pass
- From
- gregor herrmann
- Dist
-
Debug-Client v0.34
- Platform
- Perl 5 v5.40.0 armv6l-linux
- Date
- 2025-01-10 11:36:49
- ID
- 2e385dac-cf47-11ef-a94d-c807b840fecc
This distribution has been tested as part of the CPAN Testers
project, supporting the Perl programming language. See
http://wiki.cpantesters.org/ for more information or email
questions to cpan-testers-discuss@perl.org
--
Dear Gabor Szabo,
This is a computer-generated report for Debug-Client-0.34
on perl 5.40.0, created by CPAN-Reporter-1.2019.
Thank you for uploading your work to CPAN. Congratulations!
All tests were successful.
Sections of this report:
* Tester comments
* Program output
* Prerequisites
* Environment and other context
------------------------------
TESTER COMMENTS
------------------------------
Additional comments from tester:
this report is from an automated smoke testing program
and was not reviewed by a human for accuracy
------------------------------
PROGRAM OUTPUT
------------------------------
Output from '/usr/bin/make test':
PERL_DL_NONLAZY=1 "/srv/smoker/perl5/perlbrew/perls/perl-5.40.0/bin/perl" "-MExtUtils::Command::MM" "-MTest::Harness" "-e" "undef *Test::Harness::Switches; test_harness(0, 'inc', 'blib/lib', 'blib/arch')" t/*.t
t/00-check-deps.t ...... ok
# Prerequisite Report:
# ÃÂ Version Module
# ÃÂ -------- ---------------------
# ÃÂ 1.54 Carp
# ÃÂ 5.78 Exporter
# ÃÂ 7.71_02 ExtUtils::MakeMaker
# ÃÂ 1.006 File::HomeDir
# ÃÂ 3.90 File::Spec
# ÃÂ 3.91 File::Spec::Functions
# ÃÂ 0.2311 File::Temp
# ÃÂ 0.43 IO::Socket::IP
# ÃÂ 1.68 List::Util
# ÃÂ 2.5 PadWalker
# ÃÂ 1.17 Term::ReadLine
# ÃÂ 1.46 Term::ReadLine::Gnu
# ÃÂ 0.010 Test::CheckDeps
# ÃÂ 0.52 Test::Class
# ÃÂ 1.204 Test::Deep
# ÃÂ 1.302207 Test::More
# ÃÂ 1.52 Test::Pod
# ÃÂ 1.10 Test::Pod::Coverage
# ÃÂ 0.11 Test::Requires
# ÃÂ missing Win32
# ÃÂ missing Win32::Process
# ÃÂ 1.33 constant
# ÃÂ 0.244 parent
# ÃÂ 0.9933 version
t/00-report-prereqs.t .. ok
# Info: Testing Debug::Client 0.34
# Info: Perl v5.40.0
t/01-compile.t ......... ok
t/02-exports.t ......... ok
t/03-pod.t ............. skipped: Author tests, not required for installation.
t/04-pod-coverage.t .... skipped: Author tests, not required for installation.
#
# Info: Perl v5.40.0
# Info: OS linux
# Info: Term::ReadLine::Gnu installed
# Info: Using ReadLine implementation -> Term::ReadLine::Gnu
# INFO: $ENV{TERM} -> screen-256color
t/06-term.t ............ ok
t/07-initialize.t ...... ok
t/08-io.t .............. ok
t/10-top_tail.t ........ ok
t/10-top_tail_old.t .... ok
t/11-add.t ............. ok
t/13-return.t .......... ok
t/14-run.t ............. ok
# Info: perl5db version 1.80
t/15-run_to_line.t ..... ok
t/16-run_to_sub.t ...... ok
t/17-stepin.t .......... ok
t/18-stepout.t ......... ok
t/19-stepover.t ........ ok
t/20-get_value.t ....... ok
t/21-toggle_trace.t .... ok
t/22-subnames.t ........ ok
t/23-breakpoints.t ..... ok
t/24-y_zero.t .......... ok
t/25-get_v_vars.t ...... ok
t/26-get_x_vars.t ...... ok
t/27-get_p_exp.t ....... ok
t/28-get_h_var.t ....... ok
# Info: ComamandSet = '580'
t/29-options.t ......... ok
t/40-test_1415-old.t ... ok
t/40-test_1415.t ....... ok
eg/debugger.pl syntax OK
t/41-eg.t .............. ok
t/99-perldb.t .......... ok
# Prerequisite Report:
# ÃÂ Version Module
# ÃÂ -------- ---------------------
# ÃÂ 1.54 Carp
# ÃÂ 5.78 Exporter
# ÃÂ 7.71_02 ExtUtils::MakeMaker
# ÃÂ 1.006 File::HomeDir
# ÃÂ 3.90 File::Spec
# ÃÂ 3.91 File::Spec::Functions
# ÃÂ 0.2311 File::Temp
# ÃÂ 0.43 IO::Socket::IP
# ÃÂ 1.68 List::Util
# ÃÂ 2.5 PadWalker
# ÃÂ 1.17 Term::ReadLine
# ÃÂ 1.46 Term::ReadLine::Gnu
# ÃÂ 0.010 Test::CheckDeps
# ÃÂ 0.52 Test::Class
# ÃÂ 1.204 Test::Deep
# ÃÂ 1.302207 Test::More
# ÃÂ 1.52 Test::Pod
# ÃÂ 1.10 Test::Pod::Coverage
# ÃÂ 0.11 Test::Requires
# ÃÂ missing Win32
# ÃÂ missing Win32::Process
# ÃÂ 1.33 constant
# ÃÂ 0.244 parent
# ÃÂ 0.9933 version
t/report-prereqs.t ..... ok
All tests successful.
Files=34, Tests=183, 318 wallclock secs ( 1.88 usr 0.35 sys + 124.31 cusr 7.03 csys = 133.57 CPU)
Result: PASS
------------------------------
PREREQUISITES
------------------------------
Prerequisite modules loaded:
requires:
Module Need Have
------------------- -------- --------
Carp 1.3301 1.54
constant 1.27 1.33
Exporter 5.70 5.78
IO::Socket::IP 0.29 0.43
PadWalker 1.98 2.5
perl 5.010001 5.040000
Term::ReadLine 1.14 1.17
Term::ReadLine::Gnu 1.24 1.46
build_requires:
Module Need Have
------------------- -------- --------
ExtUtils::MakeMaker 6.59 7.71_02
File::HomeDir 1 1.006
File::Temp 0.2304 0.2311
List::Util 1.38 1.68
parent 0.228 0.244
Test::CheckDeps 0.01 0.010
Test::Class 0.42 0.52
Test::Deep 0.112 1.204
Test::More 1.001003 1.302207
Test::Requires 0.07 0.11
version 0.9908 0.9933
configure_requires:
Module Need Have
------------------- -------- --------
ExtUtils::MakeMaker 6.59 7.71_02
------------------------------
ENVIRONMENT AND OTHER CONTEXT
------------------------------
Environment variables:
AUTOMATED_TESTING = 1
LC_CTYPE = de_AT.utf8
LD_LIBRARY_PATH = /usr/lib/libeatmydata
NONINTERACTIVE_TESTING = 1
PATH = /srv/smoker/bin:/usr/lib/ccache:/srv/smoker/perl5/perlbrew/bin:/srv/smoker/perl5/perlbrew/perls/perl-5.40.0/bin:/usr/local/bin:/usr/bin:/bin:/usr/local/games:/usr/games
PERL5LIB =
PERL5OPT =
PERL5_CPANPLUS_IS_RUNNING = 19441
PERL5_CPAN_IS_RUNNING = 19441
PERL5_CPAN_IS_RUNNING_IN_RECURSION = 11373,19441
PERLBREW_HOME = /srv/smoker/.perlbrew
PERLBREW_MANPATH = /srv/smoker/perl5/perlbrew/perls/perl-5.40.0/man
PERLBREW_PATH = /srv/smoker/perl5/perlbrew/bin:/srv/smoker/perl5/perlbrew/perls/perl-5.40.0/bin
PERLBREW_PERL = perl-5.40.0
PERLBREW_ROOT = /srv/smoker/perl5/perlbrew
PERLBREW_SHELLRC_VERSION = 1.01
PERLBREW_VERSION = 1.01
PERL_CPANM_OPT = --prompt --configure-timeout 300 --build-timeout 18000 --test-timeout 18000 --from https://www.cpan.org
PERL_CR_SMOKER_CURRENT = Debug-Client-0.34
PERL_EXTUTILS_AUTOINSTALL = --defaultdeps
PERL_MM_USE_DEFAULT = 1
PERL_TEST_TIME_OUT_FACTOR = 3
PERL_TEST_TIME_OUT_FACTOR = 3
PERL_USE_UNSAFE_INC = 1
SHELL = /bin/bash
TERM = screen-256color
Perl special variables (and OS-specific diagnostics, for MSWin32):
$^X = /srv/smoker/perl5/perlbrew/perls/perl-5.40.0/bin/perl
$UID/$EUID = 1111 / 1111
$GID = 65534 65534
$EGID = 65534 65534
Perl module toolchain versions installed:
Module Have
------------------- --------
CPAN 2.38
CPAN::Meta 2.150010
Cwd 3.90
ExtUtils::CBuilder 0.280240
ExtUtils::Command 7.71_02
ExtUtils::Install 2.22
ExtUtils::MakeMaker 7.71_02
ExtUtils::Manifest 1.75
ExtUtils::ParseXS 3.51
File::Spec 3.90
JSON 4.10
JSON::PP 4.16
Module::Build 0.4234
Module::Signature 0.89
Parse::CPAN::Meta 2.150010
Test2 1.302207
Test::Harness 3.50
Test::More 1.302207
YAML 1.31
YAML::Syck 1.34
version 0.9933
--
Summary of my perl5 (revision 5 version 40 subversion 0) configuration:
Platform:
osname=linux
osvers=5.10.103+
archname=armv6l-linux
uname='linux smoker 5.10.103+ #1529 tue mar 8 12:19:18 gmt 2022 armv6l gnulinux '
config_args='-de -Dprefix=/srv/smoker/perl5/perlbrew/perls/perl-5.40.0 -Aeval:scriptdir=/srv/smoker/perl5/perlbrew/perls/perl-5.40.0/bin'
hint=recommended
useposix=true
d_sigaction=define
useithreads=undef
usemultiplicity=undef
use64bitint=undef
use64bitall=undef
uselongdouble=undef
usemymalloc=n
default_inc_excludes_dot=define
Compiler:
cc='cc'
ccflags ='-fwrapv -fno-strict-aliasing -pipe -fstack-protector-strong -I/usr/local/include -D_LARGEFILE_SOURCE -D_FILE_OFFSET_BITS=64 -D_FORTIFY_SOURCE=2'
optimize='-O2'
cppflags='-fwrapv -fno-strict-aliasing -pipe -fstack-protector-strong -I/usr/local/include'
ccversion=''
gccversion='13.2.0'
gccosandvers=''
intsize=4
longsize=4
ptrsize=4
doublesize=8
byteorder=1234
doublekind=3
d_longlong=define
longlongsize=8
d_longdbl=define
longdblsize=8
longdblkind=0
ivtype='long'
ivsize=4
nvtype='double'
nvsize=8
Off_t='off_t'
lseeksize=8
alignbytes=8
prototype=define
Linker and Libraries:
ld='cc'
ldflags =' -fstack-protector-strong -L/usr/local/lib'
libpth=/usr/local/lib /usr/lib/arm-linux-gnueabihf /usr/lib
libs=-lpthread -ldb -ldl -lm -lcrypt -lutil -lc
perllibs=-lpthread -ldl -lm -lcrypt -lutil -lc
libc=/lib/arm-linux-gnueabihf/libc.so.6
so=so
useshrplib=false
libperl=libperl.a
gnulibc_version='2.38'
Dynamic Linking:
dlsrc=dl_dlopen.xs
dlext=so
d_dlsymun=undef
ccdlflags='-Wl,-E'
cccdlflags='-fPIC'
lddlflags='-shared -O2 -L/usr/local/lib -fstack-protector-strong'
Characteristics of this binary (from libperl):
Compile-time options:
HAS_LONG_DOUBLE
HAS_STRTOLD
HAS_TIMES
PERLIO_LAYERS
PERL_COPY_ON_WRITE
PERL_DONT_CREATE_GVSV
PERL_HASH_FUNC_ZAPHOD32
PERL_HASH_USE_SBOX32
PERL_MALLOC_WRAP
PERL_OP_PARENT
PERL_PRESERVE_IVUV
PERL_USE_SAFE_PUTENV
USE_LARGE_FILES
USE_LOCALE
USE_LOCALE_COLLATE
USE_LOCALE_CTYPE
USE_LOCALE_NUMERIC
USE_LOCALE_TIME
USE_PERLIO
USE_PERL_ATOF
Built under linux
Compiled at Jun 10 2024 21:35:21
%ENV:
PERL5LIB=""
PERL5OPT=""
PERL5_CPANPLUS_IS_RUNNING="19441"
PERL5_CPAN_IS_RUNNING="19441"
PERL5_CPAN_IS_RUNNING_IN_RECURSION="11373,19441"
PERLBREW_HOME="/srv/smoker/.perlbrew"
PERLBREW_MANPATH="/srv/smoker/perl5/perlbrew/perls/perl-5.40.0/man"
PERLBREW_PATH="/srv/smoker/perl5/perlbrew/bin:/srv/smoker/perl5/perlbrew/perls/perl-5.40.0/bin"
PERLBREW_PERL="perl-5.40.0"
PERLBREW_ROOT="/srv/smoker/perl5/perlbrew"
PERLBREW_SHELLRC_VERSION="1.01"
PERLBREW_VERSION="1.01"
PERL_CPANM_OPT="--prompt --configure-timeout 300 --build-timeout 18000 --test-timeout 18000 --from https://www.cpan.org"
PERL_CR_SMOKER_CURRENT="Debug-Client-0.34"
PERL_EXTUTILS_AUTOINSTALL="--defaultdeps"
PERL_MM_USE_DEFAULT="1"
PERL_TEST_TIME_OUT_FACTOR="3"
PERL_USE_UNSAFE_INC="1"
@INC:
/srv/smoker/perl5/perlbrew/perls/perl-5.40.0/lib/site_perl/5.40.0/armv6l-linux
/srv/smoker/perl5/perlbrew/perls/perl-5.40.0/lib/site_perl/5.40.0
/srv/smoker/perl5/perlbrew/perls/perl-5.40.0/lib/5.40.0/armv6l-linux
/srv/smoker/perl5/perlbrew/perls/perl-5.40.0/lib/5.40.0
.