Alien-sqlite v1.07 Perl 5 v5.20.3 x86_64-linux-thread-multi-ld

Status
Pass
From
Andreas J. König (ANDK)
Dist
Alien-sqlite v1.07
Platform
Perl 5 v5.20.3 x86_64-linux-thread-multi-ld
Date
2023-12-29 07:30:46
ID
2e8b0944-a61c-11ee-98fb-1665feb3dfcc
This distribution has been tested as part of the CPAN Testers
project, supporting the Perl programming language.  See
http://wiki.cpantesters.org/ for more information or email
questions to cpan-testers-discuss@perl.org


--
Dear Shawn Laffan,

This is a computer-generated report for Alien-sqlite-1.07
on perl 5.20.3, created by CPAN-Reporter-1.2019.

Thank you for uploading your work to CPAN.  Congratulations!
All tests were successful.

Sections of this report:

    * Tester comments
    * Program output
    * Prerequisites
    * Environment and other context

------------------------------
TESTER COMMENTS
------------------------------

Additional comments from tester:

this report is from an automated smoke testing program
and was not reviewed by a human for accuracy

------------------------------
PROGRAM OUTPUT
------------------------------

Output from '/usr/bin/make test':

"/home/sand/src/perl/repoperls/installed-perls/host/k93msid/v5.20.3/8854/bin/perl" -MAlien::Build::MM=cmd -e test
Alien::Build::Plugin::PkgConfig::Negotiate> Using PkgConfig plugin: PkgConfig::CommandLine
Downloaded version is 3.39.3
Running under CI or automated testing
PERL_DL_NONLAZY=1 "/home/sand/src/perl/repoperls/installed-perls/host/k93msid/v5.20.3/8854/bin/perl" "-MExtUtils::Command::MM" "-MTest::Harness" "-e" "undef *Test::Harness::Switches; test_harness(0, 'blib/lib', 'blib/arch')" t/*.t
# Testing Alien::sqlite 1.07, Perl 5.020003, /home/sand/src/perl/repoperls/installed-perls/host/k93msid/v5.20.3/8854/bin/perl
t/00-load.t .... ok
# NAME=sqlite3
# VERSION=3.39.3
# CFLAGS: -I/tmp/loop_over_bdir-2851637-avObIt/Alien-sqlite-1.07-0/blib/lib/auto/share/dist/Alien-sqlite/include
t/01-config.t .. ok
# libs: -L/tmp/loop_over_bdir-2851637-avObIt/Alien-sqlite-1.07-0/blib/lib/auto/share/dist/Alien-sqlite/lib -lsqlite3
# cflags: -I/tmp/loop_over_bdir-2851637-avObIt/Alien-sqlite-1.07-0/blib/lib/auto/share/dist/Alien-sqlite/include
# Dynamic libs: /tmp/loop_over_bdir-2851637-avObIt/Alien-sqlite-1.07-0/blib/lib/auto/share/dist/Alien-sqlite/lib/libsqlite3.so:/tmp/loop_over_bdir-2851637-avObIt/Alien-sqlite-1.07-0/blib/lib/auto/share/dist/Alien-sqlite/lib/libsqlite3.so.0:/tmp/loop_over_bdir-2851637-avObIt/Alien-sqlite-1.07-0/blib/lib/auto/share/dist/Alien-sqlite/lib/libsqlite3.so.0.8.6
# bin dir: /tmp/loop_over_bdir-2851637-avObIt/Alien-sqlite-1.07-0/blib/lib/auto/share/dist/Alien-sqlite/bin
t/02-use.t ..... ok
# bin dir: /tmp/loop_over_bdir-2851637-avObIt/Alien-sqlite-1.07-0/blib/lib/auto/share/dist/Alien-sqlite/bin
# /tmp/loop_over_bdir-2851637-avObIt/Alien-sqlite-1.07-0/blib/lib/auto/share/dist/Alien-sqlite/bin/sqlite3 exited with value 0
# sqlite3 -version: 3.39.3 2022-09-05 11:02:23 4635f4a69c8c2a8df242b384a992aea71224e39a2ccab42d8c0b0602f1e826e8
t/03-run.t ..... ok
All tests successful.

Test Summary Report
-------------------
t/02-use.t   (Wstat: 0 Tests: 3 Failed: 0)
  TODO passed:   3
Files=4, Tests=9,  1 wallclock secs ( 0.02 usr  0.01 sys +  0.66 cusr  0.25 csys =  0.94 CPU)
Result: PASS

------------------------------
PREREQUISITES
------------------------------

Prerequisite modules loaded:

requires:

    Module                                  Need    Have    
    --------------------------------------- ------- --------
    Alien::Base                             1.41    2.81_01 
    Alien::Build                            1.74    2.81_01 
    FFI::CheckLib                           0.23    0.31    

build_requires:

    Module                                  Need    Have    
    --------------------------------------- ------- --------
    Alien::Build                            2.25    2.81_01 
    Alien::Build::MM                        1.74    2.81_01 
    Alien::Build::Plugin::Cleanse::BuildDir 0       0.06    
    Archive::Tar                            0       3.02    
    Config                                  0       5.020003
    ExtUtils::MakeMaker                     6.52    7.70    
    FFI::CheckLib                           0.23    0.31    
    File::Find::Rule                        0       0.34    
    HTTP::Tiny                              0.044   0.084   
    IO::Socket::SSL                         1.56    2.083   
    IO::Zlib                                0       1.14    
    Mojo::DOM58                             1.00    3.001   
    Mozilla::CA                             0       20221114
    Net::SSLeay                             1.49    1.92    
    PkgConfig                               0.19026 0.25026 
    Sort::Versions                          0       1.62    
    Test::Alien                             0       2.81_01 
    URI                                     0       5.21    
    URI::Escape                             0       5.21    

configure_requires:

    Module                                  Need    Have    
    --------------------------------------- ------- --------
    Alien::Build                            2.25    2.81_01 
    Alien::Build::MM                        1.74    2.81_01 
    Alien::Build::Plugin::Cleanse::BuildDir 0       0.06    
    ExtUtils::MakeMaker                     6.52    7.70    
    File::Find::Rule                        0       0.34    
    PkgConfig                               0       0.25026 
    Sort::Versions                          0       1.62    


------------------------------
ENVIRONMENT AND OTHER CONTEXT
------------------------------

Environment variables:

    AUTOMATED_TESTING = 1
    LANG = en_US.UTF-8
    LANGUAGE = en_US:en
    PATH = /home/sand/bin:/usr/local/bin:/usr/bin:/bin:/usr/games:/usr/local/perl/bin:/usr/X11/bin:/sbin:/usr/sbin
    PERL5LIB = 
    PERL5OPT = 
    PERL5_CPANPLUS_IS_RUNNING = 2727951
    PERL5_CPAN_IS_RUNNING = 2727951
    PERL_CANARY_STABILITY_NOPROMPT = 1
    PERL_MM_USE_DEFAULT = 1
    PERL_USE_UNSAFE_INC = 1
    SHELL = /usr/bin/zsh
    TERM = screen

Perl special variables (and OS-specific diagnostics, for MSWin32):

    $^X = /home/sand/src/perl/repoperls/installed-perls/host/k93msid/v5.20.3/8854/bin/perl
    $UID/$EUID = 1005 / 1005
    $GID = 1005 1005
    $EGID = 1005 1005

Perl module toolchain versions installed:

    Module              Have    
    ------------------- --------
    CPAN                2.36    
    CPAN::Meta          2.150010
    Cwd                 3.75    
    ExtUtils::CBuilder  0.280236
    ExtUtils::Command   7.70    
    ExtUtils::Install   2.06    
    ExtUtils::MakeMaker 7.70    
    ExtUtils::Manifest  1.70    
    ExtUtils::ParseXS   3.51    
    File::Spec          3.75    
    JSON                4.10    
    JSON::PP            4.16    
    Module::Build       0.4234  
    Module::Signature   0.88    
    Parse::CPAN::Meta   2.150010
    Test2               1.302195
    Test::Harness       3.44    
    Test::More          1.302195
    YAML                1.30    
    YAML::Syck          1.34    
    version             0.9929  


--

Summary of my perl5 (revision 5 version 20 subversion 3) configuration:
  Derived from: b67331aafd6eff33e3fd904c45e811f69cbfb0b2
  Platform:
    osname=linux, osvers=6.1.0-7-amd64, archname=x86_64-linux-thread-multi-ld
    uname='linux k93msid 6.1.0-7-amd64 #1 smp preempt_dynamic debian 6.1.20-1 (2023-03-19) x86_64 gnulinux '
    config_args='-Dprefix=/home/sand/src/perl/repoperls/installed-perls/host/k93msid/v5.20.3/8854 -Dmyhostname=k93msid -Dinstallusrbinperl=n -Uversiononly -Dusedevel -des -Ui_db -Dlibswanted=cl pthread socket inet nsl gdbm dbm malloc dl ld sun m crypt sec util c cposix posix ucb BSD gdbm_compat -Duseithreads -Duselongdouble -DEBUGGING=-g'
    hint=recommended, useposix=true, d_sigaction=define
    useithreads=define, usemultiplicity=define
    use64bitint=define, use64bitall=define, uselongdouble=define
    usemymalloc=n, bincompat5005=undef
  Compiler:
    cc='cc', ccflags ='-D_REENTRANT -D_GNU_SOURCE -fwrapv -fno-strict-aliasing -pipe -fstack-protector -I/usr/local/include -D_LARGEFILE_SOURCE -D_FILE_OFFSET_BITS=64',
    optimize='-O2 -g',
    cppflags='-D_REENTRANT -D_GNU_SOURCE -fwrapv -fno-strict-aliasing -pipe -fstack-protector -I/usr/local/include'
    ccversion='', gccversion='12.2.0', gccosandvers=''
    intsize=4, longsize=8, ptrsize=8, doublesize=8, byteorder=12345678
    d_longlong=define, longlongsize=8, d_longdbl=define, longdblsize=16
    ivtype='long', ivsize=8, nvtype='long double', nvsize=16, Off_t='off_t', lseeksize=8
    alignbytes=16, prototype=define
  Linker and Libraries:
    ld='cc', ldflags =' -fstack-protector -L/usr/local/lib'
    libpth=/usr/local/lib /usr/include/x86_64-linux-gnu /usr/lib /lib/x86_64-linux-gnu /lib/../lib /usr/lib/x86_64-linux-gnu /usr/lib/../lib /lib /lib64 /usr/lib64
    libs=-lpthread -lnsl -ldl -lm -lcrypt -lutil -lc
    perllibs=-lpthread -lnsl -ldl -lm -lcrypt -lutil -lc
    libc=/lib/x86_64-linux-gnu/libc.so.6, so=so, useshrplib=false, libperl=libperl.a
    gnulibc_version='2.36'
  Dynamic Linking:
    dlsrc=dl_dlopen.xs, dlext=so, d_dlsymun=undef, ccdlflags='-Wl,-E'
    cccdlflags='-fPIC', lddlflags='-shared -O2 -g -L/usr/local/lib -fstack-protector'


Characteristics of this binary (from libperl): 
  Compile-time options: HAS_TIMES MULTIPLICITY PERLIO_LAYERS
                        PERL_DONT_CREATE_GVSV
                        PERL_HASH_FUNC_ONE_AT_A_TIME_HARD
                        PERL_IMPLICIT_CONTEXT PERL_MALLOC_WRAP
                        PERL_NEW_COPY_ON_WRITE PERL_PRESERVE_IVUV
                        PERL_USE_DEVEL USE_64_BIT_ALL USE_64_BIT_INT
                        USE_ITHREADS USE_LARGE_FILES USE_LOCALE
                        USE_LOCALE_COLLATE USE_LOCALE_CTYPE
                        USE_LOCALE_NUMERIC USE_LONG_DOUBLE USE_PERLIO
                        USE_PERL_ATOF USE_REENTRANT_API
  Locally applied patches:
	uncommitted-changes
  Built under linux
  Compiled at Jun 17 2023 07:27:07
  %ENV:
    PERL5LIB=""
    PERL5OPT=""
    PERL5_CPANPLUS_IS_RUNNING="2727951"
    PERL5_CPAN_IS_RUNNING="2727951"
    PERL_CANARY_STABILITY_NOPROMPT="1"
    PERL_MM_USE_DEFAULT="1"
    PERL_USE_UNSAFE_INC="1"
  @INC:
    /home/sand/src/perl/repoperls/installed-perls/host/k93msid/v5.20.3/8854/lib/site_perl/5.20.3/x86_64-linux-thread-multi-ld
    /home/sand/src/perl/repoperls/installed-perls/host/k93msid/v5.20.3/8854/lib/site_perl/5.20.3
    /home/sand/src/perl/repoperls/installed-perls/host/k93msid/v5.20.3/8854/lib/5.20.3/x86_64-linux-thread-multi-ld
    /home/sand/src/perl/repoperls/installed-perls/host/k93msid/v5.20.3/8854/lib/5.20.3
    .