Dist-Zilla-Plugin-Test-EOL v0.19 Perl 5 v5.30.3 amd64-freebsd-ld
- Status
- Pass
- From
- Slaven Rezić
- Dist
-
Dist-Zilla-Plugin-Test-EOL v0.19
- Platform
- Perl 5 v5.30.3 amd64-freebsd-ld
- Date
- 2024-08-23 17:57:37
- ID
- 2eb11b52-6179-11ef-8bf8-0e0c6e8775ea
This distribution has been tested as part of the CPAN Testers
project, supporting the Perl programming language. See
http://wiki.cpantesters.org/ for more information or email
questions to cpan-testers-discuss@perl.org
--
Dear Karen Etheridge,
This is a computer-generated report for Dist-Zilla-Plugin-Test-EOL-0.19
on perl 5.30.3, created by CPAN-Reporter-1.2019.
Thank you for uploading your work to CPAN. Congratulations!
All tests were successful.
Sections of this report:
* Tester comments
* Program output
* Prerequisites
* Environment and other context
------------------------------
TESTER COMMENTS
------------------------------
Additional comments from tester:
none provided
------------------------------
PROGRAM OUTPUT
------------------------------
Output from './Build test':
#
# Versions for all modules listed in MYMETA.json (including optional ones):
#
# === Configure Requires ===
#
# Module Want Have
# ------------------- ----- -----
# Module::Build::Tiny 0.034 0.047
#
# === Test Requires ===
#
# Module Want Have
# ---------------- ----- --------
# File::Spec any 3.78
# File::pushd any 1.016
# FindBin any 1.51
# Module::Metadata any 1.000038
# Test::DZil any 6.032
# Test::Deep any 1.204
# Test::EOL any 2.02
# Test::More 0.88 1.302200
# Test::Warnings 0.009 0.033
# if any 0.0608
#
# === Test Recommends ===
#
# Module Want Have
# ---------- -------- --------
# CPAN::Meta 2.120900 2.150010
#
# === Runtime Requires ===
#
# Module Want Have
# --------------------------------- ----- --------
# Data::Section 0.004 0.200008
# Dist::Zilla::File::InMemory any 6.032
# Dist::Zilla::Role::FileFinderUser any 6.032
# Dist::Zilla::Role::FileGatherer any 6.032
# Dist::Zilla::Role::FileMunger any 6.032
# Dist::Zilla::Role::PrereqSource any 6.032
# Dist::Zilla::Role::TextTemplate any 6.032
# Moose any 2.2207
# Moose::Util::TypeConstraints any 2.2207
# Path::Tiny any 0.144
# Sub::Exporter::ForMethods any 0.100055
# namespace::autoclean any 0.29
# strict any 1.11
# warnings any 1.44
#
# === Other Modules ===
#
# Module Have
# --------------------- --------
# CPAN::Meta::Validator 2.150010
# Pod::Coverage 0.23
#
t/00-report-prereqs.t .. ok
t/01-basic.t ........... ok
t/02-eoltests.t ........ ok
t/03-finder.t .......... ok
t/04-filename.t ........ ok
t/eol.t ................ ok
t/prereqs.t ............ ok
t/zzz-check-breaks.t ... ok
All tests successful.
Files=8, Tests=66, 4 wallclock secs ( 0.04 usr 0.02 sys + 3.13 cusr 0.31 csys = 3.50 CPU)
Result: PASS
------------------------------
PREREQUISITES
------------------------------
Prerequisite modules loaded:
requires:
Module Need Have
--------------------------------- ----- --------
Data::Section 0.004 0.200008
Dist::Zilla::File::InMemory 0 6.032
Dist::Zilla::Role::FileFinderUser 0 6.032
Dist::Zilla::Role::FileGatherer 0 6.032
Dist::Zilla::Role::FileMunger 0 6.032
Dist::Zilla::Role::PrereqSource 0 6.032
Dist::Zilla::Role::TextTemplate 0 6.032
Moose 0 2.2207
Moose::Util::TypeConstraints 0 2.2207
namespace::autoclean 0 0.29
Path::Tiny 0 0.144
perl 5.006 5.030003
strict 0 1.11
Sub::Exporter::ForMethods 0 0.100055
warnings 0 1.44
build_requires:
Module Need Have
--------------------------------- ----- --------
File::pushd 0 1.016
File::Spec 0 3.78
FindBin 0 1.51
if 0 0.0608
Module::Metadata 0 1.000038
perl 5.006 5.030003
Test::Deep 0 1.204
Test::DZil 0 6.032
Test::EOL 0 2.02
Test::More 0.88 1.302200
Test::Warnings 0.009 0.033
configure_requires:
Module Need Have
--------------------------------- ----- --------
Module::Build::Tiny 0.034 0.047
perl 5.006 5.030003
------------------------------
ENVIRONMENT AND OTHER CONTEXT
------------------------------
Environment variables:
PATH = /usr/local/bin:/usr/bin:/bin:/usr/local/sbin:/usr/sbin:/sbin:/home/cpansand/bin/sh:/home/cpansand/bin:/usr/games:/home/cpansand/devel:/usr/home/eserte/src/srezic-misc/scripts
PERL5LIB =
PERL5OPT =
PERL5_CPANPLUS_IS_RUNNING = 87786
PERL5_CPAN_IS_RUNNING = 87786
PERL5_CPAN_IS_RUNNING_IN_RECURSION = 83500,87786
PERL_BATCH = yes
PERL_CANARY_STABILITY_NOPROMPT = 1
PERL_CPAN_REPORTER_CONFIG = /var/tmp/cpansmoker-1023/2024082317/cpanreporter_000_config.ini
PERL_EXTUTILS_AUTOINSTALL = --defaultdeps
PERL_USE_UNSAFE_INC = 1
SHELL = /bin/sh
TMPDIR = /var/tmp/cpansmoker-1023/2024082317
Perl special variables (and OS-specific diagnostics, for MSWin32):
$^X = /usr/perl5.30.3Dp/bin/perl
$UID/$EUID = 1023 / 1023
$GID = 1023 1023
$EGID = 1023 1023
Perl module toolchain versions installed:
Module Have
------------------- --------
CPAN 2.22
CPAN::Meta 2.150010
Cwd 3.78
ExtUtils::CBuilder 0.280236
ExtUtils::Command 7.70
ExtUtils::Install 2.14
ExtUtils::MakeMaker 7.70
ExtUtils::Manifest 1.75
ExtUtils::ParseXS 3.51
File::Spec 3.78
JSON 4.10
JSON::PP 4.16
Module::Build 0.4234
Module::Signature 0.88
Parse::CPAN::Meta 2.150010
Test2 1.302200
Test::Harness 3.42
Test::More 1.302200
YAML 1.31
YAML::Syck 1.34
version 0.9924
--
Summary of my perl5 (revision 5 version 30 subversion 3) configuration:
Platform:
osname=freebsd
osvers=13.3-stable
archname=amd64-freebsd-ld
uname='freebsd cloud10.bbbike.org 13.3-stable freebsd 13.3-stable stable13-b9e32d8c8f generic amd64 '
config_args='-ds -e -Dprefix=/usr/perl5.30.3Dp -Duselongdouble -Dcf_email=srezic@cpan.org -Doptimize=-O2 -pipe'
hint=recommended
useposix=true
d_sigaction=define
useithreads=undef
usemultiplicity=undef
use64bitint=define
use64bitall=define
uselongdouble=define
usemymalloc=n
default_inc_excludes_dot=define
bincompat5005=undef
Compiler:
cc='cc'
ccflags ='-DHAS_FPSETMASK -DHAS_FLOATINGPOINT_H -fno-strict-aliasing -pipe -fstack-protector-strong -I/usr/local/include'
optimize='-O2 -pipe'
cppflags='-DHAS_FPSETMASK -DHAS_FLOATINGPOINT_H -fno-strict-aliasing -pipe -fstack-protector-strong -I/usr/local/include'
ccversion=''
gccversion='FreeBSD Clang 17.0.6 (https://github.com/llvm/llvm-project.git llvmorg-17.0.6-0-g6009708b4367)'
gccosandvers=''
intsize=4
longsize=8
ptrsize=8
doublesize=8
byteorder=12345678
doublekind=3
d_longlong=define
longlongsize=8
d_longdbl=define
longdblsize=16
longdblkind=3
ivtype='long'
ivsize=8
nvtype='long double'
nvsize=16
Off_t='off_t'
lseeksize=8
alignbytes=16
prototype=define
Linker and Libraries:
ld='cc'
ldflags ='-pthread -Wl,-E -fstack-protector-strong -L/usr/local/lib'
libpth=/usr/lib /usr/local/lib /usr/lib/clang/17/lib /usr/lib
libs=-lpthread -lgdbm -ldl -lm -lcrypt -lutil -lc
perllibs=-lpthread -ldl -lm -lcrypt -lutil -lc
libc=
so=so
useshrplib=false
libperl=libperl.a
gnulibc_version=''
Dynamic Linking:
dlsrc=dl_dlopen.xs
dlext=so
d_dlsymun=undef
ccdlflags=' '
cccdlflags='-DPIC -fPIC'
lddlflags='-shared -L/usr/local/lib -fstack-protector-strong'
Characteristics of this binary (from libperl):
Compile-time options:
HAS_TIMES
PERLIO_LAYERS
PERL_COPY_ON_WRITE
PERL_DONT_CREATE_GVSV
PERL_MALLOC_WRAP
PERL_OP_PARENT
PERL_PRESERVE_IVUV
USE_64_BIT_ALL
USE_64_BIT_INT
USE_LARGE_FILES
USE_LOCALE
USE_LOCALE_COLLATE
USE_LOCALE_CTYPE
USE_LOCALE_NUMERIC
USE_LOCALE_TIME
USE_LONG_DOUBLE
USE_PERLIO
USE_PERL_ATOF
Built under freebsd
Compiled at Apr 9 2024 20:36:57
%ENV:
PERL5LIB=""
PERL5OPT=""
PERL5_CPANPLUS_IS_RUNNING="87786"
PERL5_CPAN_IS_RUNNING="87786"
PERL5_CPAN_IS_RUNNING_IN_RECURSION="83500,87786"
PERL_BATCH="yes"
PERL_CANARY_STABILITY_NOPROMPT="1"
PERL_CPAN_REPORTER_CONFIG="/var/tmp/cpansmoker-1023/2024082317/cpanreporter_000_config.ini"
PERL_EXTUTILS_AUTOINSTALL="--defaultdeps"
PERL_USE_UNSAFE_INC="1"
@INC:
/usr/perl5.30.3Dp/lib/site_perl/5.30.3/amd64-freebsd-ld
/usr/perl5.30.3Dp/lib/site_perl/5.30.3
/usr/perl5.30.3Dp/lib/5.30.3/amd64-freebsd-ld
/usr/perl5.30.3Dp/lib/5.30.3
.