Report for Dist-Zilla-Plugin-MinimumPerl-1.003

Back
From: metabase:user:320bfe00-2aae-11df-837a-5e0a49663a4f
Subject: PASS Dist-Zilla-Plugin-MinimumPerl-1.003 v5.17.11 GNU/Linux
Date: 2013-04-07T02:59:37Z

This distribution has been tested as part of the CPAN Testers
project, supporting the Perl programming language.  See
http://wiki.cpantesters.org/ for more information or email
questions to cpan-testers-discuss@perl.org


--
Dear Apocalypse,

This is a computer-generated report for Dist-Zilla-Plugin-MinimumPerl-1.003
on perl 5.17.11, created by CPAN-Reporter-1.2009.

Thank you for uploading your work to CPAN.  Congratulations!
All tests were successful.

Sections of this report:

    * Tester comments
    * Program output
    * Prerequisites
    * Environment and other context

------------------------------
TESTER COMMENTS
------------------------------

Additional comments from tester:

this report is from an automated smoke testing program
and was not reviewed by a human for accuracy

------------------------------
PROGRAM OUTPUT
------------------------------

Output from './Build test':

Smartmatch is experimental at (eval 329) line 7.
Smartmatch is experimental at (eval 329) line 14.
Smartmatch is experimental at (eval 331) line 7.
Smartmatch is experimental at (eval 331) line 14.
Smartmatch is experimental at (eval 333) line 7.
Smartmatch is experimental at (eval 333) line 14.
Smartmatch is experimental at (eval 335) line 10.
Smartmatch is experimental at (eval 335) line 20.
t/00-compile.t ................ ok
# 
Smartmatch is experimental at (eval 274) line 7.
Smartmatch is experimental at (eval 274) line 14.
Smartmatch is experimental at (eval 276) line 7.
Smartmatch is experimental at (eval 276) line 14.
Smartmatch is experimental at (eval 278) line 7.
Smartmatch is experimental at (eval 278) line 14.
Smartmatch is experimental at (eval 280) line 10.
Smartmatch is experimental at (eval 280) line 20.
# 
# Generated by Dist::Zilla::Plugin::ReportVersions::Tiny v1.03
# perl: v5.17.11 (wanted 5.006) on linux from /tmp/basesmoker-reloperl-YOsh/bin/perl
# 
# Dist::Zilla::Role::FileFinderUser             => 4.300033   (want 4.102345)
# Dist::Zilla::Role::PrereqSource               => 4.300033   (want 4.102345)
# File::Find                                    => 1.23       (want any version)
# File::Temp                                    => 0.23       (want any version)
# Module::Build                                 => 0.4004     (want 0.3601) 
# Moose                                         => 2.0801     (want 1.03)   
# Moose::Util::TypeConstraints                  => 2.0801     (want 1.01)   
# MooseX::Types::Perl                           => 0.101341   (want 0.101340)
# Perl::MinimumVersion                          => 1.32       (want 1.26)   
# Test::More                                    => 0.98       (want 0.88)   
# 
# Thanks for using my code.  I hope it works for you.
# If not, please try and include this output in the bug report.
# That will help me reproduce the issue and solve your problem.
# 
t/000-report-versions-tiny.t .. ok
t/apocalypse.t ................ skipped: Test::Apocalypse required for validating the distribution
All tests successful.
Files=3, Tests=2,  1 wallclock secs ( 0.03 usr  0.01 sys +  0.75 cusr  0.10 csys =  0.89 CPU)
Result: PASS

------------------------------
PREREQUISITES
------------------------------

Prerequisite modules loaded:

requires:

    Module                            Need     Have    
    --------------------------------- -------- --------
    Dist::Zilla::Role::FileFinderUser 4.102345 4.300033
    Dist::Zilla::Role::PrereqSource   4.102345 4.300033
    Moose                             1.03     2.0801  
    Moose::Util::TypeConstraints      1.01     2.0801  
    MooseX::Types::Perl               0.101340 0.101341
    perl                              5.006    5.017011
    Perl::MinimumVersion              1.26     1.32    

build_requires:

    Module                            Need     Have    
    --------------------------------- -------- --------
    File::Find                        0        1.23    
    File::Temp                        0        0.23    
    Module::Build                     0.3601   0.4004  
    Test::More                        0.88     0.98    

configure_requires:

    Module                            Need     Have    
    --------------------------------- -------- --------
    Module::Build                     0.3601   0.4004  


------------------------------
ENVIRONMENT AND OTHER CONTEXT
------------------------------

Environment variables:

    AUTOMATED_TESTING = 1
    LANG = en_US.UTF-8
    LANGUAGE = en_US:en
    PATH = /usr/lib/ccache:/home/sand/bin:/usr/local/bin:/usr/bin:/bin:/usr/bin/X11:/usr/games:/usr/local/perl/bin:/usr/X11/bin:/sbin:/usr/sbin
    PERL5LIB = 
    PERL5OPT = 
    PERL5_CPANPLUS_IS_RUNNING = 7328
    PERL5_CPAN_IS_RUNNING = 7328
    PERL_MM_USE_DEFAULT = 1
    SHELL = /usr/bin/zsh
    TERM = screen

Perl special variables (and OS-specific diagnostics, for MSWin32):

    $^X = /tmp/basesmoker-reloperl-YOsh/bin/perl
    $UID/$EUID = 1005 / 1005
    $GID = 1005 1005
    $EGID = 1005 1005

Perl module toolchain versions installed:

    Module              Have    
    ------------------- --------
    CPAN                2.00    
    CPAN::Meta          2.130880
    Cwd                 3.40    
    ExtUtils::CBuilder  0.280209
    ExtUtils::Command   1.17    
    ExtUtils::Install   1.59    
    ExtUtils::MakeMaker 6.65_01 
    ExtUtils::Manifest  1.63    
    ExtUtils::ParseXS   3.18    
    File::Spec          3.40    
    JSON                2.57    
    JSON::PP            2.27202 
    Module::Build       0.4004  
    Module::Signature   0.70    
    Parse::CPAN::Meta   1.4404  
    Test::Harness       3.26    
    Test::More          0.98    
    YAML                0.84    
    YAML::Syck          1.25    
    version             0.9902  


--

Summary of my perl5 (revision 5 version 17 subversion 11) configuration:
  Commit id: 657d1e609c0896b75625a0275d2b5c978675cb04
  Platform:
    osname=linux, osvers=3.2.0-4-amd64, archname=x86_64-linux-thread-multi
    uname='linux k83 3.2.0-4-amd64 #1 smp debian 3.2.41-2 x86_64 gnulinux '
    config_args='-Dprefix=/home/src/perl/repoperls/installed-perls/perl/v5.17.10-48-g657d1e6/9980 -Dmyhostname=k83 -Dinstallusrbinperl=n -Uversiononly -Dusedevel -des -Ui_db -Duseithreads -Uuselongdouble -DDEBUGGING=-g'
    hint=recommended, useposix=true, d_sigaction=define
    useithreads=define, usemultiplicity=define
    useperlio=define, d_sfio=undef, uselargefiles=define, usesocks=undef
    use64bitint=define, use64bitall=define, uselongdouble=undef
    usemymalloc=n, bincompat5005=undef
  Compiler:
    cc='cc', ccflags ='-D_REENTRANT -D_GNU_SOURCE -fno-strict-aliasing -pipe -fstack-protector -I/usr/local/include -D_LARGEFILE_SOURCE -D_FILE_OFFSET_BITS=64',
    optimize='-O2 -g',
    cppflags='-D_REENTRANT -D_GNU_SOURCE -fno-strict-aliasing -pipe -fstack-protector -I/usr/local/include'
    ccversion='', gccversion='4.7.2', gccosandvers=''
    intsize=4, longsize=8, ptrsize=8, doublesize=8, byteorder=12345678
    d_longlong=define, longlongsize=8, d_longdbl=define, longdblsize=16
    ivtype='long', ivsize=8, nvtype='double', nvsize=8, Off_t='off_t', lseeksize=8
    alignbytes=8, prototype=define
  Linker and Libraries:
    ld='cc', ldflags =' -fstack-protector -L/usr/local/lib'
    libpth=/usr/local/lib /lib/x86_64-linux-gnu /lib/../lib /usr/lib/x86_64-linux-gnu /usr/lib/../lib /lib /usr/lib
    libs=-lnsl -lgdbm -ldb -ldl -lm -lcrypt -lutil -lpthread -lc -lgdbm_compat
    perllibs=-lnsl -ldl -lm -lcrypt -lutil -lpthread -lc
    libc=, so=so, useshrplib=false, libperl=libperl.a
    gnulibc_version='2.13'
  Dynamic Linking:
    dlsrc=dl_dlopen.xs, dlext=so, d_dlsymun=undef, ccdlflags='-Wl,-E'
    cccdlflags='-fPIC', lddlflags='-shared -O2 -g -L/usr/local/lib -fstack-protector'


Characteristics of this binary (from libperl): 
  Compile-time options: HAS_TIMES MULTIPLICITY PERLIO_LAYERS
                        PERL_DONT_CREATE_GVSV PERL_IMPLICIT_CONTEXT
                        PERL_MALLOC_WRAP PERL_PRESERVE_IVUV PERL_SAWAMPERSAND
                        PERL_USE_DEVEL USE_64_BIT_ALL USE_64_BIT_INT
                        USE_ITHREADS USE_LARGE_FILES USE_LOCALE
                        USE_LOCALE_COLLATE USE_LOCALE_CTYPE
                        USE_LOCALE_NUMERIC USE_PERLIO USE_PERL_ATOF
                        USE_REENTRANT_API
  Built under linux
  Compiled at Apr  6 2013 18:42:31
  %ENV:
    PERL5LIB=""
    PERL5OPT=""
    PERL5_CPANPLUS_IS_RUNNING="7328"
    PERL5_CPAN_IS_RUNNING="7328"
    PERL_MM_USE_DEFAULT="1"
  @INC:
    /home/src/perl/repoperls/installed-perls/perl/v5.17.10-48-g657d1e6/9980/lib/site_perl/5.17.11/x86_64-linux-thread-multi
    /home/src/perl/repoperls/installed-perls/perl/v5.17.10-48-g657d1e6/9980/lib/site_perl/5.17.11
    /home/src/perl/repoperls/installed-perls/perl/v5.17.10-48-g657d1e6/9980/lib/5.17.11/x86_64-linux-thread-multi
    /home/src/perl/repoperls/installed-perls/perl/v5.17.10-48-g657d1e6/9980/lib/5.17.11
    .