Report for Bot-BasicBot-Pluggable-0.98

Back
From: metabase:user:320bfe00-2aae-11df-837a-5e0a49663a4f
Subject: PASS Bot-BasicBot-Pluggable-0.98 v5.8.9 GNU/Linux
Date: 2016-03-17T12:31:33Z

This distribution has been tested as part of the CPAN Testers
project, supporting the Perl programming language.  See
http://wiki.cpantesters.org/ for more information or email
questions to cpan-testers-discuss@perl.org


--
Dear Mike Eldridge,

This is a computer-generated report for Bot-BasicBot-Pluggable-0.98
on perl 5.8.9, created by CPAN-Reporter-1.2017.

Thank you for uploading your work to CPAN.  Congratulations!
All tests were successful.

Sections of this report:

    * Tester comments
    * Program output
    * Prerequisites
    * Environment and other context

------------------------------
TESTER COMMENTS
------------------------------

Additional comments from tester:

this report is from an automated smoke testing program
and was not reviewed by a human for accuracy

------------------------------
PROGRAM OUTPUT
------------------------------

Output from './Build test':

t/00bootstrap.t ........... ok
t/01module_base.t ......... ok
Loading Auth from Bot/BasicBot/Pluggable/Module/Auth.pm at /tmp/loop_over_bdir-6919-5DLvhY/Bot-BasicBot-Pluggable-0.98-DofWjw/blib/lib/Bot/BasicBot/Pluggable.pm line 106.
t/02module_auth.t ......... ok
t/03store.t ............... ok
t/03store_dbi.t ........... ok
t/03store_deep.t .......... ok
t/03store_memory.t ........ ok
t/03store_storable.t ...... ok
Loading Karma from Bot/BasicBot/Pluggable/Module/Karma.pm at /tmp/loop_over_bdir-6919-5DLvhY/Bot-BasicBot-Pluggable-0.98-DofWjw/blib/lib/Bot/BasicBot/Pluggable.pm line 106.
Use of uninitialized value in substitution (s///) at /tmp/loop_over_bdir-6919-5DLvhY/Bot-BasicBot-Pluggable-0.98-DofWjw/blib/lib/Bot/BasicBot/Pluggable/Module/Karma.pm line 66.
t/04karma.t ............... ok
Loading Infobot from Bot/BasicBot/Pluggable/Module/Infobot.pm at /tmp/loop_over_bdir-6919-5DLvhY/Bot-BasicBot-Pluggable-0.98-DofWjw/blib/lib/Bot/BasicBot/Pluggable.pm line 106.
t/05infobot.t ............. ok
Loading Title from Bot/BasicBot/Pluggable/Module/Title.pm at /tmp/loop_over_bdir-6919-5DLvhY/Bot-BasicBot-Pluggable-0.98-DofWjw/blib/lib/Bot/BasicBot/Pluggable.pm line 106.
Loading Infobot from Bot/BasicBot/Pluggable/Module/Infobot.pm at /tmp/loop_over_bdir-6919-5DLvhY/Bot-BasicBot-Pluggable-0.98-DofWjw/blib/lib/Bot/BasicBot/Pluggable.pm line 106.
t/06title.t ............... ok
Loading Auth from Bot/BasicBot/Pluggable/Module/Auth.pm at /tmp/loop_over_bdir-6919-5DLvhY/Bot-BasicBot-Pluggable-0.98-DofWjw/blib/lib/Bot/BasicBot/Pluggable.pm line 106.
Loading Loader from Bot/BasicBot/Pluggable/Module/Loader.pm at /tmp/loop_over_bdir-6919-5DLvhY/Bot-BasicBot-Pluggable-0.98-DofWjw/blib/lib/Bot/BasicBot/Pluggable.pm line 106.
t/07app_defaults.t ........ ok
Loading Karma from Bot/BasicBot/Pluggable/Module/Karma.pm at /tmp/loop_over_bdir-6919-5DLvhY/Bot-BasicBot-Pluggable-0.98-DofWjw/blib/lib/Bot/BasicBot/Pluggable.pm line 106.
Loading Auth from Bot/BasicBot/Pluggable/Module/Auth.pm at /tmp/loop_over_bdir-6919-5DLvhY/Bot-BasicBot-Pluggable-0.98-DofWjw/blib/lib/Bot/BasicBot/Pluggable.pm line 106.
t/08app_commandline.t ..... ok
Loading Loader from Bot/BasicBot/Pluggable/Module/Loader.pm at /tmp/loop_over_bdir-6919-5DLvhY/Bot-BasicBot-Pluggable-0.98-DofWjw/blib/lib/Bot/BasicBot/Pluggable.pm line 106.
Loading Karma from Bot/BasicBot/Pluggable/Module/Karma.pm at /tmp/loop_over_bdir-6919-5DLvhY/Bot-BasicBot-Pluggable-0.98-DofWjw/blib/lib/Bot/BasicBot/Pluggable.pm line 106.
Loading Auth from Bot/BasicBot/Pluggable/Module/Auth.pm at /tmp/loop_over_bdir-6919-5DLvhY/Bot-BasicBot-Pluggable-0.98-DofWjw/blib/lib/Bot/BasicBot/Pluggable.pm line 106.
t/09app_configfile.t ...... ok
t/100critic.t ............. skipped: Author test.  Set $ENV{TEST_AUTHOR} to a true value to run.
t/101tidy.t ............... skipped: Author test.  Set $ENV{TEST_AUTHOR} to a true value to run.
Loading Foo from ./Foo.pm at /tmp/loop_over_bdir-6919-5DLvhY/Bot-BasicBot-Pluggable-0.98-DofWjw/blib/lib/Bot/BasicBot/Pluggable.pm line 106.
Loading Bar from ./modules/Bar.pm at /tmp/loop_over_bdir-6919-5DLvhY/Bot-BasicBot-Pluggable-0.98-DofWjw/blib/lib/Bot/BasicBot/Pluggable.pm line 106.
t/10modules_not_in_inc.t .. ok
t/release-pod-coverage.t .. skipped: these tests are for release candidate testing
t/release-pod-syntax.t .... skipped: these tests are for release candidate testing
All tests successful.
Files=19, Tests=248,  6 wallclock secs ( 0.10 usr  0.13 sys +  4.74 cusr  0.72 csys =  5.69 CPU)
Result: PASS

------------------------------
PREREQUISITES
------------------------------

Prerequisite modules loaded:

requires:

    Module                       Need   Have    
    ---------------------------- ------ --------
    base                         0      2.23    
    Bot::BasicBot                0.60   0.89    
    Carp                         0      1.38    
    CGI                          0      4.28    
    Config::Find                 0      0.31    
    Crypt::SaltedHash            0.06   0.09    
    Data::Dumper                 0      2.154   
    DBI                          0      1.634   
    DBM::Deep                    0      2.0013  
    File::Copy                   0      2.13    
    File::Spec                   0      3.62    
    File::Temp                   0      0.2304  
    List::MoreUtils              0      0.413   
    Log::Log4perl                1.11   1.46    
    Log::Log4perl::Level         0      0       
    LWP::UserAgent               0      6.15    
    Module::Load                 0      0.32    
    Module::Pluggable            0      5.2     
    Moose                        0      2.1605  
    Moose::Util::TypeConstraints 0      2.1605  
    MooseX::Getopt::Dashes       0      0.68    
    MooseX::SimpleConfig         0      0.11    
    perl                         v5.8.0 5.008009
    POE                          0      1.367   
    Socket                       0      2.021   
    Storable                     0      2.19    
    strict                       0      1.03    
    Text::Unidecode              0      1.27    
    Try::Tiny                    0      0.24    
    URI                          0      1.71    
    URI::Find::Simple            0      1.06    
    URI::Title                   0      1.900   
    warnings                     0      1.05_01 
    XML::Feed                    0      0.53    

build_requires:

    Module                       Need   Have    
    ---------------------------- ------ --------
    DBD::SQLite                  0      1.50    
    FindBin                      0      1.49    
    Module::Build                0.3601 0.4216  
    Test::More                   0      1.001014
    YAML::XS                     0      0.62    

configure_requires:

    Module                       Need   Have    
    ---------------------------- ------ --------
    ExtUtils::MakeMaker          6.30   7.10    
    Module::Build                0.3601 0.4216  


------------------------------
ENVIRONMENT AND OTHER CONTEXT
------------------------------

Environment variables:

    AUTOMATED_TESTING = 1
    LANG = en_US.UTF-8
    LANGUAGE = en_US:en
    PATH = /usr/lib/ccache:/home/sand/bin:/usr/local/bin:/usr/bin:/bin:/usr/games:/usr/local/perl/bin:/usr/X11/bin:/sbin:/usr/sbin
    PERL5LIB = 
    PERL5OPT = 
    PERL5_CPANPLUS_IS_RUNNING = 6922
    PERL5_CPAN_IS_RUNNING = 6922
    PERL_CANARY_STABILITY_NOPROMPT = 1
    PERL_MM_USE_DEFAULT = 1
    SHELL = /usr/bin/zsh
    TERM = screen

Perl special variables (and OS-specific diagnostics, for MSWin32):

    $^X = /tmp/basesmoker-reloperl-ho8a/bin/perl
    $UID/$EUID = 1005 / 1005
    $GID = 1005 1005
    $EGID = 1005 1005

Perl module toolchain versions installed:

    Module              Have    
    ------------------- --------
    CPAN                2.10    
    CPAN::Meta          2.150005
    Cwd                 3.62    
    ExtUtils::CBuilder  0.280224
    ExtUtils::Command   7.10    
    ExtUtils::Install   1.54    
    ExtUtils::MakeMaker 7.10    
    ExtUtils::Manifest  1.70    
    ExtUtils::ParseXS   3.30    
    File::Spec          3.62    
    JSON                2.90    
    JSON::PP            2.27300 
    Module::Build       0.4216  
    Module::Signature   0.79    
    Parse::CPAN::Meta   1.4417  
    Test::Harness       3.36    
    Test::More          1.001014
    YAML                1.15    
    YAML::Syck          1.29    
    version             0.9915  


--

Summary of my perl5 (revision 5 version 8 subversion 9) configuration:
  Platform:
    osname=linux, osvers=4.3.0-1-amd64, archname=x86_64-linux-thread-multi-ld
    uname='linux k83 4.3.0-1-amd64 #1 smp debian 4.3.3-7 (2016-01-19) x86_64 gnulinux '
    config_args='-Dprefix=/home/sand/src/perl/repoperls/installed-perls/perl/perl-5.8.9/109d -Dmyhostname=k83 -Dinstallusrbinperl=n -Uversiononly -Dusedevel -des -Ui_db -Dlibswanted=cl pthread socket inet nsl gdbm dbm malloc dl ld sun m crypt sec util c cposix posix ucb BSD gdbm_compat -Duseithreads -Duselongdouble -DDEBUGGING=-g'
    hint=recommended, useposix=true, d_sigaction=define
    usethreads=define use5005threads=undef useithreads=define usemultiplicity=define
    useperlio=define d_sfio=undef uselargefiles=define usesocks=undef
    use64bitint=define use64bitall=define uselongdouble=define
    usemymalloc=n, bincompat5005=undef
  Compiler:
    cc='cc', ccflags ='-D_REENTRANT -D_GNU_SOURCE -fno-strict-aliasing -pipe -I/usr/local/include -D_LARGEFILE_SOURCE -D_FILE_OFFSET_BITS=64',
    optimize='-O2 -g',
    cppflags='-D_REENTRANT -D_GNU_SOURCE -fno-strict-aliasing -pipe -I/usr/local/include'
    ccversion='', gccversion='5.3.1 20160121', gccosandvers=''
    intsize=4, longsize=8, ptrsize=8, doublesize=8, byteorder=12345678
    d_longlong=define, longlongsize=8, d_longdbl=define, longdblsize=16
    ivtype='long', ivsize=8, nvtype='long double', nvsize=16, Off_t='off_t', lseeksize=8
    alignbytes=16, prototype=define
  Linker and Libraries:
    ld='cc', ldflags =' -L/usr/local/lib'
    libpth=/usr/local/lib /lib/x86_64-linux-gnu /lib/../lib /usr/lib/x86_64-linux-gnu /usr/lib/../lib /lib /usr/lib
    libs=-lpthread -lnsl -lgdbm -ldl -lm -lcrypt -lutil -lc -lgdbm_compat
    perllibs=-lpthread -lnsl -ldl -lm -lcrypt -lutil -lc -lgdbm_compat
    libc=libc-2.21.so, so=so, useshrplib=false, libperl=libperl.a
    gnulibc_version='2.21'
  Dynamic Linking:
    dlsrc=dl_dlopen.xs, dlext=so, d_dlsymun=undef, ccdlflags='-Wl,-E'
    cccdlflags='-fPIC', lddlflags='-shared -O2 -g -L/usr/local/lib'


Characteristics of this binary (from libperl): 
  Compile-time options: MULTIPLICITY PERL_IMPLICIT_CONTEXT PERL_MALLOC_WRAP
                        USE_64_BIT_ALL USE_64_BIT_INT USE_FAST_STDIO
                        USE_ITHREADS USE_LARGE_FILES USE_LONG_DOUBLE
                        USE_PERLIO USE_REENTRANT_API
  Locally applied patches:
	Devel::PatchPerl 1.40
  Built under linux
  Compiled at Mar 17 2016 07:23:59
  %ENV:
    PERL5LIB=""
    PERL5OPT=""
    PERL5_CPANPLUS_IS_RUNNING="6922"
    PERL5_CPAN_IS_RUNNING="6922"
    PERL_CANARY_STABILITY_NOPROMPT="1"
    PERL_MM_USE_DEFAULT="1"
  @INC:
    /home/sand/src/perl/repoperls/installed-perls/perl/perl-5.8.9/109d/lib/5.8.9/x86_64-linux-thread-multi-ld
    /home/sand/src/perl/repoperls/installed-perls/perl/perl-5.8.9/109d/lib/5.8.9
    /home/sand/src/perl/repoperls/installed-perls/perl/perl-5.8.9/109d/lib/site_perl/5.8.9/x86_64-linux-thread-multi-ld
    /home/sand/src/perl/repoperls/installed-perls/perl/perl-5.8.9/109d/lib/site_perl/5.8.9
    .