Text-XLogfile v0.06 Perl 5 v5.18.4 x86_64-linux-thread-multi
- Status
- Pass
- From
- Andreas J. König (ANDK)
- Dist
-
Text-XLogfile v0.06
- Platform
- Perl 5 v5.18.4 x86_64-linux-thread-multi
- Date
- 2017-12-14 20:34:29
- ID
- 2ef04928-e10e-11e7-a239-c82d037da5c7
This distribution has been tested as part of the CPAN Testers
project, supporting the Perl programming language. See
http://wiki.cpantesters.org/ for more information or email
questions to cpan-testers-discuss@perl.org
--
Dear Karen Etheridge,
This is a computer-generated report for Text-XLogfile-0.06
on perl 5.18.4, created by CPAN-Reporter-1.2018.
Thank you for uploading your work to CPAN. Congratulations!
All tests were successful.
Sections of this report:
* Tester comments
* Program output
* Prerequisites
* Environment and other context
------------------------------
TESTER COMMENTS
------------------------------
Additional comments from tester:
this report is from an automated smoke testing program
and was not reviewed by a human for accuracy
------------------------------
PROGRAM OUTPUT
------------------------------
Output from '/usr/bin/make test':
PERL_DL_NONLAZY=1 "/home/sand/src/perl/repoperls/installed-perls/host/k93msid/v5.18.4/f11c/bin/perl" "-MExtUtils::Command::MM" "-MTest::Harness" "-e" "undef *Test::Harness::Switches; test_harness(0, 'blib/lib', 'blib/arch')" t/*.t
t/00-load.t ............. ok
#
# Versions for all modules listed in MYMETA.json (including optional ones):
#
# === Configure Requires ===
#
# Module Want Have
# ------------------- ---- -------
# ExtUtils::MakeMaker any 7.31_04
#
# === Build Requires ===
#
# Module Want Have
# ------------------- ---- -------
# ExtUtils::MakeMaker any 7.31_04
#
# === Test Requires ===
#
# Module Want Have
# ------------------- ---- --------
# ExtUtils::MakeMaker any 7.31_04
# File::Spec any 3.62
# File::Temp any 0.2304
# Test::More any 1.302120
#
# === Test Recommends ===
#
# Module Want Have
# ---------- -------- --------
# CPAN::Meta 2.120900 2.150010
#
# === Runtime Requires ===
#
# Module Want Have
# -------- ---- ----
# Carp any 1.38
# Exporter any 5.72
# base any 2.18
# strict any 1.07
# warnings any 1.18
#
# === Other Modules ===
#
# Module Have
# ------------- ----
# Pod::Coverage 0.23
#
t/00-report-prereqs.t ... ok
t/01-basic.t ............ ok
t/02-heavy.t ............ ok
t/03-error-exception.t .. ok
t/04-error-ignore.t ..... ok
t/05-error-correct.t .... ok
t/10-read-file.t ........ ok
t/11-write-file.t ....... ok
t/12-read-error.t ....... ok
t/13-write-error.t ...... ok
t/14-each-logline.t ..... ok
t/20-chomp.t ............ ok
All tests successful.
Files=13, Tests=43, 1 wallclock secs ( 0.05 usr 0.06 sys + 0.92 cusr 0.21 csys = 1.24 CPU)
Result: PASS
------------------------------
PREREQUISITES
------------------------------
Prerequisite modules loaded:
requires:
Module Need Have
------------------- ----- --------
base 0 2.18
Carp 0 1.38
Exporter 0 5.72
perl 5.006 5.018004
strict 0 1.07
warnings 0 1.18
build_requires:
Module Need Have
------------------- ----- --------
ExtUtils::MakeMaker 0 7.31_04
File::Spec 0 3.62
File::Temp 0 0.2304
Test::More 0 1.302120
configure_requires:
Module Need Have
------------------- ----- --------
ExtUtils::MakeMaker 0 7.31_04
perl 5.006 5.018004
------------------------------
ENVIRONMENT AND OTHER CONTEXT
------------------------------
Environment variables:
AUTOMATED_TESTING = 1
LANG = en_US.UTF-8
PATH = /home/sand/bin:/usr/local/bin:/usr/bin:/bin:/usr/games:/usr/local/perl/bin:/usr/X11/bin:/sbin:/usr/sbin
PERL5LIB =
PERL5OPT =
PERL5_CPANPLUS_IS_RUNNING = 17667
PERL5_CPAN_IS_RUNNING = 17667
PERL5_CPAN_IS_RUNNING_IN_RECURSION = 22402,17667
PERL_CANARY_STABILITY_NOPROMPT = 1
PERL_MM_USE_DEFAULT = 1
PERL_USE_UNSAFE_INC = 1
SHELL = /usr/bin/zsh
TERM = screen
Perl special variables (and OS-specific diagnostics, for MSWin32):
$^X = /home/sand/src/perl/repoperls/installed-perls/host/k93msid/v5.18.4/f11c/bin/perl
$UID/$EUID = 1005 / 1005
$GID = 1005 1005
$EGID = 1005 1005
Perl module toolchain versions installed:
Module Have
------------------- --------
CPAN 2.20
CPAN::Meta 2.150010
Cwd 3.62
ExtUtils::CBuilder 0.280226
ExtUtils::Command 7.31_04
ExtUtils::Install 2.06
ExtUtils::MakeMaker 7.31_04
ExtUtils::Manifest 1.70
ExtUtils::ParseXS 3.35
File::Spec 3.62
JSON 2.97000
JSON::PP 2.97000
Module::Build 0.4224
Module::Signature 0.81
Parse::CPAN::Meta 2.150010
Test::Harness 3.39
Test::More 1.302120
YAML 1.23
YAML::Syck 1.30
version 0.9918
--
Summary of my perl5 (revision 5 version 18 subversion 4) configuration:
Derived from: 51202371ba68f3f52f13124a3ea1bc3c171e0ee2
Platform:
osname=linux, osvers=4.12.0-2-amd64, archname=x86_64-linux-thread-multi
uname='linux k93msid 4.12.0-2-amd64 #1 smp debian 4.12.13-1 (2017-09-19) x86_64 gnulinux '
config_args='-Dprefix=/home/sand/src/perl/repoperls/installed-perls/host/k93msid/v5.18.4/f11c -Dmyhostname=k93msid -Dinstallusrbinperl=n -Uversiononly -Dusedevel -des -Ui_db -Dlibswanted=cl pthread socket inet nsl gdbm dbm malloc dl ld sun m crypt sec util c cposix posix ucb BSD gdbm_compat -Duseithreads -Uuselongdouble -DDEBUGGING=-g'
hint=recommended, useposix=true, d_sigaction=define
useithreads=define, usemultiplicity=define
useperlio=define, d_sfio=undef, uselargefiles=define, usesocks=undef
use64bitint=define, use64bitall=define, uselongdouble=undef
usemymalloc=n, bincompat5005=undef
Compiler:
cc='cc', ccflags ='-D_REENTRANT -D_GNU_SOURCE -fno-strict-aliasing -pipe -fstack-protector -I/usr/local/include -D_LARGEFILE_SOURCE -D_FILE_OFFSET_BITS=64',
optimize='-O2 -g',
cppflags='-D_REENTRANT -D_GNU_SOURCE -fno-strict-aliasing -pipe -fstack-protector -I/usr/local/include'
ccversion='', gccversion='7.2.0', gccosandvers=''
intsize=4, longsize=8, ptrsize=8, doublesize=8, byteorder=12345678
d_longlong=define, longlongsize=8, d_longdbl=define, longdblsize=16
ivtype='long', ivsize=8, nvtype='double', nvsize=8, Off_t='off_t', lseeksize=8
alignbytes=8, prototype=define
Linker and Libraries:
ld='cc', ldflags =' -fstack-protector -L/usr/local/lib'
libpth=/usr/local/lib /lib/x86_64-linux-gnu /lib/../lib /usr/lib/x86_64-linux-gnu /usr/lib/../lib /lib /usr/lib
libs=-lpthread -lnsl -ldl -lm -lcrypt -lutil -lc
perllibs=-lpthread -lnsl -ldl -lm -lcrypt -lutil -lc
libc=libc-2.24.so, so=so, useshrplib=false, libperl=libperl.a
gnulibc_version='2.24'
Dynamic Linking:
dlsrc=dl_dlopen.xs, dlext=so, d_dlsymun=undef, ccdlflags='-Wl,-E'
cccdlflags='-fPIC', lddlflags='-shared -O2 -g -L/usr/local/lib -fstack-protector'
Characteristics of this binary (from libperl):
Compile-time options: HAS_TIMES MULTIPLICITY PERLIO_LAYERS
PERL_DONT_CREATE_GVSV
PERL_HASH_FUNC_ONE_AT_A_TIME_HARD
PERL_IMPLICIT_CONTEXT PERL_MALLOC_WRAP
PERL_PRESERVE_IVUV PERL_SAWAMPERSAND PERL_USE_DEVEL
USE_64_BIT_ALL USE_64_BIT_INT USE_ITHREADS
USE_LARGE_FILES USE_LOCALE USE_LOCALE_COLLATE
USE_LOCALE_CTYPE USE_LOCALE_NUMERIC USE_PERLIO
USE_PERL_ATOF USE_REENTRANT_API
Locally applied patches:
uncommitted-changes
Built under linux
Compiled at Oct 3 2017 19:22:16
%ENV:
PERL5LIB=""
PERL5OPT=""
PERL5_CPANPLUS_IS_RUNNING="17667"
PERL5_CPAN_IS_RUNNING="17667"
PERL5_CPAN_IS_RUNNING_IN_RECURSION="22402,17667"
PERL_CANARY_STABILITY_NOPROMPT="1"
PERL_MM_USE_DEFAULT="1"
PERL_USE_UNSAFE_INC="1"
@INC:
/home/sand/src/perl/repoperls/installed-perls/host/k93msid/v5.18.4/f11c/lib/site_perl/5.18.4/x86_64-linux-thread-multi
/home/sand/src/perl/repoperls/installed-perls/host/k93msid/v5.18.4/f11c/lib/site_perl/5.18.4
/home/sand/src/perl/repoperls/installed-perls/host/k93msid/v5.18.4/f11c/lib/5.18.4/x86_64-linux-thread-multi
/home/sand/src/perl/repoperls/installed-perls/host/k93msid/v5.18.4/f11c/lib/5.18.4
.