MaxMind-DB-Writer v0.300000 Perl 5 v5.26.1 x86_64-linux-thread-multi-ld
- Status
- Pass
- From
- Andreas J. König (ANDK)
- Dist
-
MaxMind-DB-Writer v0.300000
- Platform
- Perl 5 v5.26.1 x86_64-linux-thread-multi-ld
- Date
- 2017-11-11 10:36:32
- ID
- 2f3b50fa-c6cc-11e7-a754-1bc22f2beaa8
This distribution has been tested as part of the CPAN Testers
project, supporting the Perl programming language. See
http://wiki.cpantesters.org/ for more information or email
questions to cpan-testers-discuss@perl.org
--
Dear MaxMind, Inc.,
This is a computer-generated report for MaxMind-DB-Writer-0.300000
on perl 5.26.1, created by CPAN-Reporter-1.2018.
Thank you for uploading your work to CPAN. Congratulations!
All tests were successful.
Sections of this report:
* Tester comments
* Program output
* Prerequisites
* Environment and other context
------------------------------
TESTER COMMENTS
------------------------------
Additional comments from tester:
this report is from an automated smoke testing program
and was not reviewed by a human for accuracy
------------------------------
PROGRAM OUTPUT
------------------------------
Output from './Build test':
#
# Versions for all modules listed in MYMETA.json (including optional ones):
#
# === Configure Requires ===
#
# Module Want Have
# ------------- ---- ------
# Module::Build 0.28 0.4224
#
# === Build Requires ===
#
# Module Want Have
# ------------------ ---- --------
# ExtUtils::CBuilder any 0.280226
# Module::Build 0.28 0.4224
#
# === Test Requires ===
#
# Module Want Have
# ------------------------------- ---- --------
# Data::Printer any 0.40
# Devel::Refcount any 0.10
# ExtUtils::MakeMaker any 7.30
# File::Spec any 3.67
# File::Temp any 0.2304
# JSON any 2.94
# List::AllUtils any 0.14
# List::Util any 1.49
# MaxMind::DB::Reader any 1.000013
# Net::Works::Address any 0.22
# Scalar::Util any 1.49
# Test::Bits any 0.02
# Test::Builder any 1.302106
# Test::Fatal any 0.014
# Test::HexDifferences any 1.001
# Test::MaxMind::DB::Common::Data any 0.040001
# Test::More 0.96 1.302106
# Test::Requires any 0.10
# Test::Warnings any 0.026
# lib any 0.64
# utf8 any 1.19
#
# === Test Recommends ===
#
# Module Want Have
# ---------- -------- --------
# CPAN::Meta 2.120900 2.150010
#
# === Runtime Requires ===
#
# Module Want Have
# ---------------------------- -------- --------
# Carp any 1.42
# Data::Dumper::Concise any 2.023
# Data::IEEE754 any 0.02
# Digest::MD5 any 2.55
# Digest::SHA1 any 2.13
# Encode any 2.93
# Exporter any 5.72
# IO::Handle any 1.36
# Math::Int128 0.21 0.22
# Math::Int64 0.51 0.54
# MaxMind::DB::Common 0.031003 0.040001
# MaxMind::DB::Metadata any 0.040001
# MaxMind::DB::Reader::Decoder any 1.000013
# MaxMind::DB::Role::Debugs any 0.040001
# Moose any 2.2006
# Moose::Util::TypeConstraints any 2.2006
# MooseX::Params::Validate any 0.21
# MooseX::StrictConstructor any 0.21
# Net::Works::Network any 0.22
# Sereal::Decoder any 3.015
# Sereal::Encoder 3.002 3.015
# Test::Deep::NoTest any undef
# XSLoader any 0.27
# autodie any 2.29
# bytes any 1.05
# constant any 1.33
# namespace::autoclean any 0.28
# strict any 1.11
# warnings any 1.37
#
t/00-report-prereqs.t ...................................... ok
t/MaxMind/DB/Writer/Serializer-deduplication.t ............. ok
t/MaxMind/DB/Writer/Serializer-large-pointer.t ............. ok
t/MaxMind/DB/Writer/Serializer-types/array.t ............... ok
t/MaxMind/DB/Writer/Serializer-types/boolean.t ............. ok
t/MaxMind/DB/Writer/Serializer-types/bytes.t ............... ok
t/MaxMind/DB/Writer/Serializer-types/double.t .............. ok
t/MaxMind/DB/Writer/Serializer-types/end_marker.t .......... ok
t/MaxMind/DB/Writer/Serializer-types/float.t ............... ok
t/MaxMind/DB/Writer/Serializer-types/int32.t ............... ok
t/MaxMind/DB/Writer/Serializer-types/map.t ................. ok
t/MaxMind/DB/Writer/Serializer-types/pointer.t ............. ok
t/MaxMind/DB/Writer/Serializer-types/uint128.t ............. ok
t/MaxMind/DB/Writer/Serializer-types/uint16.t .............. ok
t/MaxMind/DB/Writer/Serializer-types/uint32.t .............. ok
t/MaxMind/DB/Writer/Serializer-types/uint64.t .............. ok
t/MaxMind/DB/Writer/Serializer-types/utf8_string.t ......... ok
t/MaxMind/DB/Writer/Serializer-utf8-as-bytes.t ............. ok
t/MaxMind/DB/Writer/Serializer-utf8-round-trip.t ........... ok
t/MaxMind/DB/Writer/Serializer.t ........................... ok
t/MaxMind/DB/Writer/Tree-bigint.t .......................... ok
t/MaxMind/DB/Writer/Tree-data-references.t ................. ok
t/MaxMind/DB/Writer/Tree-freeze-thaw.t ..................... ok
t/MaxMind/DB/Writer/Tree-insert-range.t .................... ok
t/MaxMind/DB/Writer/Tree-ipv4-and-6.t ...................... ok
t/MaxMind/DB/Writer/Tree-ipv6-aliases.t .................... ok
t/MaxMind/DB/Writer/Tree-iterator-large-dataset.t .......... ok
t/MaxMind/DB/Writer/Tree-iterator.t ........................ ok
t/MaxMind/DB/Writer/Tree-output/0-0-0-0.t .................. ok
t/MaxMind/DB/Writer/Tree-output/basic.t .................... ok
t/MaxMind/DB/Writer/Tree-output/freeze-thaw-record-size.t .. ok
t/MaxMind/DB/Writer/Tree-output/freeze-then-write-bug.t .... ok
t/MaxMind/DB/Writer/Tree-output/ipv6-aliases.t ............. ok
t/MaxMind/DB/Writer/Tree-output/record-deduplication.t ..... ok
t/MaxMind/DB/Writer/Tree-output/utf8-data.t ................ ok
t/MaxMind/DB/Writer/Tree-record-collisions.t ............... ok
t/MaxMind/DB/Writer/Tree-thaw-merge.t ...................... ok
t/MaxMind/DB/Writer/Tree.t ................................. ok
t/MaxMind/DB/Writer/Util.t ................................. ok
All tests successful.
Files=39, Tests=458, 89 wallclock secs ( 0.42 usr 0.59 sys + 31.90 cusr 3.48 csys = 36.39 CPU)
Result: PASS
------------------------------
PREREQUISITES
------------------------------
Prerequisite modules loaded:
requires:
Module Need Have
------------------------------- -------- --------
autodie 0 2.29
bytes 0 1.05
Carp 0 1.42
constant 0 1.33
Data::Dumper::Concise 0 2.023
Data::IEEE754 0 0.02
Digest::MD5 0 2.55
Digest::SHA1 0 2.13
Encode 0 2.93
Exporter 0 5.72
IO::Handle 0 1.36
Math::Int128 0.21 0.22
Math::Int64 0.51 0.54
MaxMind::DB::Common 0.031003 0.040001
MaxMind::DB::Metadata 0 0.040001
MaxMind::DB::Reader::Decoder 0 1.000013
MaxMind::DB::Role::Debugs 0 0.040001
Moose 0 2.2006
Moose::Util::TypeConstraints 0 2.2006
MooseX::Params::Validate 0 0.21
MooseX::StrictConstructor 0 0.21
namespace::autoclean 0 0.28
Net::Works::Network 0 0.22
perl 5.013002 5.026001
Sereal::Decoder 0 3.015
Sereal::Encoder 3.002 3.015
strict 0 1.11
Test::Deep::NoTest 0 0
warnings 0 1.37
XSLoader 0 0.27
build_requires:
Module Need Have
------------------------------- -------- --------
Data::Printer 0 0.40
Devel::Refcount 0 0.10
ExtUtils::CBuilder 0 0.280226
ExtUtils::MakeMaker 0 7.30
File::Spec 0 3.67
File::Temp 0 0.2304
JSON 0 2.94
lib 0 0.64
List::AllUtils 0 0.14
List::Util 0 1.49
MaxMind::DB::Reader 0 1.000013
Module::Build 0.28 0.4224
Net::Works::Address 0 0.22
Scalar::Util 0 1.49
Test::Bits 0 0.02
Test::Builder 0 1.302106
Test::Fatal 0 0.014
Test::HexDifferences 0 1.001
Test::MaxMind::DB::Common::Data 0 0.040001
Test::More 0.96 1.302106
Test::Requires 0 0.10
Test::Warnings 0 0.026
utf8 0 1.19
configure_requires:
Module Need Have
------------------------------- -------- --------
Module::Build 0.28 0.4224
------------------------------
ENVIRONMENT AND OTHER CONTEXT
------------------------------
Environment variables:
AUTOMATED_TESTING = 1
LANG = en_US.UTF-8
PATH = /home/sand/bin:/usr/local/bin:/usr/bin:/bin:/usr/games:/usr/local/perl/bin:/usr/X11/bin:/sbin:/usr/sbin
PERL5LIB =
PERL5OPT =
PERL5_CPANPLUS_IS_RUNNING = 25724
PERL5_CPAN_IS_RUNNING = 25724
PERL5_CPAN_IS_RUNNING_IN_RECURSION = 5905,25724
PERL_CANARY_STABILITY_NOPROMPT = 1
PERL_MM_USE_DEFAULT = 1
PERL_USE_UNSAFE_INC = 1
SHELL = /usr/bin/zsh
TERM = screen
Perl special variables (and OS-specific diagnostics, for MSWin32):
$^X = /home/sand/src/perl/repoperls/installed-perls/host/k93msid/v5.26.1/a1a1/bin/perl
$UID/$EUID = 1005 / 1005
$GID = 1005 1005
$EGID = 1005 1005
Perl module toolchain versions installed:
Module Have
------------------- --------
CPAN 2.19
CPAN::Meta 2.150010
Cwd 3.67
ExtUtils::CBuilder 0.280226
ExtUtils::Command 7.30
ExtUtils::Install 2.06
ExtUtils::MakeMaker 7.30
ExtUtils::Manifest 1.70
ExtUtils::ParseXS 3.34
File::Spec 3.67
JSON 2.94
JSON::PP 2.94
Module::Build 0.4224
Module::Signature 0.81
Parse::CPAN::Meta 2.150010
Test::Harness 3.39
Test::More 1.302106
YAML 1.23
YAML::Syck 1.30
version 0.9917
--
Summary of my perl5 (revision 5 version 26 subversion 1) configuration:
Commit id: 714a461a2ab3017f19ea0f7bbb4934b2309d3aa8
Platform:
osname=linux
osvers=4.12.0-2-amd64
archname=x86_64-linux-thread-multi-ld
uname='linux k93msid 4.12.0-2-amd64 #1 smp debian 4.12.13-1 (2017-09-19) x86_64 gnulinux '
config_args='-Dprefix=/home/sand/src/perl/repoperls/installed-perls/host/k93msid/v5.26.1/a1a1 -Dmyhostname=k93msid -Dinstallusrbinperl=n -Uversiononly -Dusedevel -des -Ui_db -Dlibswanted=cl pthread socket inet nsl gdbm dbm malloc dl ld sun m crypt sec util c cposix posix ucb BSD gdbm_compat -Duseithreads -Duselongdouble -DDEBUGGING=both'
hint=recommended
useposix=true
d_sigaction=define
useithreads=define
usemultiplicity=define
use64bitint=define
use64bitall=define
uselongdouble=define
usemymalloc=n
default_inc_excludes_dot=define
bincompat5005=undef
Compiler:
cc='cc'
ccflags ='-D_REENTRANT -D_GNU_SOURCE -fwrapv -DDEBUGGING -fno-strict-aliasing -pipe -fstack-protector-strong -I/usr/local/include -D_LARGEFILE_SOURCE -D_FILE_OFFSET_BITS=64 -D_FORTIFY_SOURCE=2'
optimize='-O2 -g'
cppflags='-D_REENTRANT -D_GNU_SOURCE -fwrapv -DDEBUGGING -fno-strict-aliasing -pipe -fstack-protector-strong -I/usr/local/include'
ccversion=''
gccversion='7.2.0'
gccosandvers=''
intsize=4
longsize=8
ptrsize=8
doublesize=8
byteorder=12345678
doublekind=3
d_longlong=define
longlongsize=8
d_longdbl=define
longdblsize=16
longdblkind=3
ivtype='long'
ivsize=8
nvtype='long double'
nvsize=16
Off_t='off_t'
lseeksize=8
alignbytes=16
prototype=define
Linker and Libraries:
ld='cc'
ldflags =' -fstack-protector-strong -L/usr/local/lib'
libpth=/usr/local/lib /usr/lib/gcc/x86_64-linux-gnu/7/include-fixed /usr/include/x86_64-linux-gnu /usr/lib /lib/x86_64-linux-gnu /lib/../lib /usr/lib/x86_64-linux-gnu /usr/lib/../lib /lib
libs=-lpthread -lnsl -ldl -lm -lcrypt -lutil -lc
perllibs=-lpthread -lnsl -ldl -lm -lcrypt -lutil -lc
libc=libc-2.24.so
so=so
useshrplib=false
libperl=libperl.a
gnulibc_version='2.24'
Dynamic Linking:
dlsrc=dl_dlopen.xs
dlext=so
d_dlsymun=undef
ccdlflags='-Wl,-E'
cccdlflags='-fPIC'
lddlflags='-shared -O2 -g -L/usr/local/lib -fstack-protector-strong'
Characteristics of this binary (from libperl):
Compile-time options:
DEBUGGING
HAS_TIMES
MULTIPLICITY
PERLIO_LAYERS
PERL_COPY_ON_WRITE
PERL_DONT_CREATE_GVSV
PERL_IMPLICIT_CONTEXT
PERL_MALLOC_WRAP
PERL_OP_PARENT
PERL_PRESERVE_IVUV
PERL_TRACK_MEMPOOL
PERL_USE_DEVEL
USE_64_BIT_ALL
USE_64_BIT_INT
USE_ITHREADS
USE_LARGE_FILES
USE_LOCALE
USE_LOCALE_COLLATE
USE_LOCALE_CTYPE
USE_LOCALE_NUMERIC
USE_LOCALE_TIME
USE_LONG_DOUBLE
USE_PERLIO
USE_PERL_ATOF
USE_REENTRANT_API
Built under linux
Compiled at Oct 2 2017 12:55:45
%ENV:
PERL5LIB=""
PERL5OPT=""
PERL5_CPANPLUS_IS_RUNNING="25724"
PERL5_CPAN_IS_RUNNING="25724"
PERL5_CPAN_IS_RUNNING_IN_RECURSION="5905,25724"
PERL_CANARY_STABILITY_NOPROMPT="1"
PERL_MM_USE_DEFAULT="1"
PERL_USE_UNSAFE_INC="1"
@INC:
/home/sand/src/perl/repoperls/installed-perls/host/k93msid/v5.26.1/a1a1/lib/site_perl/5.26.1/x86_64-linux-thread-multi-ld
/home/sand/src/perl/repoperls/installed-perls/host/k93msid/v5.26.1/a1a1/lib/site_perl/5.26.1
/home/sand/src/perl/repoperls/installed-perls/host/k93msid/v5.26.1/a1a1/lib/5.26.1/x86_64-linux-thread-multi-ld
/home/sand/src/perl/repoperls/installed-perls/host/k93msid/v5.26.1/a1a1/lib/5.26.1
.