File-KDBX v0.906 Perl 5 v5.18.4 x86_64-linux-thread-multi

Status
Pass
From
David Cantrell (DCANTRELL)
Dist
File-KDBX v0.906
Platform
Perl 5 v5.18.4 x86_64-linux-thread-multi
Date
2022-08-17 12:50:34
ID
2f6034c2-1e2b-11ed-bf81-81da923f038e
This distribution has been tested as part of the CPAN Testers
project, supporting the Perl programming language.  See
http://wiki.cpantesters.org/ for more information or email
questions to cpan-testers-discuss@perl.org


--
Dear Charles McGarvey,

This is a computer-generated report for File-KDBX-0.906
on perl 5.18.4, created by CPAN-Reporter-1.2018.

Thank you for uploading your work to CPAN.  Congratulations!
All tests were successful.

Sections of this report:

    * Tester comments
    * Program output
    * Prerequisites
    * Environment and other context

------------------------------
TESTER COMMENTS
------------------------------

Additional comments from tester:

this report is from an automated smoke testing program
and was not reviewed by a human for accuracy

------------------------------
PROGRAM OUTPUT
------------------------------

Output from '/usr/bin/make test':

PERL_DL_NONLAZY=1 "/home/david/cpantesting/perl-5.18.4/bin/perl" "-MExtUtils::Command::MM" "-MTest::Harness" "-e" "undef *Test::Harness::Switches; test_harness(0, 'blib/lib', 'blib/arch')" t/*.t
t/00-compile.t ......... ok
# 
# Versions for all modules listed in MYMETA.json (including optional ones):
# 
# === Configure Requires ===
# 
#     Module              Want Have
#     ------------------- ---- ----
#     ExtUtils::MakeMaker  any 7.64
# 
# === Build Requires ===
# 
#     Module              Want Have
#     ------------------- ---- ----
#     ExtUtils::MakeMaker  any 7.64
# 
# === Test Requires ===
# 
#     Module                      Want     Have
#     ------------------- ------------ --------
#     ExtUtils::MakeMaker          any     7.64
#     File::Spec                   any     3.40
#     FindBin                      any     1.51
#     Getopt::Std                  any     1.07
#     IO::Handle                   any     1.34
#     IPC::Open3                   any     1.13
#     Math::BigInt               1.993   1.9991
#     Test::Deep                   any    1.130
#     Test::Fatal                  any    0.016
#     Test::More          1.001004_001 1.302188
#     Test::Warnings               any    0.031
#     lib                          any     0.63
#     utf8                         any     1.10
# 
# === Test Recommends ===
# 
#     Module         Want     Have
#     ---------- -------- --------
#     CPAN::Meta 2.120900 2.143240
#     Pass::OTP       any  missing
# 
# === Test Suggests ===
# 
#     Module      Want    Have
#     ----------- ---- -------
#     POSIX::1003  any missing
# 
# === Runtime Requires ===
# 
#     Module                    Want   Have
#     ------------------------ ----- ------
#     Carp                       any   1.29
#     Crypt::Argon2              any  0.012
#     Crypt::Cipher              any  0.076
#     Crypt::Cipher::AES         any  0.076
#     Crypt::Digest              any  0.076
#     Crypt::Mac::HMAC           any  0.076
#     Crypt::Misc              0.049  0.076
#     Crypt::Mode::CBC           any  0.076
#     Crypt::PRNG                any  0.076
#     Crypt::Stream::ChaCha    0.048  0.076
#     Crypt::Stream::Salsa20   0.055  0.076
#     Data::Dumper               any  2.145
#     Devel::GlobalDestruction   any   0.14
#     Encode                     any   2.49
#     Exporter                   any   5.68
#     File::Temp                 any   0.23
#     Hash::Util::FieldHash      any   1.10
#     IO::Handle                 any   1.34
#     IPC::Cmd                  0.84   1.04
#     Iterator::Simple           any   0.07
#     List::Util                1.33   1.63
#     Math::BigInt             1.993 1.9991
#     Module::Load               any   0.36
#     Module::Loaded             any   0.08
#     POSIX                      any   1.32
#     Ref::Util                  any  0.204
#     Scalar::Util               any   1.63
#     Scope::Guard               any   0.21
#     Storable                   any   2.41
#     Symbol                     any   1.07
#     Text::ParseWords           any   3.28
#     Time::Local               1.19 1.2300
#     Time::Piece               1.33 1.3401
#     XML::LibXML                any 2.0207
#     XML::LibXML::Reader        any 2.0207
#     boolean                    any   0.46
#     namespace::clean           any   0.27
#     overload                   any   1.22
#     strict                     any   1.07
#     warnings                   any   1.18
# 
# === Runtime Recommends ===
# 
#     Module                 Want    Have
#     ---------------------- ---- -------
#     Compress::Raw::Zlib     any   2.060
#     File::KDBX::XS          any missing
#     File::Spec              any    3.40
#     IO::Compress::Gzip      any   2.060
#     IO::Uncompress::Gunzip  any   2.060
#     Pass::OTP               any missing
# 
# === Runtime Suggests ===
# 
#     Module                  Want    Have
#     ---------------------- ----- -------
#     Crypt::Stream::Serpent 0.055 missing
#     Crypt::Stream::Twofish   any missing
# 
t/00-report-prereqs.t .. ok
t/crypt.t .............. ok
t/database.t ........... ok
t/entry.t .............. ok
t/erase.t .............. ok
t/error.t .............. ok
t/group.t .............. ok
t/hash-block.t ......... ok
t/hmac-block.t ......... ok
t/iterator.t ........... ok
t/kdb.t ................ skipped: File::KeePass and File::KeePass::KDBX required to test KDB files
t/kdbx2.t .............. ok
t/kdbx3.t .............. ok
t/kdbx4.t .............. ok
t/kdf-aes-pp.t ......... ok
t/kdf.t ................ ok
t/keys.t ............... ok
t/memory-protection.t .. skipped: AUTHOR_TESTING required to test memory protection
t/object.t ............. ok
t/otp.t ................ skipped: Pass::OTP required to test one-time-passwords
t/placeholders.t ....... ok
t/query.t .............. ok
t/references.t ......... ok
t/safe.t ............... ok
t/util.t ............... ok
t/yubikey.t ............ ok
All tests successful.
Files=27, Tests=193, 82 wallclock secs ( 0.37 usr  0.13 sys + 20.35 cusr  3.04 csys = 23.89 CPU)
Result: PASS

------------------------------
PREREQUISITES
------------------------------

Prerequisite modules loaded:

requires:

    Module                   Need         Have    
    ------------------------ ------------ --------
    boolean                  0            0.46    
    Carp                     0            1.29    
    Crypt::Argon2            0            0.012   
    Crypt::Cipher            0            0.076   
    Crypt::Cipher::AES       0            0.076   
    Crypt::Digest            0            0.076   
    Crypt::Mac::HMAC         0            0.076   
    Crypt::Misc              0.049        0.076   
    Crypt::Mode::CBC         0            0.076   
    Crypt::PRNG              0            0.076   
    Crypt::Stream::ChaCha    0.048        0.076   
    Crypt::Stream::Salsa20   0.055        0.076   
    Data::Dumper             0            2.145   
    Devel::GlobalDestruction 0            0.14    
    Encode                   0            2.49    
    Exporter                 0            5.68    
    File::Temp               0            0.23    
    Hash::Util::FieldHash    0            1.10    
    IO::Handle               0            1.34    
    IPC::Cmd                 0.84         1.04    
    Iterator::Simple         0            0.07    
    List::Util               1.33         1.63    
    Math::BigInt             1.993        1.9991  
    Module::Load             0            0.36    
    Module::Loaded           0            0.08    
    namespace::clean         0            0.27    
    overload                 0            1.22    
    perl                     5.010        5.018004
    POSIX                    0            1.32    
    Ref::Util                0            0.204   
    Scalar::Util             0            1.63    
    Scope::Guard             0            0.21    
    Storable                 0            2.41    
    strict                   0            1.07    
    Symbol                   0            1.07    
    Text::ParseWords         0            3.28    
    Time::Local              1.19         1.2300  
    Time::Piece              1.33         1.3401  
    warnings                 0            1.18    
    XML::LibXML              0            2.0207  
    XML::LibXML::Reader      0            2.0207  

build_requires:

    Module                   Need         Have    
    ------------------------ ------------ --------
    ExtUtils::MakeMaker      0            7.64    
    File::Spec               0            3.40    
    FindBin                  0            1.51    
    Getopt::Std              0            1.07    
    IO::Handle               0            1.34    
    IPC::Open3               0            1.13    
    lib                      0            0.63    
    Math::BigInt             1.993        1.9991  
    Test::Deep               0            1.130   
    Test::Fatal              0            0.016   
    Test::More               1.001004_001 1.302188
    Test::Warnings           0            0.031   
    utf8                     0            1.10    

configure_requires:

    Module                   Need         Have    
    ------------------------ ------------ --------
    ExtUtils::MakeMaker      0            7.64    


------------------------------
ENVIRONMENT AND OTHER CONTEXT
------------------------------

Environment variables:

    AUTOMATED_TESTING = 1
    LANG = en_GB.UTF-8
    LANGUAGE = en_GB:en
    LC_TERMINAL = iTerm2
    LC_TERMINAL_VERSION = 3.4.16
    NONINTERACTIVE_TESTING = 1
    PATH = /home/david/perl5/perlbrew/bin:/home/david/perl5/perlbrew/perls/perl-5.30.2/bin:/home/david/bin:/usr/local/bin:/usr/bin:/bin:/usr/local/games:/usr/games
    PERL = 5.18.4
    PERL5LIB = 
    PERL5OPT = 
    PERL5_CPANPLUS_IS_RUNNING = 1355513
    PERL5_CPAN_IS_RUNNING = 1355513
    PERLBREW_HOME = /home/david/.perlbrew
    PERLBREW_MANPATH = /home/david/perl5/perlbrew/perls/perl-5.30.2/man
    PERLBREW_PATH = /home/david/perl5/perlbrew/bin:/home/david/perl5/perlbrew/perls/perl-5.30.2/bin
    PERLBREW_PERL = perl-5.30.2
    PERLBREW_ROOT = /home/david/perl5/perlbrew
    PERLBREW_SHELLRC_VERSION = 0.89
    PERLBREW_VERSION = 0.89
    PERLVER = 5.18.4
    PERL_INLINE_DIRECTORY = /home/david/.Inline-5.18.4
    PERL_MM_USE_DEFAULT = 1
    PERL_USE_UNSAFE_INC = 0
    SHELL = /bin/bash
    TERM = screen

Perl special variables (and OS-specific diagnostics, for MSWin32):

    $^X = /home/david/cpantesting/perl-5.18.4/bin/perl
    $UID/$EUID = 1000 / 1000
    $GID = 1000 24 25 27 29 30 44 46 109 1000
    $EGID = 1000 24 25 27 29 30 44 46 109 1000

Perl module toolchain versions installed:

    Module              Have    
    ------------------- --------
    CPAN                2.00    
    CPAN::Meta          2.143240
    Cwd                 3.40    
    ExtUtils::CBuilder  0.280210
    ExtUtils::Command   7.64    
    ExtUtils::Install   2.06    
    ExtUtils::MakeMaker 7.64    
    ExtUtils::Manifest  1.70    
    ExtUtils::ParseXS   3.44    
    File::Spec          3.40    
    JSON                n/a     
    JSON::PP            4.07    
    Module::Build       0.4231  
    Module::Signature   n/a     
    Parse::CPAN::Meta   1.4414  
    Test::Harness       3.42    
    Test::More          1.302188
    YAML                n/a     
    YAML::Syck          n/a     
    version             0.9929  


--

Summary of my perl5 (revision 5 version 18 subversion 4) configuration:
   
  Platform:
    osname=linux, osvers=5.10.0-11-amd64, archname=x86_64-linux-thread-multi
    uname='linux cpantesting-linux-utm 5.10.0-11-amd64 #1 smp debian 5.10.92-1 (2022-01-18) x86_64 gnulinux '
    config_args='-de -Dusethreads -Dprefix=/home/david/cpantesting/perl-5.18.4 -A ccflags=-fwrapv'
    hint=recommended, useposix=true, d_sigaction=define
    useithreads=define, usemultiplicity=define
    useperlio=define, d_sfio=undef, uselargefiles=define, usesocks=undef
    use64bitint=define, use64bitall=define, uselongdouble=undef
    usemymalloc=n, bincompat5005=undef
  Compiler:
    cc='cc', ccflags ='-D_REENTRANT -D_GNU_SOURCE -fwrapv -fno-strict-aliasing -pipe -fstack-protector -I/usr/local/include -D_LARGEFILE_SOURCE -D_FILE_OFFSET_BITS=64',
    optimize='-O2',
    cppflags='-D_REENTRANT -D_GNU_SOURCE -fwrapv -fno-strict-aliasing -pipe -fstack-protector -I/usr/local/include'
    ccversion='', gccversion='10.2.1 20210110', gccosandvers=''
    intsize=4, longsize=8, ptrsize=8, doublesize=8, byteorder=12345678
    d_longlong=define, longlongsize=8, d_longdbl=define, longdblsize=16
    ivtype='long', ivsize=8, nvtype='double', nvsize=8, Off_t='off_t', lseeksize=8
    alignbytes=8, prototype=define
  Linker and Libraries:
    ld='cc', ldflags =' -fstack-protector -L/usr/local/lib'
    libpth=/usr/local/lib /lib/x86_64-linux-gnu /lib/../lib /usr/lib/x86_64-linux-gnu /usr/lib/../lib /lib /usr/lib /lib64 /usr/lib64
    libs=-lnsl -ldl -lm -lcrypt -lutil -lpthread -lc
    perllibs=-lnsl -ldl -lm -lcrypt -lutil -lpthread -lc
    libc=libc-2.31.so, so=so, useshrplib=false, libperl=libperl.a
    gnulibc_version='2.31'
  Dynamic Linking:
    dlsrc=dl_dlopen.xs, dlext=so, d_dlsymun=undef, ccdlflags='-Wl,-E'
    cccdlflags='-fPIC', lddlflags='-shared -O2 -L/usr/local/lib -fstack-protector'


Characteristics of this binary (from libperl): 
  Compile-time options: HAS_TIMES MULTIPLICITY PERLIO_LAYERS
                        PERL_DONT_CREATE_GVSV
                        PERL_HASH_FUNC_ONE_AT_A_TIME_HARD
                        PERL_IMPLICIT_CONTEXT PERL_MALLOC_WRAP
                        PERL_PRESERVE_IVUV PERL_SAWAMPERSAND USE_64_BIT_ALL
                        USE_64_BIT_INT USE_ITHREADS USE_LARGE_FILES
                        USE_LOCALE USE_LOCALE_COLLATE USE_LOCALE_CTYPE
                        USE_LOCALE_NUMERIC USE_PERLIO USE_PERL_ATOF
                        USE_REENTRANT_API
  Locally applied patches:
	Devel::PatchPerl 2.08
  Built under linux
  Compiled at Feb  5 2022 21:05:21
  %ENV:
    PERL="5.18.4"
    PERL5LIB=""
    PERL5OPT=""
    PERL5_CPANPLUS_IS_RUNNING="1355513"
    PERL5_CPAN_IS_RUNNING="1355513"
    PERLBREW_HOME="/home/david/.perlbrew"
    PERLBREW_MANPATH="/home/david/perl5/perlbrew/perls/perl-5.30.2/man"
    PERLBREW_PATH="/home/david/perl5/perlbrew/bin:/home/david/perl5/perlbrew/perls/perl-5.30.2/bin"
    PERLBREW_PERL="perl-5.30.2"
    PERLBREW_ROOT="/home/david/perl5/perlbrew"
    PERLBREW_SHELLRC_VERSION="0.89"
    PERLBREW_VERSION="0.89"
    PERLVER="5.18.4"
    PERL_INLINE_DIRECTORY="/home/david/.Inline-5.18.4"
    PERL_MM_USE_DEFAULT="1"
    PERL_USE_UNSAFE_INC="0"
  @INC:
    /home/david/cpantesting/perl-5.18.4/lib/site_perl/5.18.4/x86_64-linux-thread-multi
    /home/david/cpantesting/perl-5.18.4/lib/site_perl/5.18.4
    /home/david/cpantesting/perl-5.18.4/lib/5.18.4/x86_64-linux-thread-multi
    /home/david/cpantesting/perl-5.18.4/lib/5.18.4
    .