Neo4j-Client v0.52 Perl 5 v5.37.8 x86_64-linux-multi-ld
- Status
- Pass
- From
- Andreas J. König (ANDK)
- Dist
-
Neo4j-Client v0.52
- Platform
- Perl 5 v5.37.8 x86_64-linux-multi-ld
- Date
- 2023-05-13 21:00:26
- ID
- 2f6dab14-f1d1-11ed-a41b-7733bfd7aa17
This distribution has been tested as part of the CPAN Testers
project, supporting the Perl programming language. See
http://wiki.cpantesters.org/ for more information or email
questions to cpan-testers-discuss@perl.org
--
Dear Mark Allen Jensen,
This is a computer-generated report for Neo4j-Client-0.52
on perl 5.37.8, created by CPAN-Reporter-1.2018.
Thank you for uploading your work to CPAN. Congratulations!
All tests were successful.
Sections of this report:
* Tester comments
* Program output
* Prerequisites
* Environment and other context
------------------------------
TESTER COMMENTS
------------------------------
Additional comments from tester:
this report is from an automated smoke testing program
and was not reviewed by a human for accuracy
------------------------------
PROGRAM OUTPUT
------------------------------
Output from '/usr/bin/make test':
"/home/sand/src/perl/repoperls/installed-perls/host/k93msid/v5.37.8/1d53/bin/perl" -MAlien::Build::MM=cmd -e test
PERL_DL_NONLAZY=1 "/home/sand/src/perl/repoperls/installed-perls/host/k93msid/v5.37.8/1d53/bin/perl" "-MExtUtils::Command::MM" "-MTest::Harness" "-e" "undef *Test::Harness::Switches; test_harness(0, 'blib/lib', 'blib/arch')" t/*.t
# 2.3.0
# -I/tmp/loop_over_bdir-1420948-E6zsrp/Neo4j-Client-0.52-0/blib/lib/auto/share/dist/Neo4j-Client/include -iquote/home/sand/src/perl/repoperls/installed-perls/host/k93msid/v5.37.8/1d53/lib/site_perl/5.37.8/x86_64-linux-multi-ld/auto/share/dist/Neo4j-Client/include
# -L/tmp/loop_over_bdir-1420948-E6zsrp/Neo4j-Client-0.52-0/blib/lib/auto/share/dist/Neo4j-Client/dynamic -lssl -lcrypto -lneo4j-client
# -L/tmp/loop_over_bdir-1420948-E6zsrp/Neo4j-Client-0.52-0/blib/lib/auto/share/dist/Neo4j-Client/lib -lssl -lcrypto -lneo4j-client
t/001_alien.t ......... ok
t/098_pod.t ........... ok
t/099_cpan_changes.t .. skipped: Test::CPAN::Changes required for this test
All tests successful.
Files=3, Tests=5, 2 wallclock secs ( 0.02 usr 0.01 sys + 0.96 cusr 0.16 csys = 1.15 CPU)
Result: PASS
------------------------------
PREREQUISITES
------------------------------
Prerequisite modules loaded:
requires:
Module Need Have
-------------------------------------------- ---- --------
Alien::Build 0.25 2.77
Alien::OpenSSL 0 0.15
Capture::Tiny 0 0.48
Env 0 1.05
File::Which 0 1.27
Path::Tiny 0 0.144
build_requires:
Module Need Have
-------------------------------------------- ---- --------
Alien::Build::MM 0.25 2.77
Alien::Build::Plugin::Gather::IsolateDynamic 0.48 2.77
Config 0 5.037008
Test2::V0 0 0.000150
Test::Alien 0 2.77
tool::AC 0 0.001
tool::AM 0 0.001
configure_requires:
Module Need Have
-------------------------------------------- ---- --------
Alien::Build 1.19 2.77
Alien::Build::MM 0.25 2.77
Alien::Build::Plugin::Fetch::LocalDir 0.72 2.77
Alien::OpenSSL 0 0.15
Capture::Tiny 0 0.48
Env 0 1.05
File::Which 0 1.27
Path::Tiny 0 0.144
------------------------------
ENVIRONMENT AND OTHER CONTEXT
------------------------------
Environment variables:
AUTOMATED_TESTING = 1
LANG = en_US.UTF-8
LANGUAGE = en_US:en
PATH = /home/sand/bin:/usr/local/bin:/usr/bin:/bin:/usr/games:/usr/local/perl/bin:/usr/X11/bin:/sbin:/usr/sbin
PERL5LIB =
PERL5OPT =
PERL5_CPANPLUS_IS_RUNNING = 4110301
PERL5_CPAN_IS_RUNNING = 4110301
PERL_CANARY_STABILITY_NOPROMPT = 1
PERL_MM_USE_DEFAULT = 1
PERL_USE_UNSAFE_INC = 1
SHELL = /usr/bin/zsh
TERM = screen
Perl special variables (and OS-specific diagnostics, for MSWin32):
$^X = /home/sand/src/perl/repoperls/installed-perls/host/k93msid/v5.37.8/1d53/bin/perl
$UID/$EUID = 1005 / 1005
$GID = 1005 1005
$EGID = 1005 1005
Perl module toolchain versions installed:
Module Have
------------------- --------
CPAN 2.34
CPAN::Meta 2.150010
Cwd 3.88
ExtUtils::CBuilder 0.280238
ExtUtils::Command 7.66
ExtUtils::Install 2.22
ExtUtils::MakeMaker 7.66
ExtUtils::Manifest 1.73
ExtUtils::ParseXS 3.49
File::Spec 3.88
JSON 4.10
JSON::PP 4.16
Module::Build 0.4232
Module::Signature 0.88
Parse::CPAN::Meta 2.150010
Test::Harness 3.44
Test::More 1.302191
YAML 1.30
YAML::Syck 1.34
version 0.9929
--
Summary of my perl5 (revision 5 version 37 subversion 8) configuration:
Commit id: aaff26e0f2e98dc425f7514531d35dfec6948f6d
Platform:
osname=linux
osvers=6.0.0-5-amd64
archname=x86_64-linux-multi-ld
uname='linux k93msid 6.0.0-5-amd64 #1 smp preempt_dynamic debian 6.0.10-2 (2022-12-01) x86_64 gnulinux '
config_args='-Dprefix=/home/sand/src/perl/repoperls/installed-perls/host/k93msid/v5.37.8/1d53 -Dmyhostname=k93msid -Dinstallusrbinperl=n -Uversiononly -Dusedevel -des -Ui_db -Dlibswanted=cl pthread socket inet nsl gdbm dbm malloc dl ld sun m crypt sec util c cposix posix ucb BSD gdbm_compat -Uuseithreads -Duselongdouble -DEBUGGING=both -Dusemultiplicity'
hint=recommended
useposix=true
d_sigaction=define
useithreads=undef
usemultiplicity=define
use64bitint=define
use64bitall=define
uselongdouble=define
usemymalloc=n
default_inc_excludes_dot=define
Compiler:
cc='cc'
ccflags ='-fwrapv -DDEBUGGING -fno-strict-aliasing -pipe -fstack-protector-strong -I/usr/local/include -D_LARGEFILE_SOURCE -D_FILE_OFFSET_BITS=64 -D_FORTIFY_SOURCE=2'
optimize='-O2 -g'
cppflags='-fwrapv -DDEBUGGING -fno-strict-aliasing -pipe -fstack-protector-strong -I/usr/local/include'
ccversion=''
gccversion='12.2.0'
gccosandvers=''
intsize=4
longsize=8
ptrsize=8
doublesize=8
byteorder=12345678
doublekind=3
d_longlong=define
longlongsize=8
d_longdbl=define
longdblsize=16
longdblkind=3
ivtype='long'
ivsize=8
nvtype='long double'
nvsize=16
Off_t='off_t'
lseeksize=8
alignbytes=16
prototype=define
Linker and Libraries:
ld='cc'
ldflags =' -fstack-protector-strong -L/usr/local/lib'
libpth=/usr/local/lib /usr/lib/x86_64-linux-gnu /usr/lib /usr/lib64
libs=-lpthread -lnsl -ldl -lm -lcrypt -lutil -lc
perllibs=-lpthread -lnsl -ldl -lm -lcrypt -lutil -lc
libc=/lib/x86_64-linux-gnu/libc.so.6
so=so
useshrplib=false
libperl=libperl.a
gnulibc_version='2.36'
Dynamic Linking:
dlsrc=dl_dlopen.xs
dlext=so
d_dlsymun=undef
ccdlflags='-Wl,-E'
cccdlflags='-fPIC'
lddlflags='-shared -O2 -g -L/usr/local/lib -fstack-protector-strong'
Characteristics of this binary (from libperl):
Compile-time options:
DEBUGGING
HAS_TIMES
MULTIPLICITY
PERLIO_LAYERS
PERL_COPY_ON_WRITE
PERL_DONT_CREATE_GVSV
PERL_HASH_FUNC_SIPHASH13
PERL_HASH_USE_SBOX32
PERL_MALLOC_WRAP
PERL_OP_PARENT
PERL_PRESERVE_IVUV
PERL_TRACK_MEMPOOL
PERL_USE_DEVEL
PERL_USE_SAFE_PUTENV
USE_64_BIT_ALL
USE_64_BIT_INT
USE_LARGE_FILES
USE_LOCALE
USE_LOCALE_COLLATE
USE_LOCALE_CTYPE
USE_LOCALE_NUMERIC
USE_LOCALE_TIME
USE_LONG_DOUBLE
USE_PERLIO
USE_PERL_ATOF
Built under linux
Compiled at Jan 20 2023 23:10:13
%ENV:
PERL5LIB=""
PERL5OPT=""
PERL5_CPANPLUS_IS_RUNNING="4110301"
PERL5_CPAN_IS_RUNNING="4110301"
PERL_CANARY_STABILITY_NOPROMPT="1"
PERL_MM_USE_DEFAULT="1"
PERL_USE_UNSAFE_INC="1"
@INC:
/home/sand/src/perl/repoperls/installed-perls/host/k93msid/v5.37.8/1d53/lib/site_perl/5.37.8/x86_64-linux-multi-ld
/home/sand/src/perl/repoperls/installed-perls/host/k93msid/v5.37.8/1d53/lib/site_perl/5.37.8
/home/sand/src/perl/repoperls/installed-perls/host/k93msid/v5.37.8/1d53/lib/5.37.8/x86_64-linux-multi-ld
/home/sand/src/perl/repoperls/installed-perls/host/k93msid/v5.37.8/1d53/lib/5.37.8
.