Device-Network-ConfigParser v0.006 Perl 5 v5.24.2 x86_64-linux-thread-multi

Status
Pass
From
Nigel Horne
Dist
Device-Network-ConfigParser v0.006
Platform
Perl 5 v5.24.2 x86_64-linux-thread-multi
Date
2017-11-13 23:48:45
ID
2f930090-c8cd-11e7-bb1c-ab90ec1d2778
This distribution has been tested as part of the CPAN Testers
project, supporting the Perl programming language.  See
http://wiki.cpantesters.org/ for more information or email
questions to cpan-testers-discuss@perl.org


--
Dear Greg Foletta,

This is a computer-generated report for Device-Network-ConfigParser-0.006
on perl 5.24.2, created by CPAN-Reporter-1.2018.

Thank you for uploading your work to CPAN.  Congratulations!
All tests were successful.

Sections of this report:

    * Tester comments
    * Program output
    * Prerequisites
    * Environment and other context

------------------------------
TESTER COMMENTS
------------------------------

Additional comments from tester:

this report is from an automated smoke testing program
and was not reviewed by a human for accuracy

------------------------------
PROGRAM OUTPUT
------------------------------

Output from '/usr/bin/make test':

PERL_DL_NONLAZY=1 "/home/njh/perl5/perlbrew/perls/perl-5.24.2/bin/perl5.24.2" "-MExtUtils::Command::MM" "-MTest::Harness" "-e" "undef *Test::Harness::Switches; test_harness(0, 'blib/lib', 'blib/arch')" t/*.t
t/author-pod-coverage.t .. skipped: these tests are for testing by the author
t/author-pod-syntax.t .... skipped: these tests are for testing by the author
t/release-kwalitee.t ..... skipped: these tests are for release candidate testing
t/00-load.t .............. ok
t/04-linux_iproute2.t .... ok
t/03-linux_netutils.t .... ok
t/01-checkpoint_gaia.t ... ok
t/02-cisco_asa.t ......... ok
All tests successful.
Files=8, Tests=43,  0 wallclock secs ( 0.03 usr  0.00 sys +  0.53 cusr  0.07 csys =  0.63 CPU)
Result: PASS

------------------------------
PREREQUISITES
------------------------------

Prerequisite modules loaded:

requires:

    Module              Need  Have      
    ------------------- ----- ----------
    Data::Dumper        0     2.161     
    Exporter            0     5.72      
    Getopt::Long        0     2.48      
    JSON                0     2.94      
    Modern::Perl        0     1.20170117
    Module::Load        0     0.32      
    Parse::RecDescent   0     1.967015  
    perl                5.006 5.024002  
    Perl6::Slurp        0     0.051005  
    Pod::Usage          0     1.68      
    Scalar::Util        0     1.48      
    strict              0     1.11      
    warnings            0     1.36      

build_requires:

    Module              Need  Have      
    ------------------- ----- ----------
    ExtUtils::MakeMaker 0     7.30      
    Test::More          0     1.302096  

configure_requires:

    Module              Need  Have      
    ------------------- ----- ----------
    ExtUtils::MakeMaker 0     7.30      


------------------------------
ENVIRONMENT AND OTHER CONTEXT
------------------------------

Environment variables:

    AUTOMATED_TESTING = 1
    HARNESS_OPTIONS = j10
    LANG = en_GB.UTF-8
    PATH = /home/njh/perl5/perlbrew/bin:/home/njh/perl5/perlbrew/perls/perl-5.24.2/bin:/home/njh/perl5/perlbrew/bin:/usr/bin:/bin:src/njh/smoker/bin
    PERL5LIB = /tmp/build/Perl6-Slurp-0.051005-21/blib/arch:/tmp/build/Perl6-Slurp-0.051005-21/blib/lib:/tmp/build/Modern-Perl-1.20170117-10/blib/arch:/tmp/build/Modern-Perl-1.20170117-10/blib/lib:/tmp/build/AnyEvent-ProcessPool-0.06-21/blib/arch:/tmp/build/AnyEvent-ProcessPool-0.06-21/blib/lib:/tmp/build/Try-Catch-1.1.0-21/blib/arch:/tmp/build/Try-Catch-1.1.0-21/blib/lib:/tmp/build/String-Escape-2010.002-21/blib/arch:/tmp/build/String-Escape-2010.002-21/blib/lib:/tmp/build/Data-UUID-MT-1.001-21/blib/arch:/tmp/build/Data-UUID-MT-1.001-21/blib/lib:/tmp/build/Math-Random-MT-Auto-6.22-21/blib/arch:/tmp/build/Math-Random-MT-Auto-6.22-21/blib/lib:/tmp/build/Object-InsideOut-4.04-21/blib/arch:/tmp/build/Object-InsideOut-4.04-21/blib/lib:/tmp/build/List-AllUtils-0.14-9/blib/arch:/tmp/build/List-AllUtils-0.14-9/blib/lib:/tmp/build/List-UtilsBy-0.10-9/blib/arch:/tmp/build/List-UtilsBy-0.10-9/blib/lib:/tmp/build/Data-Dump-Streamer-2.40-21/blib/arch:/tmp/build/Data-Dump-Streamer-2.40-21/blib/lib:/tmp/build/AnyEvent-Open3-Simple-0.86-21/blib/arch:/tmp/build/AnyEvent-Open3-Simple-0.86-21/blib/lib:/tmp/build/AnyEvent-7.14-20/blib/arch:/tmp/build/AnyEvent-7.14-20/blib/lib:/tmp/build/Canary-Stability-2012-7/blib/arch:/tmp/build/Canary-Stability-2012-7/blib/lib:/tmp/build/Devel-Chitin-0.12-21/blib/arch:/tmp/build/Devel-Chitin-0.12-21/blib/lib:/tmp/build/Devel-Callsite-0.10-21/blib/arch:/tmp/build/Devel-Callsite-0.10-21/blib/lib
    PERL5OPT = 
    PERL5_CPANPLUS_IS_RUNNING = 18981
    PERL5_CPAN_IS_RUNNING = 18981
    PERLBREW_BASHRC_VERSION = 0.80
    PERLBREW_LIB = 
    PERLBREW_MANPATH = /home/njh/perl5/perlbrew/perls/perl-5.24.2/man
    PERLBREW_PATH = /home/njh/perl5/perlbrew/bin:/home/njh/perl5/perlbrew/perls/perl-5.24.2/bin
    PERLBREW_PERL = perl-5.24.2
    PERLBREW_ROOT = /home/njh/perl5/perlbrew
    PERLBREW_VERSION = 0.80
    PERL_LOCAL_LIB_ROOT = 
    SHELL = /bin/sh

Perl special variables (and OS-specific diagnostics, for MSWin32):

    $^X = /home/njh/perl5/perlbrew/perls/perl-5.24.2/bin/perl5.24.2
    $UID/$EUID = 1000 / 1000
    $GID = 1000 4 24 25 29 30 44 46 107 112 118 1000
    $EGID = 1000 4 24 25 29 30 44 46 107 112 118 1000

Perl module toolchain versions installed:

    Module              Have      
    ------------------- ----------
    CPAN                2.16      
    CPAN::Meta          2.150010  
    Cwd                 3.63_01   
    ExtUtils::CBuilder  0.280226  
    ExtUtils::Command   7.30      
    ExtUtils::Install   2.14      
    ExtUtils::MakeMaker 7.30      
    ExtUtils::Manifest  1.70      
    ExtUtils::ParseXS   3.35      
    File::Spec          3.63_01   
    JSON                2.94      
    JSON::PP            2.27300_01
    Module::Build       0.4224    
    Module::Signature   n/a       
    Parse::CPAN::Meta   2.150010  
    Test::Harness       3.36_01   
    Test::More          1.302096  
    YAML                1.24      
    YAML::Syck          1.30      
    version             0.9916    


--

Summary of my perl5 (revision 5 version 24 subversion 2) configuration:
   
  Platform:
    osname=linux, osvers=4.11.0-1-amd64, archname=x86_64-linux-thread-multi
    uname='linux microcenter 4.11.0-1-amd64 #1 smp debian 4.11.6-1 (2017-06-19) x86_64 gnulinux '
    config_args='-de -Dprefix=/home/njh/perl5/perlbrew/perls/perl-5.24.2 -Duseithreads -Dusemultiplicity -Dusedevel -Accflags=-O2 -W -Wformat=2 -Wswitch -Wshadow -Wwrite-strings -Wuninitialized -Wall -pipe -fomit-frame-pointer -pedantic -D_FORTIFY_SOURCE=2 -Wpointer-arith -Wstrict-prototypes -fstack-protector -Wstack-protector -Wextra -Wbad-function-cast -Wcast-align -Wcast-qual -Wdisabled-optimization -Wendif-labels -Wfloat-equal -Wformat-nonliteral -Winline -Wmissing-declarations -Wmissing-prototypes -Wnested-externs -Wpointer-arith -Wundef -Wformat-security -ftree-vectorize -msse -mfpmath=sse -msse2 -mssse3 -msse4.1 -msse4.2 -fdiagnostics-color=auto -mtune=native -march=native -Acc=gcc-7 -Aeval:scriptdir=/home/njh/perl5/perlbrew/perls/perl-5.24.2/bin'
    hint=recommended, useposix=true, d_sigaction=define
    useithreads=define, usemultiplicity=define
    use64bitint=define, use64bitall=define, uselongdouble=undef
    usemymalloc=n, bincompat5005=undef
  Compiler:
    cc=' gcc-7', ccflags ='-D_REENTRANT -D_GNU_SOURCE -O2 -W -Wformat=2 -Wswitch -Wshadow -Wwrite-strings -Wuninitialized -Wall -pipe -fomit-frame-pointer -pedantic -D_FORTIFY_SOURCE=2 -Wpointer-arith -Wstrict-prototypes -fstack-protector -Wstack-protector -Wextra -Wbad-function-cast -Wcast-align -Wcast-qual -Wdisabled-optimization -Wendif-labels -Wfloat-equal -Wformat-nonliteral -Winline -Wmissing-declarations -Wmissing-prototypes -Wnested-externs -Wpointer-arith -Wundef -Wformat-security -ftree-vectorize -msse -mfpmath=sse -msse2 -mssse3 -msse4.1 -msse4.2 -fdiagnostics-color=auto -mtune=native -march=native -fwrapv -fno-strict-aliasing -fstack-protector-strong -I/usr/local/include -D_LARGEFILE_SOURCE -D_FILE_OFFSET_BITS=64',
    optimize='-O2',
    cppflags='-D_REENTRANT -D_GNU_SOURCE -O2 -W -Wformat=2 -Wswitch -Wshadow -Wwrite-strings -Wuninitialized -Wall -pipe -fomit-frame-pointer -pedantic -D_FORTIFY_SOURCE=2 -Wpointer-arith -Wstrict-prototypes -fstack-protector -Wstack-protector -Wextra -Wbad-function-cast -Wcast-align -Wcast-qual -Wdisabled-optimization -Wendif-labels -Wfloat-equal -Wformat-nonliteral -Winline -Wmissing-declarations -Wmissing-prototypes -Wnested-externs -Wpointer-arith -Wundef -Wformat-security -ftree-vectorize -msse -mfpmath=sse -msse2 -mssse3 -msse4.1 -msse4.2 -fdiagnostics-color=auto -mtune=native -march=native -fwrapv -fno-strict-aliasing -fstack-protector-strong -I/usr/local/include'
    ccversion='', gccversion='7.1.0', gccosandvers=''
    intsize=4, longsize=8, ptrsize=8, doublesize=8, byteorder=12345678, doublekind=3
    d_longlong=define, longlongsize=8, d_longdbl=define, longdblsize=16, longdblkind=3
    ivtype='long', ivsize=8, nvtype='double', nvsize=8, Off_t='off_t', lseeksize=8
    alignbytes=8, prototype=define
  Linker and Libraries:
    ld=' gcc-7', ldflags =' -fstack-protector-strong -L/usr/local/lib'
    libpth=/usr/local/lib /usr/lib/gcc/x86_64-linux-gnu/7/include-fixed /usr/include/x86_64-linux-gnu /usr/lib /lib/x86_64-linux-gnu /lib/../lib /usr/lib/x86_64-linux-gnu /usr/lib/../lib /lib
    libs=-lpthread -lnsl -lgdbm -ldb -ldl -lm -lcrypt -lutil -lc -lgdbm_compat
    perllibs=-lpthread -lnsl -ldl -lm -lcrypt -lutil -lc
    libc=libc-2.24.so, so=so, useshrplib=false, libperl=libperl.a
    gnulibc_version='2.24'
  Dynamic Linking:
    dlsrc=dl_dlopen.xs, dlext=so, d_dlsymun=undef, ccdlflags='-Wl,-E'
    cccdlflags='-fPIC', lddlflags='-shared -O2 -L/usr/local/lib -fstack-protector-strong'


Characteristics of this binary (from libperl): 
  Compile-time options: HAS_TIMES MULTIPLICITY PERLIO_LAYERS
                        PERL_COPY_ON_WRITE PERL_DONT_CREATE_GVSV
                        PERL_HASH_FUNC_ONE_AT_A_TIME_HARD
                        PERL_IMPLICIT_CONTEXT PERL_MALLOC_WRAP
                        PERL_PRESERVE_IVUV PERL_USE_DEVEL USE_64_BIT_ALL
                        USE_64_BIT_INT USE_ITHREADS USE_LARGE_FILES
                        USE_LOCALE USE_LOCALE_COLLATE USE_LOCALE_CTYPE
                        USE_LOCALE_NUMERIC USE_LOCALE_TIME USE_PERLIO
                        USE_PERL_ATOF USE_REENTRANT_API
  Built under linux
  Compiled at Jul 17 2017 13:02:41
  %ENV:
    PERL5LIB="/tmp/build/Perl6-Slurp-0.051005-21/blib/arch:/tmp/build/Perl6-Slurp-0.051005-21/blib/lib:/tmp/build/Modern-Perl-1.20170117-10/blib/arch:/tmp/build/Modern-Perl-1.20170117-10/blib/lib:/tmp/build/AnyEvent-ProcessPool-0.06-21/blib/arch:/tmp/build/AnyEvent-ProcessPool-0.06-21/blib/lib:/tmp/build/Try-Catch-1.1.0-21/blib/arch:/tmp/build/Try-Catch-1.1.0-21/blib/lib:/tmp/build/String-Escape-2010.002-21/blib/arch:/tmp/build/String-Escape-2010.002-21/blib/lib:/tmp/build/Data-UUID-MT-1.001-21/blib/arch:/tmp/build/Data-UUID-MT-1.001-21/blib/lib:/tmp/build/Math-Random-MT-Auto-6.22-21/blib/arch:/tmp/build/Math-Random-MT-Auto-6.22-21/blib/lib:/tmp/build/Object-InsideOut-4.04-21/blib/arch:/tmp/build/Object-InsideOut-4.04-21/blib/lib:/tmp/build/List-AllUtils-0.14-9/blib/arch:/tmp/build/List-AllUtils-0.14-9/blib/lib:/tmp/build/List-UtilsBy-0.10-9/blib/arch:/tmp/build/List-UtilsBy-0.10-9/blib/lib:/tmp/build/Data-Dump-Streamer-2.40-21/blib/arch:/tmp/build/Data-Dump-Streamer-2.40-21/blib/lib:/tmp/build/AnyEvent-Open3-Simple-0.86-21/blib/arch:/tmp/build/AnyEvent-Open3-Simple-0.86-21/blib/lib:/tmp/build/AnyEvent-7.14-20/blib/arch:/tmp/build/AnyEvent-7.14-20/blib/lib:/tmp/build/Canary-Stability-2012-7/blib/arch:/tmp/build/Canary-Stability-2012-7/blib/lib:/tmp/build/Devel-Chitin-0.12-21/blib/arch:/tmp/build/Devel-Chitin-0.12-21/blib/lib:/tmp/build/Devel-Callsite-0.10-21/blib/arch:/tmp/build/Devel-Callsite-0.10-21/blib/lib"
    PERL5OPT=""
    PERL5_CPANPLUS_IS_RUNNING="18981"
    PERL5_CPAN_IS_RUNNING="18981"
    PERLBREW_BASHRC_VERSION="0.80"
    PERLBREW_LIB=""
    PERLBREW_MANPATH="/home/njh/perl5/perlbrew/perls/perl-5.24.2/man"
    PERLBREW_PATH="/home/njh/perl5/perlbrew/bin:/home/njh/perl5/perlbrew/perls/perl-5.24.2/bin"
    PERLBREW_PERL="perl-5.24.2"
    PERLBREW_ROOT="/home/njh/perl5/perlbrew"
    PERLBREW_VERSION="0.80"
    PERL_LOCAL_LIB_ROOT=""
  @INC:
    /tmp/build/Perl6-Slurp-0.051005-21/blib/arch
    /tmp/build/Perl6-Slurp-0.051005-21/blib/lib
    /tmp/build/Modern-Perl-1.20170117-10/blib/arch
    /tmp/build/Modern-Perl-1.20170117-10/blib/lib
    /tmp/build/AnyEvent-ProcessPool-0.06-21/blib/arch
    /tmp/build/AnyEvent-ProcessPool-0.06-21/blib/lib
    /tmp/build/Try-Catch-1.1.0-21/blib/arch
    /tmp/build/Try-Catch-1.1.0-21/blib/lib
    /tmp/build/String-Escape-2010.002-21/blib/arch
    /tmp/build/String-Escape-2010.002-21/blib/lib
    /tmp/build/Data-UUID-MT-1.001-21/blib/arch
    /tmp/build/Data-UUID-MT-1.001-21/blib/lib
    /tmp/build/Math-Random-MT-Auto-6.22-21/blib/arch
    /tmp/build/Math-Random-MT-Auto-6.22-21/blib/lib
    /tmp/build/Object-InsideOut-4.04-21/blib/arch
    /tmp/build/Object-InsideOut-4.04-21/blib/lib
    /tmp/build/List-AllUtils-0.14-9/blib/arch
    /tmp/build/List-AllUtils-0.14-9/blib/lib
    /tmp/build/List-UtilsBy-0.10-9/blib/arch
    /tmp/build/List-UtilsBy-0.10-9/blib/lib
    /tmp/build/Data-Dump-Streamer-2.40-21/blib/arch
    /tmp/build/Data-Dump-Streamer-2.40-21/blib/lib
    /tmp/build/AnyEvent-Open3-Simple-0.86-21/blib/arch
    /tmp/build/AnyEvent-Open3-Simple-0.86-21/blib/lib
    /tmp/build/AnyEvent-7.14-20/blib/arch
    /tmp/build/AnyEvent-7.14-20/blib/lib
    /tmp/build/Canary-Stability-2012-7/blib/arch
    /tmp/build/Canary-Stability-2012-7/blib/lib
    /tmp/build/Devel-Chitin-0.12-21/blib/arch
    /tmp/build/Devel-Chitin-0.12-21/blib/lib
    /tmp/build/Devel-Callsite-0.10-21/blib/arch
    /tmp/build/Devel-Callsite-0.10-21/blib/lib
    /home/njh/perl5/perlbrew/perls/perl-5.24.2/lib/site_perl/5.24.2/x86_64-linux-thread-multi
    /home/njh/perl5/perlbrew/perls/perl-5.24.2/lib/site_perl/5.24.2
    /home/njh/perl5/perlbrew/perls/perl-5.24.2/lib/5.24.2/x86_64-linux-thread-multi
    /home/njh/perl5/perlbrew/perls/perl-5.24.2/lib/5.24.2
    .