MooseX-UndefTolerant v0.21 Perl 5 v5.12.4 x86_64-linux
- Status
- Pass
- From
- Serguei Trouchelle (STRO)
- Dist
-
MooseX-UndefTolerant v0.21
- Platform
- Perl 5 v5.12.4 x86_64-linux
- Date
- 2017-10-02 16:17:29
- ID
- 2fcd8ec4-a78d-11e7-9cb2-54e06bd455be
This distribution has been tested as part of the CPAN Testers
project, supporting the Perl programming language. See
http://wiki.cpantesters.org/ for more information or email
questions to cpan-testers-discuss@perl.org
--
Dear Karen Etheridge,
This is a computer-generated report for MooseX-UndefTolerant-0.21
on perl 5.12.4, created by CPAN-Reporter-1.2018.
Thank you for uploading your work to CPAN. Congratulations!
All tests were successful.
Sections of this report:
* Tester comments
* Program output
* Prerequisites
* Environment and other context
------------------------------
TESTER COMMENTS
------------------------------
Additional comments from tester:
this report is from an automated smoke testing program
and was not reviewed by a human for accuracy
------------------------------
PROGRAM OUTPUT
------------------------------
Output from '/usr/bin/make test':
PERL_DL_NONLAZY=1 "/home/stro/perl/5.12.4/bin/perl" "-MExtUtils::Command::MM" "-MTest::Harness" "-e" "undef *Test::Harness::Switches; test_harness(0, 'blib/lib', 'blib/arch')" t/*.t
# Testing MooseX::UndefTolerant 0.21, Perl 5.012004, /home/stro/perl/5.12.4/bin/perl
t/00-load.t ............ ok
#
# Versions for all modules listed in MYMETA.json (including optional ones):
#
# === Configure Requires ===
#
# Module Want Have
# ------------------- ----- -----
# Module::Build::Tiny 0.034 0.039
#
# === Build Requires ===
#
# Module Want Have
# ------------------- ---- ----
# ExtUtils::MakeMaker any 7.30
#
# === Test Requires ===
#
# Module Want Have
# ---------------- ---- --------
# File::Spec any 3.31_01
# Module::Metadata any 1.000033
# Test::Fatal any 0.014
# Test::Moose any 2.2006
# Test::More 0.88 1.302096
# if any 0.05
# lib any 0.62
#
# === Test Recommends ===
#
# Module Want Have
# ---------- -------- --------
# CPAN::Meta 2.120900 2.143240
#
# === Runtime Requires ===
#
# Module Want Have
# -------------------- ---- ------
# Moose 0.89 2.2006
# Moose::Exporter any 2.2006
# Moose::Role any 2.2006
# namespace::autoclean any 0.28
# strict any 1.04
# warnings any 1.09
#
# === Other Modules ===
#
# Module Have
# --------- ----
# JSON::PP 2.94
# Sub::Name 0.21
# YAML 1.23
# autodie 2.29
#
t/00-report-prereqs.t .. ok
t/basic.t .............. ok
t/constructor.t ........ ok
t/defaults.t ........... ok
t/roles.t .............. ok
t/undef_init_arg.t ..... ok
t/zzz-check-breaks.t ... ok
All tests successful.
Files=8, Tests=158, 4 wallclock secs ( 0.03 usr 0.01 sys + 1.74 cusr 0.05 csys = 1.83 CPU)
Result: PASS
------------------------------
PREREQUISITES
------------------------------
Prerequisite modules loaded:
requires:
Module Need Have
-------------------- -------- --------
Moose 0.89 2.2006
Moose::Exporter 0 2.2006
Moose::Role 0 2.2006
namespace::autoclean 0 0.28
perl 5.006 5.012004
strict 0 1.04
warnings 0 1.09
build_requires:
Module Need Have
-------------------- -------- --------
ExtUtils::MakeMaker 0 7.30
File::Spec 0 3.31_01
if 0 0.05
lib 0 0.62
Module::Metadata 0 1.000033
Test::Fatal 0 0.014
Test::Moose 0 2.2006
Test::More 0.88 1.302096
configure_requires:
Module Need Have
-------------------- -------- --------
Module::Build::Tiny 0.034 0.039
perl 5.006 5.012004
opt_build_requires:
Module Need Have
-------------------- -------- --------
CPAN::Meta 2.120900 2.143240
------------------------------
ENVIRONMENT AND OTHER CONTEXT
------------------------------
Environment variables:
AUTOMATED_TESTING = 1
LANG = en_US.UTF-8
PATH = /usr/local/bin:/usr/bin:/bin:/usr/local/games:/usr/games
PERL5LIB =
PERL5OPT =
PERL5_CPANPLUS_IS_RUNNING = 13891
PERL5_CPAN_IS_RUNNING = 13891
PERL5_CPAN_IS_RUNNING_IN_RECURSION = 7420,13891
PERL_CR_SMOKER_CURRENT = App-SimulateReads-0.04
PERL_EXTUTILS_AUTOINSTALL = --defaultdeps
PERL_MM_USE_DEFAULT = 1
SHELL = /bin/bash
TERM = xterm-256color
Perl special variables (and OS-specific diagnostics, for MSWin32):
$^X = /home/stro/perl/5.12.4/bin/perl
$UID/$EUID = 1000 / 1000
$GID = 1000 24 25 29 30 44 46 108 114 1000
$EGID = 1000 24 25 29 30 44 46 108 114 1000
Perl module toolchain versions installed:
Module Have
------------------- --------
CPAN 2.16
CPAN::Meta 2.143240
Cwd 3.31
ExtUtils::CBuilder 0.280226
ExtUtils::Command 7.30
ExtUtils::Install 2.06
ExtUtils::MakeMaker 7.30
ExtUtils::Manifest 1.70
ExtUtils::ParseXS 3.35
File::Spec 3.31_01
JSON 2.94
JSON::PP 2.94
Module::Build 0.4224
Module::Signature n/a
Parse::CPAN::Meta 1.4414
Test::Harness 3.39
Test::More 1.302096
YAML 1.23
YAML::Syck 1.30
version 0.9918
--
Summary of my perl5 (revision 5 version 12 subversion 4) configuration:
Platform:
osname=linux, osvers=3.16.0-4-amd64, archname=x86_64-linux
uname='linux vm-debian-001 3.16.0-4-amd64 #1 smp debian 3.16.7-ckt11-1 (2015-05-24) x86_64 gnulinux '
config_args=''
hint=recommended, useposix=true, d_sigaction=define
useithreads=undef, usemultiplicity=undef
useperlio=define, d_sfio=undef, uselargefiles=define, usesocks=undef
use64bitint=define, use64bitall=define, uselongdouble=undef
usemymalloc=n, bincompat5005=undef
Compiler:
cc='cc', ccflags ='-fno-strict-aliasing -pipe -fstack-protector -I/usr/local/include -D_LARGEFILE_SOURCE -D_FILE_OFFSET_BITS=64',
optimize='-O2',
cppflags='-fno-strict-aliasing -pipe -fstack-protector -I/usr/local/include'
ccversion='', gccversion='4.9.2', gccosandvers=''
intsize=4, longsize=8, ptrsize=8, doublesize=8, byteorder=12345678
d_longlong=define, longlongsize=8, d_longdbl=define, longdblsize=16
ivtype='long', ivsize=8, nvtype='double', nvsize=8, Off_t='off_t', lseeksize=8
alignbytes=8, prototype=define
Linker and Libraries:
ld='cc', ldflags =' -fstack-protector -L/usr/local/lib'
libpth=/usr/local/lib /lib/x86_64-linux-gnu /lib/../lib /usr/lib/x86_64-linux-gnu /usr/lib/../lib /lib /usr/lib
libs=-lnsl -ldl -lm -lcrypt -lutil -lc
perllibs=-lnsl -ldl -lm -lcrypt -lutil -lc
libc=, so=so, useshrplib=false, libperl=libperl.a
gnulibc_version='2.19'
Dynamic Linking:
dlsrc=dl_dlopen.xs, dlext=so, d_dlsymun=undef, ccdlflags='-Wl,-E'
cccdlflags='-fPIC', lddlflags='-shared -O2 -L/usr/local/lib -fstack-protector'
Characteristics of this binary (from libperl):
Compile-time options: PERL_DONT_CREATE_GVSV PERL_MALLOC_WRAP USE_64_BIT_ALL
USE_64_BIT_INT USE_LARGE_FILES USE_PERLIO
USE_PERL_ATOF
Built under linux
Compiled at Sep 28 2017 22:59:22
%ENV:
PERL5LIB=""
PERL5OPT=""
PERL5_CPANPLUS_IS_RUNNING="13891"
PERL5_CPAN_IS_RUNNING="13891"
PERL5_CPAN_IS_RUNNING_IN_RECURSION="7420,13891"
PERL_CR_SMOKER_CURRENT="App-SimulateReads-0.04"
PERL_EXTUTILS_AUTOINSTALL="--defaultdeps"
PERL_MM_USE_DEFAULT="1"
@INC:
/home/stro/perl/5.12.4/lib/site_perl/5.12.4/x86_64-linux
/home/stro/perl/5.12.4/lib/site_perl/5.12.4
/home/stro/perl/5.12.4/lib/5.12.4/x86_64-linux
/home/stro/perl/5.12.4/lib/5.12.4
.