Web-Scraper v0.38 Perl 5 v5.27.6 amd64-freebsd
- Status
- Pass
- From
- Slaven Rezić (SREZIC)
- Dist
-
Web-Scraper v0.38
- Platform
- Perl 5 v5.27.6 amd64-freebsd
- Date
- 2017-12-02 20:05:47
- ID
- 2ff4dd82-d79c-11e7-b4fa-a2caae7de325
This distribution has been tested as part of the CPAN Testers
project, supporting the Perl programming language. See
http://wiki.cpantesters.org/ for more information or email
questions to cpan-testers-discuss@perl.org
--
Dear Tatsuhiko Miyagawa,
This is a computer-generated report for Web-Scraper-0.38
on perl 5.27.6, created by CPAN-Reporter-1.2018.
Thank you for uploading your work to CPAN. Congratulations!
All tests were successful.
Sections of this report:
* Tester comments
* Program output
* Prerequisites
* Environment and other context
------------------------------
TESTER COMMENTS
------------------------------
Additional comments from tester:
none provided
------------------------------
PROGRAM OUTPUT
------------------------------
Output from './Build test':
t/00_compile.t .......... ok
t/01_process.t .......... ok
t/02_process_multi.t .... ok
t/03_scraper_nest.t ..... ok
t/04_callback.t ......... ok
t/05_process_first.t .... ok
t/06_define.t ........... ok
t/07-live.t ............. skipped: LIVE_TEST not enabled
t/08-leak.t ............. skipped: LEAK_TEST is not defined
t/09-process_hash.t ..... ok
t/11_absolute.t ......... ok
t/12_html.t ............. ok
t/13_textnode.t ......... ok
t/14_absolute_nested.t .. ok
t/15_absolute_hash.t .... ok
t/16_filter.t ........... ok
t/17_filter_loop.t ...... ok
t/18_http_response.t .... skipped: LIVE_TEST not enabled
t/19_decode_content.t ... skipped: LIVE_TEST not enabled
t/20_comment_nodes.t .... skipped: Please upgrade HTML::TreeBuilder::XPath and HTML::TreeBuilder::LibXML modules for comment nodes supporting
t/21_html5.t ............ ok
t/22_filter_regex.t ..... ok
t/redefine.t ............ ok
t/release-pod-syntax.t .. skipped: these tests are for release candidate testing
t/xml-simple.t .......... skipped: Test requires module 'HTML::TreeBuilder::LibXML' but it's not found
All tests successful.
Files=25, Tests=42, 3 wallclock secs ( 0.01 usr 0.11 sys + 0.39 cusr 2.07 csys = 2.58 CPU)
Result: PASS
------------------------------
PREREQUISITES
------------------------------
Prerequisite modules loaded:
requires:
Module Need Have
------------------------ -------- --------
HTML::Entities 0 3.69
HTML::Selector::XPath 0.03 0.23
HTML::Tagset 0 3.20
HTML::TreeBuilder 3.23 5.07
HTML::TreeBuilder::XPath 0.08 0.14
LWP 5.827 6.29
perl 5.008001 5.027006
Scalar::Util 0 1.49
UNIVERSAL::require 0 0.18
URI 0 1.72
XML::XPathEngine 0.08 0.14
YAML 0 1.24
build_requires:
Module Need Have
------------------------ -------- --------
ExtUtils::MakeMaker 6.59 7.30
Test::Base 0 0.88
Test::More 0 1.302120
Test::Requires 0 0.10
configure_requires:
Module Need Have
------------------------ -------- --------
Module::Build::Tiny 0.039 0.039
------------------------------
ENVIRONMENT AND OTHER CONTEXT
------------------------------
Environment variables:
LC_ALL = de_DE.ISO8859-1
PATH = /usr/local/bin:/usr/bin:/bin:/usr/local/sbin:/usr/sbin:/sbin:/home/cpansand/bin/freebsd10.3:/home/cpansand/bin/sh:/home/cpansand/bin:/usr/games:/home/cpansand/devel:/home/eserte/src/srezic-misc/scripts
PERL5LIB = /home/cpansand/.cpan/build/2017120218/HTML-Selector-XPath-0.23-0/blib/arch:/home/cpansand/.cpan/build/2017120218/HTML-Selector-XPath-0.23-0/blib/lib:/home/cpansand/.cpan/build/2017120218/Novel-Robot-Browser-0.21-12/blib/arch:/home/cpansand/.cpan/build/2017120218/Novel-Robot-Browser-0.21-12/blib/lib:/home/cpansand/.cpan/build/2017120218/Parallel-Loops-0.08-1/blib/arch:/home/cpansand/.cpan/build/2017120218/Parallel-Loops-0.08-1/blib/lib:/home/cpansand/.cpan/build/2017120218/Encode-Detect-CJK-2.0.2-1/blib/arch:/home/cpansand/.cpan/build/2017120218/Encode-Detect-CJK-2.0.2-1/blib/lib
PERL5OPT =
PERL5_CPANPLUS_IS_RUNNING = 5973
PERL5_CPAN_IS_RUNNING = 5973
PERL5_CPAN_IS_RUNNING_IN_RECURSION = 5934,5973
PERLDOC = -MPod::Perldoc::ToTextOverstrike
PERL_BATCH = yes
PERL_CANARY_STABILITY_NOPROMPT = 1
PERL_CPAN_REPORTER_CONFIG = /var/tmp/cpansmoker-1023/2017120218/cpanreporter_000_config.ini
PERL_EXTUTILS_AUTOINSTALL = --defaultdeps
PERL_USE_UNSAFE_INC = 1
SHELL = /usr/local/bin/zsh
TERM = screen
TMPDIR = /var/tmp/cpansmoker-1023/2017120218
Perl special variables (and OS-specific diagnostics, for MSWin32):
$^X = /usr/perl5.27.6p/bin/perl5.27.6
$UID/$EUID = 1023 / 1023
$GID = 1023 1023
$EGID = 1023 1023
Perl module toolchain versions installed:
Module Have
------------------- --------
CPAN 2.18
CPAN::Meta 2.150010
Cwd 3.70
ExtUtils::CBuilder 0.280230
ExtUtils::Command 7.30
ExtUtils::Install 2.14
ExtUtils::MakeMaker 7.30
ExtUtils::Manifest 1.70
ExtUtils::ParseXS 3.36
File::Spec 3.69
JSON 2.97000
JSON::PP 2.97000
Module::Build 0.4224
Module::Signature 0.81
Parse::CPAN::Meta 2.150010
Test::Harness 3.39
Test::More 1.302120
YAML 1.24
YAML::Syck 1.30
version 0.9918
--
Summary of my perl5 (revision 5 version 27 subversion 6) configuration:
Platform:
osname=freebsd
osvers=10.3-release-p11
archname=amd64-freebsd
uname='freebsd cvrsnica-freebsd-101.herceg.de 10.3-release-p11 freebsd 10.3-release-p11 #0: mon oct 24 18:49:24 utc 2016 root@amd64-builder.daemonology.net:usrobjusrsrcsysgeneric amd64 '
config_args='-ds -e -Dprefix=/usr/perl5.27.6p -Dusedevel -Dusemallocwrap=no -Dcf_email=srezic@cpan.org -Doptimize=-O2 -pipe'
hint=recommended
useposix=true
d_sigaction=define
useithreads=undef
usemultiplicity=undef
use64bitint=define
use64bitall=define
uselongdouble=undef
usemymalloc=n
default_inc_excludes_dot=define
bincompat5005=undef
Compiler:
cc='cc'
ccflags ='-DHAS_FPSETMASK -DHAS_FLOATINGPOINT_H -fno-strict-aliasing -pipe -fstack-protector -I/usr/local/include -D_FORTIFY_SOURCE=2'
optimize='-O2 -pipe'
cppflags='-DHAS_FPSETMASK -DHAS_FLOATINGPOINT_H -fno-strict-aliasing -pipe -fstack-protector -I/usr/local/include'
ccversion=''
gccversion='4.2.1 Compatible FreeBSD Clang 3.4.1 (tags/RELEASE_34/dot1-final 208032)'
gccosandvers=''
intsize=4
longsize=8
ptrsize=8
doublesize=8
byteorder=12345678
doublekind=3
d_longlong=define
longlongsize=8
d_longdbl=define
longdblsize=16
longdblkind=3
ivtype='long'
ivsize=8
nvtype='double'
nvsize=8
Off_t='off_t'
lseeksize=8
alignbytes=8
prototype=define
Linker and Libraries:
ld='cc'
ldflags ='-pthread -Wl,-E -fstack-protector -L/usr/local/lib'
libpth=/usr/lib /usr/local/lib /usr/include/clang/3.4.1 /usr/lib
libs=-lpthread -lgdbm -lm -lcrypt -lutil -lc -lelf
perllibs=-lpthread -lm -lcrypt -lutil -lc -lelf
libc=
so=so
useshrplib=false
libperl=libperl.a
gnulibc_version=''
Dynamic Linking:
dlsrc=dl_dlopen.xs
dlext=so
d_dlsymun=undef
ccdlflags=' '
cccdlflags='-DPIC -fPIC'
lddlflags='-shared -L/usr/local/lib -fstack-protector'
Characteristics of this binary (from libperl):
Compile-time options:
HAS_TIMES
PERLIO_LAYERS
PERL_COPY_ON_WRITE
PERL_DONT_CREATE_GVSV
PERL_OP_PARENT
PERL_PRESERVE_IVUV
PERL_USE_DEVEL
USE_64_BIT_ALL
USE_64_BIT_INT
USE_LARGE_FILES
USE_LOCALE
USE_LOCALE_COLLATE
USE_LOCALE_CTYPE
USE_LOCALE_NUMERIC
USE_LOCALE_TIME
USE_PERLIO
USE_PERL_ATOF
Built under freebsd
Compiled at Nov 24 2017 22:27:08
%ENV:
PERL5LIB="/home/cpansand/.cpan/build/2017120218/HTML-Selector-XPath-0.23-0/blib/arch:/home/cpansand/.cpan/build/2017120218/HTML-Selector-XPath-0.23-0/blib/lib:/home/cpansand/.cpan/build/2017120218/Novel-Robot-Browser-0.21-12/blib/arch:/home/cpansand/.cpan/build/2017120218/Novel-Robot-Browser-0.21-12/blib/lib:/home/cpansand/.cpan/build/2017120218/Parallel-Loops-0.08-1/blib/arch:/home/cpansand/.cpan/build/2017120218/Parallel-Loops-0.08-1/blib/lib:/home/cpansand/.cpan/build/2017120218/Encode-Detect-CJK-2.0.2-1/blib/arch:/home/cpansand/.cpan/build/2017120218/Encode-Detect-CJK-2.0.2-1/blib/lib"
PERL5OPT=""
PERL5_CPANPLUS_IS_RUNNING="5973"
PERL5_CPAN_IS_RUNNING="5973"
PERL5_CPAN_IS_RUNNING_IN_RECURSION="5934,5973"
PERLDOC="-MPod::Perldoc::ToTextOverstrike"
PERL_BATCH="yes"
PERL_CANARY_STABILITY_NOPROMPT="1"
PERL_CPAN_REPORTER_CONFIG="/var/tmp/cpansmoker-1023/2017120218/cpanreporter_000_config.ini"
PERL_EXTUTILS_AUTOINSTALL="--defaultdeps"
PERL_USE_UNSAFE_INC="1"
@INC:
/home/cpansand/.cpan/build/2017120218/HTML-Selector-XPath-0.23-0/blib/arch
/home/cpansand/.cpan/build/2017120218/HTML-Selector-XPath-0.23-0/blib/lib
/home/cpansand/.cpan/build/2017120218/Novel-Robot-Browser-0.21-12/blib/arch
/home/cpansand/.cpan/build/2017120218/Novel-Robot-Browser-0.21-12/blib/lib
/home/cpansand/.cpan/build/2017120218/Parallel-Loops-0.08-1/blib/arch
/home/cpansand/.cpan/build/2017120218/Parallel-Loops-0.08-1/blib/lib
/home/cpansand/.cpan/build/2017120218/Encode-Detect-CJK-2.0.2-1/blib/arch
/home/cpansand/.cpan/build/2017120218/Encode-Detect-CJK-2.0.2-1/blib/lib
/usr/perl5.27.6p/lib/site_perl/5.27.6/amd64-freebsd
/usr/perl5.27.6p/lib/site_perl/5.27.6
/usr/perl5.27.6p/lib/5.27.6/amd64-freebsd
/usr/perl5.27.6p/lib/5.27.6
.