SOAP-Lite v1.27 Perl 5 v5.34.1 x86_64-linux-thread-multi

Status
Pass
From
David Cantrell (DCANTRELL)
Dist
SOAP-Lite v1.27
Platform
Perl 5 v5.34.1 x86_64-linux-thread-multi
Date
2022-03-16 20:46:43
ID
2ff5409c-a56a-11ec-b977-2dc4ac732b62
This distribution has been tested as part of the CPAN Testers
project, supporting the Perl programming language.  See
http://wiki.cpantesters.org/ for more information or email
questions to cpan-testers-discuss@perl.org


--
Dear Fred Moyer,

This is a computer-generated report for SOAP-Lite-1.27
on perl 5.34.1, created by CPAN-Reporter-1.2018.

Thank you for uploading your work to CPAN.  Congratulations!
All tests were successful.

Sections of this report:

    * Tester comments
    * Program output
    * Prerequisites
    * Environment and other context

------------------------------
TESTER COMMENTS
------------------------------

Additional comments from tester:

this report is from an automated smoke testing program
and was not reviewed by a human for accuracy

------------------------------
PROGRAM OUTPUT
------------------------------

Output from '/usr/bin/make test':

PERL_DL_NONLAZY=1 "/home/david/cpantesting/perl-5.34.1/bin/perl" "-MExtUtils::Command::MM" "-MTest::Harness" "-e" "undef *Test::Harness::Switches; test_harness(0, 'blib/lib', 'blib/arch')" t/*.t t/Issues/*.t t/SOAP/*.t t/SOAP/Lite/*.t t/SOAP/Lite/Deserializer/*.t t/SOAP/Schema/*.t t/SOAP/Transport/*.t t/SOAP/Transport/HTTP/*.t
t/01-core.t .................................. ok
t/010-serializer.t ........................... ok
t/012-cloneable.t ............................ ok
t/013-array-deserialization.t ................ ok
t/014_UNIVERSAL_use.t ........................ ok
t/015_UNIVERSAL_can.t ........................ ok
t/02-payload.t ............................... ok
t/03-server.t ................................ ok
t/04-attach-cid-encoded.t .................... skipped: Could not find MIME::Parser - is MIME::Tools installed? Aborting.
t/04-attach.t ................................ skipped: Could not find MIME::Parser - is MIME::Tools installed? Aborting.
t/05-customxml.t ............................. ok
t/06-modules.t ............................... ok
t/08-schema.t ................................ ok
t/11-cgi.t ................................... skipped: 500 Can't connect to localhost:80 (Connection refused)
t/12-cgi_https.t ............................. skipped: 500 Can't connect to localhost:443 (Connection refused)
t/13-mod_perl.t .............................. skipped: 500 Can't connect to localhost:80 (Connection refused)
t/14-cgi_apache.t ............................ skipped: 500 Can't connect to localhost:80 (Connection refused)
t/15-daemon.t ................................ skipped: 500 Can't connect to localhost:80 (Connection refused)
t/17-mod_soap.t .............................. skipped: 500 Can't connect to localhost:80 (Connection refused)
t/19-apachesoap.t ............................ skipped: 500 Can't connect to localhost:8080 (Connection refused)
t/21-public.t ................................ skipped: 500 Can't connect to services.xmethods.net:80 (Name or service not known)
t/22-interop_apache.t ........................ skipped: 500 Can't connect to nagoya.apache.org:5049 (Name or service not known)
t/23-ppm.t ................................... skipped: ActiveState's ppmserver.pl server seems to be broken - skipping tests
t/24-wsdl.t .................................. skipped: 500 Can't connect to services.xmethods.net:80 (Name or service not known)
t/36-leaks.t ................................. skipped: 500 Can't connect to services.soaplite.com:80 (Temporary failure in name resolution)
t/38-packager.t .............................. skipped: MIME::Parser not installed
t/40-loopback.t .............................. ok
t/author-pod-syntax.t ........................ skipped: these tests are for testing by the author
t/Issues/rt107924.t .......................... ok
t/Issues/rt15176.t ........................... ok
t/Issues/rt53375.t ........................... ok
t/Issues/rt70329.t ........................... ok
t/Issues/rt70381.t ........................... skipped: This is a performance test. Set PROFILE_PERFORMANCE env var to a true value to run
t/Issues/rt72836.t ........................... ok
t/Issues/rt74029.t ........................... skipped: not fixed yet
t/Issues/rt74308.t ........................... ok
t/Issues/rt75169.t ........................... ok
t/Issues/rt78588.t ........................... ok
t/Issues/rt88915.t ........................... ok
t/release-kwalitee.t ......................... skipped: these tests are for release candidate testing
t/SOAP/Data.t ................................ ok
t/SOAP/Lite/Deserializer/XMLSchema1999.t ..... ok
t/SOAP/Lite/Deserializer/XMLSchema2001.t ..... ok
t/SOAP/Lite/Deserializer/XMLSchemaSOAP1_1.t .. ok
t/SOAP/Lite/Deserializer/XMLSchemaSOAP1_2.t .. ok
t/SOAP/Lite/Packager.t ....................... ok
t/SOAP/Schema/WSDL.t ......................... ok
t/SOAP/Serializer.t .......................... ok
t/SOAP/Transport/HTTP.t ...................... ok
t/SOAP/Transport/HTTP/CGI.t .................. ok
t/SOAP/Transport/IO.t ........................ ok
t/SOAP/Transport/LOCAL.t ..................... ok
t/SOAP/Transport/LOOPBACK.t .................. ok
t/SOAP/Transport/MAILTO.t .................... skipped: Cannot test without Test::MockObject
t/SOAP/Transport/POP3.t ...................... ok
t/SOAP/Transport/TCP.t ....................... ok
All tests successful.
Files=56, Tests=842, 44 wallclock secs ( 0.32 usr  0.12 sys +  8.66 cusr  1.21 csys = 10.31 CPU)
Result: PASS

------------------------------
PREREQUISITES
------------------------------

Prerequisite modules loaded:

requires:

    Module               Need     Have    
    -------------------- -------- --------
    Class::Inspector     0        1.36    
    Compress::Zlib       0        2.102   
    constant             0        1.33    
    IO::SessionData      1.03     1.03    
    IO::Socket::SSL      0        2.074   
    LWP::Protocol::https 0        6.10    
    LWP::UserAgent       0        6.61    
    MIME::Base64         0        3.16    
    perl                 5.006000 5.034001
    Scalar::Util         0        1.55    
    Task::Weaken         0        1.06    
    URI                  0        5.10    
    XML::Parser          2.23     2.46    

build_requires:

    Module               Need     Have    
    -------------------- -------- --------
    ExtUtils::MakeMaker  0        7.62    
    IO::File             0        1.46    
    Test::More           0        1.302183
    Test::Warn           0        0.36    
    XML::Parser::Lite    0.715    0.722   

configure_requires:

    Module               Need     Have    
    -------------------- -------- --------
    ExtUtils::MakeMaker  0        7.62    


------------------------------
ENVIRONMENT AND OTHER CONTEXT
------------------------------

Environment variables:

    AUTOMATED_TESTING = 1
    LANG = en_GB.UTF-8
    LANGUAGE = en_GB:en
    LC_TERMINAL = iTerm2
    LC_TERMINAL_VERSION = 3.4.14
    NONINTERACTIVE_TESTING = 1
    PATH = /home/david/perl5/perlbrew/bin:/home/david/perl5/perlbrew/perls/perl-5.30.2/bin:/home/david/bin:/usr/local/bin:/usr/bin:/bin:/usr/local/games:/usr/games
    PERL = 5.34.1
    PERL5LIB = 
    PERL5OPT = 
    PERL5_CPANPLUS_IS_RUNNING = 1893873
    PERL5_CPAN_IS_RUNNING = 1893873
    PERLBREW_HOME = /home/david/.perlbrew
    PERLBREW_MANPATH = /home/david/perl5/perlbrew/perls/perl-5.30.2/man
    PERLBREW_PATH = /home/david/perl5/perlbrew/bin:/home/david/perl5/perlbrew/perls/perl-5.30.2/bin
    PERLBREW_PERL = perl-5.30.2
    PERLBREW_ROOT = /home/david/perl5/perlbrew
    PERLBREW_SHELLRC_VERSION = 0.89
    PERLBREW_VERSION = 0.89
    PERLVER = 5.34.1
    PERL_INLINE_DIRECTORY = /home/david/.Inline-5.34.1
    PERL_MM_USE_DEFAULT = 1
    PERL_USE_UNSAFE_INC = 0
    SHELL = /bin/bash
    TERM = screen

Perl special variables (and OS-specific diagnostics, for MSWin32):

    $^X = /home/david/cpantesting/perl-5.34.1/bin/perl
    $UID/$EUID = 1000 / 1000
    $GID = 1000 24 25 27 29 30 44 46 109 1000
    $EGID = 1000 24 25 27 29 30 44 46 109 1000

Perl module toolchain versions installed:

    Module              Have    
    ------------------- --------
    CPAN                2.28    
    CPAN::Meta          2.150010
    Cwd                 3.80    
    ExtUtils::CBuilder  0.280236
    ExtUtils::Command   7.62    
    ExtUtils::Install   2.20    
    ExtUtils::MakeMaker 7.62    
    ExtUtils::Manifest  1.73    
    ExtUtils::ParseXS   3.43    
    File::Spec          3.80    
    JSON                4.05    
    JSON::PP            4.06    
    Module::Build       0.4231  
    Module::Signature   n/a     
    Parse::CPAN::Meta   2.150010
    Test::Harness       3.43    
    Test::More          1.302183
    YAML                1.30    
    YAML::Syck          n/a     
    version             0.9928  


--

Summary of my perl5 (revision 5 version 34 subversion 1) configuration:
   
  Platform:
    osname=linux
    osvers=5.10.0-11-amd64
    archname=x86_64-linux-thread-multi
    uname='linux cpantesting-linux-utm 5.10.0-11-amd64 #1 smp debian 5.10.92-1 (2022-01-18) x86_64 gnulinux '
    config_args='-de -Dprefix=/home/david/cpantesting/perl-5.34.1 -Dusethreads'
    hint=recommended
    useposix=true
    d_sigaction=define
    useithreads=define
    usemultiplicity=define
    use64bitint=define
    use64bitall=define
    uselongdouble=undef
    usemymalloc=n
    default_inc_excludes_dot=define
  Compiler:
    cc='cc'
    ccflags ='-D_REENTRANT -D_GNU_SOURCE -fwrapv -fno-strict-aliasing -pipe -fstack-protector-strong -I/usr/local/include -D_LARGEFILE_SOURCE -D_FILE_OFFSET_BITS=64 -D_FORTIFY_SOURCE=2'
    optimize='-O2'
    cppflags='-D_REENTRANT -D_GNU_SOURCE -fwrapv -fno-strict-aliasing -pipe -fstack-protector-strong -I/usr/local/include'
    ccversion=''
    gccversion='10.2.1 20210110'
    gccosandvers=''
    intsize=4
    longsize=8
    ptrsize=8
    doublesize=8
    byteorder=12345678
    doublekind=3
    d_longlong=define
    longlongsize=8
    d_longdbl=define
    longdblsize=16
    longdblkind=3
    ivtype='long'
    ivsize=8
    nvtype='double'
    nvsize=8
    Off_t='off_t'
    lseeksize=8
    alignbytes=8
    prototype=define
  Linker and Libraries:
    ld='cc'
    ldflags =' -fstack-protector-strong -L/usr/local/lib'
    libpth=/usr/local/lib /usr/lib/x86_64-linux-gnu /usr/lib /usr/lib64
    libs=-lpthread -lnsl -ldl -lm -lcrypt -lutil -lc
    perllibs=-lpthread -lnsl -ldl -lm -lcrypt -lutil -lc
    libc=libc-2.31.so
    so=so
    useshrplib=false
    libperl=libperl.a
    gnulibc_version='2.31'
  Dynamic Linking:
    dlsrc=dl_dlopen.xs
    dlext=so
    d_dlsymun=undef
    ccdlflags='-Wl,-E'
    cccdlflags='-fPIC'
    lddlflags='-shared -O2 -L/usr/local/lib -fstack-protector-strong'


Characteristics of this binary (from libperl): 
  Compile-time options:
    HAS_TIMES
    MULTIPLICITY
    PERLIO_LAYERS
    PERL_COPY_ON_WRITE
    PERL_DONT_CREATE_GVSV
    PERL_IMPLICIT_CONTEXT
    PERL_MALLOC_WRAP
    PERL_OP_PARENT
    PERL_PRESERVE_IVUV
    USE_64_BIT_ALL
    USE_64_BIT_INT
    USE_ITHREADS
    USE_LARGE_FILES
    USE_LOCALE
    USE_LOCALE_COLLATE
    USE_LOCALE_CTYPE
    USE_LOCALE_NUMERIC
    USE_LOCALE_TIME
    USE_PERLIO
    USE_PERL_ATOF
    USE_REENTRANT_API
    USE_THREAD_SAFE_LOCALE
  Built under linux
  Compiled at Mar 15 2022 19:49:31
  %ENV:
    PERL="5.34.1"
    PERL5LIB=""
    PERL5OPT=""
    PERL5_CPANPLUS_IS_RUNNING="1893873"
    PERL5_CPAN_IS_RUNNING="1893873"
    PERLBREW_HOME="/home/david/.perlbrew"
    PERLBREW_MANPATH="/home/david/perl5/perlbrew/perls/perl-5.30.2/man"
    PERLBREW_PATH="/home/david/perl5/perlbrew/bin:/home/david/perl5/perlbrew/perls/perl-5.30.2/bin"
    PERLBREW_PERL="perl-5.30.2"
    PERLBREW_ROOT="/home/david/perl5/perlbrew"
    PERLBREW_SHELLRC_VERSION="0.89"
    PERLBREW_VERSION="0.89"
    PERLVER="5.34.1"
    PERL_INLINE_DIRECTORY="/home/david/.Inline-5.34.1"
    PERL_MM_USE_DEFAULT="1"
    PERL_USE_UNSAFE_INC="0"
  @INC:
    /home/david/cpantesting/perl-5.34.1/lib/site_perl/5.34.1/x86_64-linux-thread-multi
    /home/david/cpantesting/perl-5.34.1/lib/site_perl/5.34.1
    /home/david/cpantesting/perl-5.34.1/lib/5.34.1/x86_64-linux-thread-multi
    /home/david/cpantesting/perl-5.34.1/lib/5.34.1