Test-Without-Module v0.23 Perl 5 v5.38.2 OpenBSD.amd64-openbsd

Status
Pass
From
David Cantrell (DCANTRELL)
Dist
Test-Without-Module v0.23
Platform
Perl 5 v5.38.2 OpenBSD.amd64-openbsd
Date
2025-09-07 20:28:17
ID
3006728c-8c29-11f0-8367-d1b3fe69598a
This distribution has been tested as part of the CPAN Testers
project, supporting the Perl programming language.  See
http://wiki.cpantesters.org/ for more information or email
questions to cpan-testers-discuss@perl.org


--
Dear Max Maischein,

This is a computer-generated report for Test-Without-Module-0.23
on perl 5.38.2, created by CPAN-Reporter-1.2020.

Thank you for uploading your work to CPAN.  Congratulations!
All tests were successful.

Sections of this report:

    * Tester comments
    * Program output
    * Prerequisites
    * Environment and other context

------------------------------
TESTER COMMENTS
------------------------------

Additional comments from tester:

none provided

------------------------------
PROGRAM OUTPUT
------------------------------

Output from '/usr/bin/make test':

PERL_DL_NONLAZY=1 "/home/david/cpantesting/perl-5.38.2/bin/perl" "-MExtUtils::Command::MM" "-MTest::Harness" "-e" "undef *Test::Harness::Switches; test_harness(0, 'blib/lib', 'blib/arch')" t/00-load.t t/01-api.t t/02-block-use-module.t t/03-block-require-module.t t/04-import-export.t t/05-redefine.t t/06-missing-hidden-modules.t t/embedded-Test-Without-Module.t t/rt122551.t
# Testing Test::Without::Module 0.23, Perl 5.038002
# Carp 1.50
# Config 5.038002
# Cwd 3.89
# Encode 3.21
# Encode::Alias 2.25
# Encode::Config 2.05
# Encode::Encoding 2.08
# Encode::MIME::Name 1.03
# Exporter 5.78
# Exporter::Heavy 5.78
# ExtUtils::Liblist 7.76
# ExtUtils::Liblist::Kid 7.76
# ExtUtils::MM 7.76
# ExtUtils::MM_Any 7.76
# ExtUtils::MM_Unix 7.76
# ExtUtils::MY 7.76
# ExtUtils::MakeMaker 7.76
# ExtUtils::MakeMaker::Config 7.76
# ExtUtils::MakeMaker::Locale 7.76
# ExtUtils::MakeMaker::version 7.76
# Fcntl 1.15
# File::Basename 2.86
# File::Glob 1.40
# File::Path 2.18
# File::Spec 3.88
# File::Spec::Unix 3.88
# I18N::Langinfo 0.22
# List::Util 1.70
# Scalar::Util 1.70
# Storable 3.32
# Test::Builder 1.302214
# Test::Builder::Formatter 1.302214
# Test::Builder::Module 1.302214
# Test::Builder::TodoDiag 1.302214
# Test::More 1.302214
# Test::Without::Module 0.23
# Test2::API 1.302214
# Test2::API::Context 1.302214
# Test2::API::Instance 1.302214
# Test2::API::Stack 1.302214
# Test2::Event 1.302214
# Test2::Event::Bail 1.302214
# Test2::Event::Diag 1.302214
# Test2::Event::Exception 1.302214
# Test2::Event::Fail 1.302214
# Test2::Event::Note 1.302214
# Test2::Event::Ok 1.302214
# Test2::Event::Pass 1.302214
# Test2::Event::Plan 1.302214
# Test2::Event::Skip 1.302214
# Test2::Event::Subtest 1.302214
# Test2::Event::V2 1.302214
# Test2::Event::Waiting 1.302214
# Test2::EventFacet 1.302214
# Test2::EventFacet::About 1.302214
# Test2::EventFacet::Amnesty 1.302214
# Test2::EventFacet::Assert 1.302214
# Test2::EventFacet::Control 1.302214
# Test2::EventFacet::Error 1.302214
# Test2::EventFacet::Hub 1.302214
# Test2::EventFacet::Info 1.302214
# Test2::EventFacet::Meta 1.302214
# Test2::EventFacet::Parent 1.302214
# Test2::EventFacet::Plan 1.302214
# Test2::EventFacet::Trace 1.302214
# Test2::Formatter 1.302214
# Test2::Formatter::TAP 1.302214
# Test2::Hub 1.302214
# Test2::Hub::Interceptor 1.302214
# Test2::Hub::Interceptor::Terminator 1.302214
# Test2::Hub::Subtest 1.302214
# Test2::Util 1.302214
# Test2::Util::ExternalMeta 1.302214
# Test2::Util::Facets2Legacy 1.302214
# Test2::Util::HashBase 1.302214
# Test2::Util::Trace 1.302214
# Time::HiRes 1.9775
# XSLoader 0.24
# base 2.23
# bytes 1.08
# constant 1.33
# mro 1.28
# overloading 0.02
# parent 0.244
# strict 1.12
# vars 1.05
# version 0.9933
# version::regex 0.9933
# version::vxs 0.9933
# warnings 1.65
# warnings::register 1.05
t/00-load.t ....................... ok
t/01-api.t ........................ ok
t/02-block-use-module.t ........... ok
t/03-block-require-module.t ....... ok
t/04-import-export.t .............. ok
t/05-redefine.t ................... ok
t/06-missing-hidden-modules.t ..... ok
t/embedded-Test-Without-Module.t .. ok
t/rt122551.t ...................... ok
All tests successful.

Test Summary Report
-------------------
t/rt122551.t                    (Wstat: 0 Tests: 2 Failed: 0)
  TODO passed:   2
Files=9, Tests=24,  1 wallclock secs ( 0.06 usr  0.02 sys +  0.74 cusr  0.14 csys =  0.96 CPU)
Result: PASS

------------------------------
PREREQUISITES
------------------------------

Prerequisite modules loaded:

requires:

    Module              Need  Have    
    ------------------- ----- --------
    Carp                0     1.50    
    perl                5.006 5.038002

build_requires:

    Module              Need  Have    
    ------------------- ----- --------
    ExtUtils::MakeMaker 0     7.76    
    File::Find          0     1.43    
    File::Spec          0     3.88    
    Test::More          0     1.302214

configure_requires:

    Module              Need  Have    
    ------------------- ----- --------
    ExtUtils::MakeMaker 0     7.76    


------------------------------
ENVIRONMENT AND OTHER CONTEXT
------------------------------

Environment variables:

    PATH = /home/david/perl5/perlbrew/bin:/home/david/perl5/perlbrew/perls/perl-5.32.0/bin:/home/david/bin:/bin:/sbin:/usr/bin:/usr/sbin:/usr/X11R6/bin:/usr/local/bin:/usr/local/sbin:/usr/games:/home/david/.fzf/bin
    PERL5LIB = 
    PERL5OPT = 
    PERL5_CPANPLUS_IS_RUNNING = 14894
    PERL5_CPAN_IS_RUNNING = 14894
    PERLBREW_HOME = /home/david/.perlbrew
    PERLBREW_MANPATH = /home/david/perl5/perlbrew/perls/perl-5.32.0/man
    PERLBREW_PATH = /home/david/perl5/perlbrew/bin:/home/david/perl5/perlbrew/perls/perl-5.32.0/bin
    PERLBREW_PERL = perl-5.32.0
    PERLBREW_ROOT = /home/david/perl5/perlbrew
    PERLBREW_SHELLRC_VERSION = 1.00
    PERLBREW_VERSION = 1.00
    PERL_MM_USE_DEFAULT = 1
    PERL_USE_UNSAFE_INC = 1
    SHELL = /usr/local/bin/bash
    TERM = xterm-256color

Perl special variables (and OS-specific diagnostics, for MSWin32):

    $^X = /home/david/cpantesting/perl-5.38.2/bin/perl
    $UID/$EUID = 1000 / 1000
    $GID = 1000 1000 0
    $EGID = 1000 1000 0

Perl module toolchain versions installed:

    Module              Have    
    ------------------- --------
    CPAN                2.38    
    CPAN::Meta          2.150010
    Cwd                 3.89    
    ExtUtils::CBuilder  0.280236
    ExtUtils::Command   7.76    
    ExtUtils::Install   2.22    
    ExtUtils::MakeMaker 7.76    
    ExtUtils::Manifest  1.75    
    ExtUtils::ParseXS   3.59    
    File::Spec          3.88    
    JSON                4.10    
    JSON::PP            4.16    
    Module::Build       0.4234  
    Module::Signature   n/a     
    Parse::CPAN::Meta   2.150010
    Test2               1.302214
    Test::Harness       3.52    
    Test::More          1.302214
    YAML                1.31    
    YAML::Syck          n/a     
    version             0.9933  


--

Summary of my perl5 (revision 5 version 38 subversion 2) configuration:
   
  Platform:
    osname=openbsd
    osvers=7.7
    archname=OpenBSD.amd64-openbsd
    uname='openbsd cpantesting-openbsd 7.7 generic#619 amd64 '
    config_args='-de -Dprefix=/home/david/cpantesting/perl-5.38.2'
    hint=recommended
    useposix=true
    d_sigaction=define
    useithreads=undef
    usemultiplicity=undef
    use64bitint=define
    use64bitall=define
    uselongdouble=undef
    usemymalloc=n
    default_inc_excludes_dot=define
  Compiler:
    cc='cc'
    ccflags ='-fno-strict-aliasing -pipe -fstack-protector-strong -I/usr/local/include'
    optimize='-O2'
    cppflags='-fno-strict-aliasing -pipe -fstack-protector-strong -I/usr/local/include'
    ccversion=''
    gccversion='OpenBSD Clang 16.0.6'
    gccosandvers=''
    intsize=4
    longsize=8
    ptrsize=8
    doublesize=8
    byteorder=12345678
    doublekind=3
    d_longlong=define
    longlongsize=8
    d_longdbl=define
    longdblsize=16
    longdblkind=3
    ivtype='long'
    ivsize=8
    nvtype='double'
    nvsize=8
    Off_t='off_t'
    lseeksize=8
    alignbytes=8
    prototype=define
  Linker and Libraries:
    ld='cc'
    ldflags ='-Wl,-E  -fstack-protector-strong -L/usr/local/lib'
    libpth=/usr/lib/clang/16/lib /usr/lib /usr/local/lib
    libs=-lpthread -lm -lutil -lc
    perllibs=-lpthread -lm -lutil -lc
    libc=/usr/lib/libc.so.100.3
    so=so
    useshrplib=false
    libperl=libperl.a
    gnulibc_version=''
  Dynamic Linking:
    dlsrc=dl_dlopen.xs
    dlext=so
    d_dlsymun=undef
    ccdlflags=' '
    cccdlflags='-DPIC -fPIC '
    lddlflags='-shared -fPIC  -L/usr/local/lib -fstack-protector-strong'


Characteristics of this binary (from libperl): 
  Compile-time options:
    HAS_LONG_DOUBLE
    HAS_STRTOLD
    HAS_TIMES
    PERLIO_LAYERS
    PERL_COPY_ON_WRITE
    PERL_DONT_CREATE_GVSV
    PERL_HASH_FUNC_SIPHASH13
    PERL_HASH_USE_SBOX32
    PERL_MALLOC_WRAP
    PERL_OP_PARENT
    PERL_PRESERVE_IVUV
    PERL_USE_SAFE_PUTENV
    USE_64_BIT_ALL
    USE_64_BIT_INT
    USE_LARGE_FILES
    USE_LOCALE
    USE_LOCALE_COLLATE
    USE_LOCALE_CTYPE
    USE_LOCALE_NUMERIC
    USE_LOCALE_TIME
    USE_PERLIO
    USE_PERL_ATOF
  Built under openbsd
  Compiled at Sep  6 2025 21:25:05
  %ENV:
    PERL5LIB=""
    PERL5OPT=""
    PERL5_CPANPLUS_IS_RUNNING="14894"
    PERL5_CPAN_IS_RUNNING="14894"
    PERLBREW_HOME="/home/david/.perlbrew"
    PERLBREW_MANPATH="/home/david/perl5/perlbrew/perls/perl-5.32.0/man"
    PERLBREW_PATH="/home/david/perl5/perlbrew/bin:/home/david/perl5/perlbrew/perls/perl-5.32.0/bin"
    PERLBREW_PERL="perl-5.32.0"
    PERLBREW_ROOT="/home/david/perl5/perlbrew"
    PERLBREW_SHELLRC_VERSION="1.00"
    PERLBREW_VERSION="1.00"
    PERL_MM_USE_DEFAULT="1"
    PERL_USE_UNSAFE_INC="1"
  @INC:
    /home/david/cpantesting/perl-5.38.2/lib/site_perl/5.38.2/OpenBSD.amd64-openbsd
    /home/david/cpantesting/perl-5.38.2/lib/site_perl/5.38.2
    /home/david/cpantesting/perl-5.38.2/lib/5.38.2/OpenBSD.amd64-openbsd
    /home/david/cpantesting/perl-5.38.2/lib/5.38.2
    .