CPAN-SQLite v0.215 Perl 5 v5.28.1 armv7l-linux
- Status
- Pass
- From
- Nigel Horne
- Dist
-
CPAN-SQLite v0.215
- Platform
- Perl 5 v5.28.1 armv7l-linux
- Date
- 2019-01-24 00:22:52
- ID
- 302fc0bc-1f6e-11e9-b3bd-8a932d9bfb17
This distribution has been tested as part of the CPAN Testers
project, supporting the Perl programming language. See
http://wiki.cpantesters.org/ for more information or email
questions to cpan-testers-discuss@perl.org
--
Dear Serguei Trouchelle,
This is a computer-generated report for CPAN-SQLite-0.215
on perl 5.28.1, created by CPAN-Reporter-1.2018.
Thank you for uploading your work to CPAN. Congratulations!
All tests were successful.
Sections of this report:
* Tester comments
* Program output
* Prerequisites
* Environment and other context
------------------------------
TESTER COMMENTS
------------------------------
Additional comments from tester:
this report is from an automated smoke testing program
and was not reviewed by a human for accuracy
------------------------------
PROGRAM OUTPUT
------------------------------
Output from '/usr/bin/make test':
PERL_DL_NONLAZY=1 "/mnt/nas/home/pi2/njh/perl5/perlbrew/perls/perl-5.28.1/bin/perl5.28.1" "-MExtUtils::Command::MM" "-MTest::Harness" "-e" "undef *Test::Harness::Switches; test_harness(0, 'blib/lib', 'blib/arch')" t/*.t
# Listing %INC
# B 1.74
# CPAN 2.20
# CPAN::Author 5.5002
# CPAN::Bundle 5.5003
# CPAN::CacheMgr 5.5002
# CPAN::Complete 5.5001
# CPAN::Debug 5.5001
# CPAN::DeferredCode 5.50
# CPAN::DistnameInfo 0.12
# CPAN::Distribution 2.19
# CPAN::Distroprefs 6.0001
# CPAN::Distrostatus 5.5
# CPAN::Exception::RecursiveDependency 5.5001
# CPAN::Exception::yaml_not_installed 5.5
# CPAN::Exception::yaml_process_error 5.5
# CPAN::FTP 5.5011
# CPAN::FTP::netrc 1.01
# CPAN::HTTP::Credentials 1.9601
# CPAN::HandleConfig 5.5008
# CPAN::Index 2.12
# CPAN::InfoObj 5.5
# CPAN::LWP::UserAgent 1.9601
# CPAN::Module 5.5003
# CPAN::Prompt 5.5
# CPAN::Queue 5.5002
# CPAN::Shell 5.5007
# CPAN::Tarzip 5.5012
# CPAN::URL 5.5
# CPAN::Version 5.5003
# Carp 1.50
# Carp::Heavy 1.50
# Compress::Raw::Zlib 2.076
# Compress::Zlib 2.074
# Config 5.028001
# Cwd 3.74
# DBI 1.642
# DirHandle 1.05
# DynaLoader 1.45
# Encode 2.97
# Encode::Alias 2.24
# Encode::Config 2.05
# Encode::Encoding 2.08
# Encode::MIME::Name 1.03
# English 1.10
# Errno 1.29
# Exporter 5.73
# Exporter::Heavy 5.73
# ExtUtils::Liblist 7.34
# ExtUtils::Liblist::Kid 7.34
# ExtUtils::MM 7.34
# ExtUtils::MM_Any 7.34
# ExtUtils::MM_Unix 7.34
# ExtUtils::MY 7.34
# ExtUtils::MakeMaker 7.34
# ExtUtils::MakeMaker::Config 7.34
# ExtUtils::MakeMaker::Locale 7.34
# ExtUtils::MakeMaker::version 7.34
# Fcntl 1.13
# File::Basename 2.85
# File::Copy 2.33
# File::Find 1.34
# File::Glob 1.31
# File::GlobMapper 1.000
# File::HomeDir 1.004
# File::HomeDir::Driver 1.004
# File::HomeDir::FreeDesktop 1.004
# File::HomeDir::Unix 1.004
# File::Path 2.15
# File::Spec 3.74
# File::Spec::Functions 3.74
# File::Spec::Unix 3.74
# File::Which 1.22
# FileHandle 2.03
# Getopt::Long 2.5
# HTTP::Tiny 0.070
# I18N::Langinfo 0.17
# IO 1.39
# IO::Compress::Adapter::Deflate 2.074
# IO::Compress::Base 2.074
# IO::Compress::Base::Common 2.074
# IO::Compress::Gzip 2.074
# IO::Compress::Gzip::Constants 2.074
# IO::Compress::RawDeflate 2.074
# IO::Compress::Zlib::Extra 2.074
# IO::File 1.39
# IO::Handle 1.39
# IO::Seekable 1.39
# IO::Socket 1.39
# IO::Socket::INET 1.39
# IO::Socket::IP 0.39
# IO::Socket::UNIX 1.39
# IO::Uncompress::Adapter::Inflate 2.074
# IO::Uncompress::Base 2.074
# IO::Uncompress::Gunzip 2.074
# IO::Uncompress::RawInflate 2.074
# List::Util 1.5
# Opcode 1.43
# POSIX 1.84
# Safe 2.40
# Scalar::Util 1.5
# SelectSaver 1.02
# Socket 2.027
# Storable 3.08
# Storable::Limit undef
# Symbol 1.08
# Sys::Hostname 1.22
# Text::ParseWords 3.30
# Text::Tabs 2013.0523
# Text::Wrap 2013.0523
# Tie::Hash 1.05
# Tie::Hash::NamedCapture 0.10
# Time::HiRes 1.9759
# XSLoader 0.30
# base 2.27
# bytes 1.06
# constant 1.33
# lib 0.64
# overload 1.30
# overloading 0.02
# parent 0.236
# re 0.36
# strict 1.11
# subs 1.03
# utf8 1.21
# vars 1.04
# version 0.9923
# version::regex 0.9923
# warnings 1.42
# warnings::register 1.04
t/00-all_prereqs.t ............... ok
t/00-compile.t ................... ok
#
# Versions for all modules listed in MYMETA.json (including optional ones):
#
# === Configure Requires ===
#
# Module Want Have
# ------------------- ---- ----
# ExtUtils::MakeMaker any 7.34
#
# === Build Requires ===
#
# Module Want Have
# ------------------- ---- ----
# ExtUtils::MakeMaker any 7.34
#
# === Test Requires ===
#
# Module Want Have
# ------------------- ---- --------
# CPAN::HandleConfig any 5.5008
# CPAN::Version any 5.5003
# Carp any 1.50
# DBD::SQLite any 1.62
# ExtUtils::MakeMaker any 7.34
# File::Copy any 2.33
# File::Spec any 3.74
# FindBin any 1.51
# IO::Handle any 1.39
# IPC::Open3 any 1.20
# Test::Memory::Cycle any 1.06
# Test::More 0.94 1.302133
# base any 2.27
# lib any 0.64
#
# === Test Recommends ===
#
# Module Want Have
# ---------- -------- --------
# CPAN::Meta 2.120900 2.150010
#
# === Runtime Requires ===
#
# Module Want Have
# --------------------- ---- -----
# Archive::Tar 1.54 2.30
# CPAN any 2.20
# CPAN::DistnameInfo 0.09 0.12
# CPAN::Index 1.93 2.12
# Compress::Zlib any 2.074
# Cwd any 3.74
# DBD::SQLite 1.27 1.62
# DBI any 1.642
# English any 1.10
# Exporter any 5.73
# File::Basename any 2.85
# File::Find any 1.34
# File::HomeDir any 1.004
# File::Path any 2.15
# File::Spec any 3.74
# File::Spec::Functions any 3.74
# Getopt::Long any 2.5
# HTTP::Tiny any 0.070
# IO::Zlib any 1.10
# Safe any 2.40
# Scalar::Util any 1.50
# Test::Harness 3.31 3.42
# constant any 1.33
# parent any 0.236
# strict any 1.11
# utf8 any 1.21
# warnings any 1.42
#
t/00-report-prereqs.t ............ ok
# Testing with Perl 5.028001, /mnt/nas/home/pi2/njh/perl5/perlbrew/perls/perl-5.28.1/bin/perl5.28.1
# CPAN version is 2.20
# CPAN::DistnameInfo version is 0.12
# CPAN::HandleConfig version is 5.5008
# CPAN::Version version is 5.5003
# Carp version is 1.50
# Compress::Zlib version is 2.074
# Cwd version is 3.74
# DBD::SQLite version is 1.62
# DBI version is 1.642
# English version is 1.10
# Exporter version is 5.73
# ExtUtils::MakeMaker version is 7.34
# File::Basename version is 2.85
# File::Copy version is 2.33
# File::Find version is 1.34
# File::HomeDir version is 1.004
# File::Path version is 2.15
# File::Spec version is 3.74
# File::Spec::Functions version is 3.74
# FindBin version is 1.51
# Getopt::Long version is 2.5
# HTTP::Tiny version is 0.070
# IO::Handle version is 1.39
# IPC::Open3 version is 1.20
# Safe version is 2.40
# Scalar::Util version is 1.5
# Test::Memory::Cycle version is 1.06
# Test::More version is 1.302133
# base version is 2.27
# constant version is 1.33
# lib version is 0.64
# parent version is 0.236
# strict version is 1.11
# utf8 version is 1.21
# warnings version is 1.42
t/000-report-versions.t .......... ok
t/01basic.t ...................... ok
t/02drop.t ....................... ok
t/03info.t ....................... ok
t/04search.t ..................... ok
t/04search_everything.t .......... ok
t/05meta_new.t ................... ok
t/05meta_update.t ................ ok
t/06retrieve.t ................... ok
t/07download.t ................... ok
t/08circular_references.t ........ ok
t/author-critic.t ................ skipped: these tests are for testing by the author
t/author-eol.t ................... skipped: these tests are for testing by the author
t/author-minimum-version.t ....... skipped: these tests are for testing by the author
t/author-no-tabs.t ............... skipped: these tests are for testing by the author
t/author-pod-syntax.t ............ skipped: these tests are for testing by the author
t/release-changes_has_content.t .. skipped: these tests are for release candidate testing
t/release-distmeta.t ............. skipped: these tests are for release candidate testing
t/release-fixme.t ................ skipped: these tests are for release candidate testing
t/release-has-version.t .......... skipped: these tests are for release candidate testing
t/release-kwalitee.t ............. skipped: these tests are for release candidate testing
t/release-meta-json.t ............ skipped: these tests are for release candidate testing
t/release-pause-permissions.t .... skipped: these tests are for release candidate testing
All tests successful.
Files=26, Tests=11316, 87 wallclock secs (10.36 usr 0.67 sys + 62.37 cusr 7.70 csys = 81.10 CPU)
Result: PASS
------------------------------
PREREQUISITES
------------------------------
Prerequisite modules loaded:
requires:
Module Need Have
------------------- ---- -----
Archive::Tar 1.54 2.30
Compress::Zlib 0 2.074
CPAN::DistnameInfo 0.09 0.12
CPAN::Index 1.93 2.12
DBD::SQLite 1.27 1.62
File::HomeDir 0 1.004
File::Spec 0 3.74
HTTP::Tiny 0 0.070
IO::Zlib 0 1.10
parent 0 0.236
Test::Harness 3.31 3.42
build_requires:
Module Need Have
------------------- ---- -----
ExtUtils::MakeMaker 0 7.34
Test::Memory::Cycle 0 1.06
configure_requires:
Module Need Have
------------------- ---- -----
ExtUtils::MakeMaker 0 7.34
------------------------------
ENVIRONMENT AND OTHER CONTEXT
------------------------------
Environment variables:
AUTOMATED_TESTING = 1
HARNESS_OPTIONS = j4
LANG = en_GB.UTF-8
PATH = /home/njh/perl5/perlbrew/bin:/home/njh/perl5/perlbrew/perls/perl-5.28.1/bin:/home/njh/src/njh/smoker/bin:/usr/bin:/bin
PERL5LIB = /home/njh/.cpan/build/Test-Memory-Cycle-1.06-3/blib/arch:/home/njh/.cpan/build/Test-Memory-Cycle-1.06-3/blib/lib:/home/njh/.cpan/build/PadWalker-2.3-3/blib/arch:/home/njh/.cpan/build/PadWalker-2.3-3/blib/lib:/home/njh/.cpan/build/Devel-Cycle-1.12-3/blib/arch:/home/njh/.cpan/build/Devel-Cycle-1.12-3/blib/lib
PERL5OPT =
PERL5_CPANPLUS_IS_RUNNING = 23792
PERL5_CPAN_IS_RUNNING = 23792
PERLBREW_HOME = /home/njh/.perlbrew
PERLBREW_MANPATH = /home/njh/perl5/perlbrew/perls/perl-5.28.1/man
PERLBREW_PATH = /home/njh/perl5/perlbrew/bin:/home/njh/perl5/perlbrew/perls/perl-5.28.1/bin
PERLBREW_PERL = perl-5.28.1
PERLBREW_ROOT = /home/njh/perl5/perlbrew
PERLBREW_SHELLRC_VERSION = 0.84
PERLBREW_VERSION = 0.84
PERL_USE_UNSAFE_INC = 1
SHELL = /bin/sh
TEMP = /tmp/user/1000
TMPDIR = /tmp/user/1000/testwrapper.23778
Perl special variables (and OS-specific diagnostics, for MSWin32):
$^X = /mnt/nas/home/pi2/njh/perl5/perlbrew/perls/perl-5.28.1/bin/perl5.28.1
$UID/$EUID = 1000 / 1000
$GID = 1000 4 20 24 25 27 29 30 44 46 60 100 101 108 997 998 999 1000
$EGID = 1000 4 20 24 25 27 29 30 44 46 60 100 101 108 997 998 999 1000
Perl module toolchain versions installed:
Module Have
------------------- --------
CPAN 2.20
CPAN::Meta 2.150010
Cwd 3.74
ExtUtils::CBuilder 0.280230
ExtUtils::Command 7.34
ExtUtils::Install 2.14
ExtUtils::MakeMaker 7.34
ExtUtils::Manifest 1.70
ExtUtils::ParseXS 3.39
File::Spec 3.74
JSON n/a
JSON::PP 2.97001
Module::Build 0.4224
Module::Signature n/a
Parse::CPAN::Meta 2.150010
Test::Harness 3.42
Test::More 1.302133
YAML 1.27
YAML::Syck n/a
version 0.9923
--
Summary of my perl5 (revision 5 version 28 subversion 1) configuration:
Platform:
osname=linux
osvers=4.14.34-v7+
archname=armv7l-linux
uname='linux pi2 4.14.34-v7+ #1110 smp mon apr 16 15:18:51 bst 2018 armv7l gnulinux '
config_args='-de -Dprefix=/home/njh/perl5/perlbrew/perls/perl-5.28.1 -Dusedevel -Accflags= -Aeval:scriptdir=/home/njh/perl5/perlbrew/perls/perl-5.28.1/bin'
hint=recommended
useposix=true
d_sigaction=define
useithreads=undef
usemultiplicity=undef
use64bitint=undef
use64bitall=undef
uselongdouble=undef
usemymalloc=n
default_inc_excludes_dot=define
bincompat5005=undef
Compiler:
cc='cc'
ccflags ='-fwrapv -fno-strict-aliasing -pipe -fstack-protector-strong -I/usr/local/include -D_LARGEFILE_SOURCE -D_FILE_OFFSET_BITS=64 -D_FORTIFY_SOURCE=2'
optimize='-O2'
cppflags='-fwrapv -fno-strict-aliasing -pipe -fstack-protector-strong -I/usr/local/include'
ccversion=''
gccversion='6.3.0 20170516'
gccosandvers=''
intsize=4
longsize=4
ptrsize=4
doublesize=8
byteorder=1234
doublekind=3
d_longlong=define
longlongsize=8
d_longdbl=define
longdblsize=8
longdblkind=0
ivtype='long'
ivsize=4
nvtype='double'
nvsize=8
Off_t='off_t'
lseeksize=8
alignbytes=8
prototype=define
Linker and Libraries:
ld='cc'
ldflags =' -fstack-protector-strong -L/usr/local/lib'
libpth=/usr/local/lib /usr/lib/gcc/arm-linux-gnueabihf/6/include-fixed /usr/include/arm-linux-gnueabihf /usr/lib /lib/arm-linux-gnueabihf /lib /usr/lib/arm-linux-gnueabihf
libs=-lpthread -lnsl -lgdbm -ldb -ldl -lm -lcrypt -lutil -lc -lgdbm_compat
perllibs=-lpthread -lnsl -ldl -lm -lcrypt -lutil -lc
libc=libc-2.24.so
so=so
useshrplib=false
libperl=libperl.a
gnulibc_version='2.24'
Dynamic Linking:
dlsrc=dl_dlopen.xs
dlext=so
d_dlsymun=undef
ccdlflags='-Wl,-E'
cccdlflags='-fPIC'
lddlflags='-shared -O2 -L/usr/local/lib -fstack-protector-strong'
Characteristics of this binary (from libperl):
Compile-time options:
HAS_TIMES
PERLIO_LAYERS
PERL_COPY_ON_WRITE
PERL_DONT_CREATE_GVSV
PERL_MALLOC_WRAP
PERL_OP_PARENT
PERL_PRESERVE_IVUV
PERL_USE_DEVEL
USE_LARGE_FILES
USE_LOCALE
USE_LOCALE_COLLATE
USE_LOCALE_CTYPE
USE_LOCALE_NUMERIC
USE_LOCALE_TIME
USE_PERLIO
USE_PERL_ATOF
Built under linux
Compiled at Dec 5 2018 00:45:43
%ENV:
PERL5LIB="/home/njh/.cpan/build/Test-Memory-Cycle-1.06-3/blib/arch:/home/njh/.cpan/build/Test-Memory-Cycle-1.06-3/blib/lib:/home/njh/.cpan/build/PadWalker-2.3-3/blib/arch:/home/njh/.cpan/build/PadWalker-2.3-3/blib/lib:/home/njh/.cpan/build/Devel-Cycle-1.12-3/blib/arch:/home/njh/.cpan/build/Devel-Cycle-1.12-3/blib/lib"
PERL5OPT=""
PERL5_CPANPLUS_IS_RUNNING="23792"
PERL5_CPAN_IS_RUNNING="23792"
PERLBREW_HOME="/home/njh/.perlbrew"
PERLBREW_MANPATH="/home/njh/perl5/perlbrew/perls/perl-5.28.1/man"
PERLBREW_PATH="/home/njh/perl5/perlbrew/bin:/home/njh/perl5/perlbrew/perls/perl-5.28.1/bin"
PERLBREW_PERL="perl-5.28.1"
PERLBREW_ROOT="/home/njh/perl5/perlbrew"
PERLBREW_SHELLRC_VERSION="0.84"
PERLBREW_VERSION="0.84"
PERL_USE_UNSAFE_INC="1"
@INC:
/home/njh/.cpan/build/Test-Memory-Cycle-1.06-3/blib/arch
/home/njh/.cpan/build/Test-Memory-Cycle-1.06-3/blib/lib
/home/njh/.cpan/build/PadWalker-2.3-3/blib/arch
/home/njh/.cpan/build/PadWalker-2.3-3/blib/lib
/home/njh/.cpan/build/Devel-Cycle-1.12-3/blib/arch
/home/njh/.cpan/build/Devel-Cycle-1.12-3/blib/lib
/home/njh/perl5/perlbrew/perls/perl-5.28.1/lib/site_perl/5.28.1/armv7l-linux
/home/njh/perl5/perlbrew/perls/perl-5.28.1/lib/site_perl/5.28.1
/home/njh/perl5/perlbrew/perls/perl-5.28.1/lib/5.28.1/armv7l-linux
/home/njh/perl5/perlbrew/perls/perl-5.28.1/lib/5.28.1
.