Report for Text-VimColor-0.28

Back
From: metabase:user:314402c4-2aae-11df-837a-5e0a49663a4f
Subject: PASS Text-VimColor-0.28 v5.16.3 GNU/Linux
Date: 2017-08-07T03:19:14Z

This distribution has been tested as part of the CPAN Testers
project, supporting the Perl programming language.  See
http://wiki.cpantesters.org/ for more information or email
questions to cpan-testers-discuss@perl.org


--
Dear Randy Stauner,

This is a computer-generated report for Text-VimColor-0.28
on perl 5.16.3, created by CPAN-Reporter-1.2018.

Thank you for uploading your work to CPAN.  Congratulations!
All tests were successful.

Sections of this report:

    * Tester comments
    * Program output
    * Prerequisites
    * Environment and other context

------------------------------
TESTER COMMENTS
------------------------------

Additional comments from tester:

none provided

------------------------------
PROGRAM OUTPUT
------------------------------

Output from 'make test':

Skip blib/lib/auto/share/dist/Text-VimColor/define_all.vim (unchanged)
Skip blib/lib/auto/share/dist/Text-VimColor/light.css (unchanged)
Skip blib/lib/auto/share/dist/Text-VimColor/light.xsl (unchanged)
Skip blib/lib/auto/share/dist/Text-VimColor/mark.vim (unchanged)
PERL_DL_NONLAZY=1 "/opt/perl-5.16.3/bin/perl5.16.3" "-MExtUtils::Command::MM" "-MTest::Harness" "-e" "undef *Test::Harness::Switches; test_harness(0, 'blib/lib', 'blib/arch')" t/*.t
t/00-compile.t ......... ok
# 
# Versions for all modules listed in MYMETA.json (including optional ones):
# 
# === Configure Requires ===
# 
#     Module                  Want   Have
#     ----------------------- ---- ------
#     ExtUtils::MakeMaker      any   7.30
#     File::ShareDir::Install 0.06   0.11
#     File::Temp               any 0.2304
#     IO::File                 any   1.16
#     IPC::Open3               any   1.12
#     strict                   any   1.07
#     warnings                 any   1.13
# 
# === Build Requires ===
# 
#     Module              Want Have
#     ------------------- ---- ----
#     ExtUtils::MakeMaker  any 7.30
# 
# === Test Requires ===
# 
#     Module                     Want     Have
#     -------------------------- ---- --------
#     Exporter                    any     5.72
#     ExtUtils::MakeMaker         any     7.30
#     File::Spec                  any     3.62
#     File::Temp                  any   0.2304
#     IO::Handle                  any     1.33
#     IPC::Open3                  any     1.12
#     Path::Class                0.04     0.37
#     Test::File::ShareDir::Dist  any 1.001002
#     Test::More                 0.88 1.302086
#     blib                       1.01     1.06
#     lib                         any     0.63
# 
# === Test Recommends ===
# 
#     Module         Want     Have
#     ---------- -------- --------
#     CPAN::Meta 2.120900 2.150010
# 
# === Runtime Requires ===
# 
#     Module          Want   Have
#     --------------- ---- ------
#     Carp             any   1.38
#     File::Copy       any   2.23
#     File::ShareDir   any  1.104
#     File::Temp       any 0.2304
#     Getopt::Long     any    2.5
#     IO::File         any   1.16
#     IPC::Open3       any   1.12
#     Path::Class     0.04   0.37
#     Symbol           any   1.07
#     Term::ANSIColor 1.03   4.06
#     constant         any   1.33
#     strict           any   1.07
#     warnings         any   1.13
# 
# === Runtime Recommends ===
# 
#     Module          Want Have
#     --------------- ---- ----
#     Term::ANSIColor    3 4.06
# 
t/00-report-prereqs.t .. ok
# vim --version
# 
# VIM - Vi IMproved 7.4 (2013 Aug 10, compiled Dec 21 2016 17:10:41)
# Included patches: 1-207, 209-629
# Modified by <bugzilla@redhat.com>
# Compiled by <bugzilla@redhat.com>
# Huge version without GUI.  Features included (+) or not (-):
# +acl             +farsi           +mouse_netterm   +syntax
# +arabic          +file_in_path    +mouse_sgr       +tag_binary
# +autocmd         +find_in_path    -mouse_sysmouse  +tag_old_static
# -balloon_eval    +float           +mouse_urxvt     -tag_any_white
# -browse          +folding         +mouse_xterm     -tcl
# ++builtin_terms  -footer          +multi_byte      +terminfo
# +byte_offset     +fork()          +multi_lang      +termresponse
# +cindent         +gettext         -mzscheme        +textobjects
# -clientserver    -hangul_input    +netbeans_intg   +title
# -clipboard       +iconv           +path_extra      -toolbar
# +cmdline_compl   +insert_expand   +perl            +user_commands
# +cmdline_hist    +jumplist        +persistent_undo +vertsplit
# +cmdline_info    +keymap          +postscript      +virtualedit
# +comments        +langmap         +printer         +visual
# +conceal         +libcall         +profile         +visualextra
# +cryptv          +linebreak       +python/dyn      +viminfo
# +cscope          +lispindent      -python3         +vreplace
# +cursorbind      +listcmds        +quickfix        +wildignore
# +cursorshape     +localmap        +reltime         +wildmenu
# +dialog_con      -lua             +rightleft       +windows
# +diff            +menu            -ruby            +writebackup
# +digraphs        +mksession       +scrollbind      -X11
# -dnd             +modify_fname    +signs           -xfontset
# -ebcdic          +mouse           +smartindent     -xim
# +emacs_tags      -mouseshape      -sniff           -xsmp
# +eval            +mouse_dec       +startuptime     -xterm_clipboard
# +ex_extra        +mouse_gpm       +statusline      -xterm_save
# +extra_search    -mouse_jsbterm   -sun_workshop    -xpm
#    system vimrc file: "/etc/vimrc"
#      user vimrc file: "$HOME/.vimrc"
#  2nd user vimrc file: "~/.vim/vimrc"
#       user exrc file: "$HOME/.exrc"
#   fall-back for $VIM: "/etc"
#  f-b for $VIMRUNTIME: "/usr/share/vim/vim74"
# Compilation: gcc -c -I. -Iproto -DHAVE_CONFIG_H     -O2 -g -pipe -Wall -fexceptions -fstack-protector --param=ssp-buffer-size=4 -m64 -mtune=generic -D_GNU_SOURCE -D_FILE_OFFSET_BITS=64 -U_FORTIFY_SOURCE -D_FORTIFY_SOURCE=1      
# Linking: gcc   -Wl,-E -Wl,-rpath,/usr/lib64/perl5/CORE   -L/usr/local/lib -Wl,--as-needed -o vim        -lm -lnsl  -lselinux  -ltinfo -lacl -lattr -lgpm   -Wl,-E -Wl,-rpath,/usr/lib64/perl5/CORE  -fstack-protector  -L/usr/lib64/perl5/CORE -lperl -lresolv -lnsl -ldl -lm -lcrypt -lutil -lpthread -lc       
# 
t/000-vim-version.t .... ok
t/all-syntax-groups.t .. ok
t/ansi.t ............... ok
t/bin.t ................ ok
t/compare-formats.t .... ok
t/encoding.t ........... ok
t/html.t ............... ok
t/input_filename.t ..... ok
t/new.t ................ ok
t/override-options.t ... ok
t/share-dir.t .......... ok
t/tvctestsyn.t ......... ok
t/untie-std-handles.t .. ok
t/vim_let.t ............ ok
t/vim_options.t ........ ok
t/xml.t ................ ok
All tests successful.

Test Summary Report
-------------------
t/encoding.t         (Wstat: 0 Tests: 8 Failed: 0)
  TODO passed:   5-6
Files=18, Tests=143,  3 wallclock secs ( 0.04 usr  0.04 sys +  1.97 cusr  0.58 csys =  2.63 CPU)
Result: PASS

------------------------------
PREREQUISITES
------------------------------

Prerequisite modules loaded:

requires:

    Module                     Need  Have    
    -------------------------- ----- --------
    Carp                       0     1.38    
    constant                   0     1.33    
    File::Copy                 0     2.23    
    File::ShareDir             0     1.104   
    File::Temp                 0     0.2304  
    Getopt::Long               0     2.5     
    IO::File                   0     1.16    
    IPC::Open3                 0     1.12    
    Path::Class                0.04  0.37    
    perl                       5.006 5.016003
    strict                     0     1.07    
    Symbol                     0     1.07    
    Term::ANSIColor            1.03  4.06    
    warnings                   0     1.13    

build_requires:

    Module                     Need  Have    
    -------------------------- ----- --------
    blib                       1.01  1.06    
    Exporter                   0     5.72    
    ExtUtils::MakeMaker        0     7.30    
    File::Spec                 0     3.62    
    File::Temp                 0     0.2304  
    IO::Handle                 0     1.33    
    IPC::Open3                 0     1.12    
    lib                        0     0.63    
    Path::Class                0.04  0.37    
    Test::File::ShareDir::Dist 0     1.001002
    Test::More                 0.88  1.302086

configure_requires:

    Module                     Need  Have    
    -------------------------- ----- --------
    ExtUtils::MakeMaker        0     7.30    
    File::ShareDir::Install    0.06  0.11    
    File::Temp                 0     0.2304  
    IO::File                   0     1.16    
    IPC::Open3                 0     1.12    
    perl                       5.006 5.016003
    strict                     0     1.07    
    warnings                   0     1.13    


------------------------------
ENVIRONMENT AND OTHER CONTEXT
------------------------------

Environment variables:

    LANG = en_US.UTF-8
    PATH = /usr/local/bin:/usr/bin:/bin:/usr/local/sbin:/usr/sbin:/sbin:/home/cpansand/bin/linux-gnu:/home/cpansand/bin/sh:/home/cpansand/bin:/usr/games:/home/cpansand/devel:/home/eserte/src/srezic-misc/scripts
    PERL5LIB = 
    PERL5OPT = 
    PERL5_CPANPLUS_IS_RUNNING = 14910
    PERL5_CPAN_IS_RUNNING = 14910
    PERL5_CPAN_IS_RUNNING_IN_RECURSION = 14869,14910
    PERLDOC = -MPod::Perldoc::ToTextOverstrike
    PERL_BATCH = yes
    PERL_CANARY_STABILITY_NOPROMPT = 1
    PERL_CPAN_REPORTER_CONFIG = /var/tmp/cpansmoker-1023/2017080703/cpanreporter_000_config.ini
    PERL_EXTUTILS_AUTOINSTALL = --defaultdeps
    SHELL = /bin/zsh
    TERM = screen
    TMPDIR = /var/tmp/cpansmoker-1023/2017080703

Perl special variables (and OS-specific diagnostics, for MSWin32):

    $^X = /opt/perl-5.16.3/bin/perl5.16.3
    $UID/$EUID = 1023 / 1023
    $GID = 1023 1023
    $EGID = 1023 1023

Perl module toolchain versions installed:

    Module              Have    
    ------------------- --------
    CPAN                1.9800  
    CPAN::Meta          2.150010
    Cwd                 3.62    
    ExtUtils::CBuilder  0.280206
    ExtUtils::Command   7.30    
    ExtUtils::Install   2.06    
    ExtUtils::MakeMaker 7.30    
    ExtUtils::Manifest  1.70    
    ExtUtils::ParseXS   3.30    
    File::Spec          3.62    
    JSON                2.94    
    JSON::PP            2.94    
    Module::Build       0.4224  
    Module::Signature   0.81    
    Parse::CPAN::Meta   2.150010
    Test::Harness       3.39    
    Test::More          1.302086
    YAML                1.23    
    YAML::Syck          1.30    
    version             0.9918  


--

Summary of my perl5 (revision 5 version 16 subversion 3) configuration:
   
  Platform:
    osname=linux, osvers=2.6.32-696.3.1.el6.x86_64, archname=x86_64-linux
    uname='linux centos6 2.6.32-696.3.1.el6.x86_64 #1 smp tue may 30 19:52:55 utc 2017 x86_64 x86_64 x86_64 gnulinux '
    config_args='-ds -e -Dprefix=/opt/perl-5.16.3 -Dcf_email=srezic@cpan.org'
    hint=recommended, useposix=true, d_sigaction=define
    useithreads=undef, usemultiplicity=undef
    useperlio=define, d_sfio=undef, uselargefiles=define, usesocks=undef
    use64bitint=define, use64bitall=define, uselongdouble=undef
    usemymalloc=n, bincompat5005=undef
  Compiler:
    cc='cc', ccflags ='-fno-strict-aliasing -pipe -fstack-protector -I/usr/local/include -D_LARGEFILE_SOURCE -D_FILE_OFFSET_BITS=64',
    optimize='-O2',
    cppflags='-fno-strict-aliasing -pipe -fstack-protector -I/usr/local/include'
    ccversion='', gccversion='4.4.7 20120313 (Red Hat 4.4.7-18)', gccosandvers=''
    intsize=4, longsize=8, ptrsize=8, doublesize=8, byteorder=12345678
    d_longlong=define, longlongsize=8, d_longdbl=define, longdblsize=16
    ivtype='long', ivsize=8, nvtype='double', nvsize=8, Off_t='off_t', lseeksize=8
    alignbytes=8, prototype=define
  Linker and Libraries:
    ld='cc', ldflags =' -fstack-protector -L/usr/local/lib'
    libpth=/usr/local/lib /lib/../lib64 /usr/lib/../lib64 /lib /usr/lib /lib64 /usr/lib64 /usr/local/lib64
    libs=-lnsl -lgdbm -ldb -ldl -lm -lcrypt -lutil -lc
    perllibs=-lnsl -ldl -lm -lcrypt -lutil -lc
    libc=, so=so, useshrplib=false, libperl=libperl.a
    gnulibc_version='2.12'
  Dynamic Linking:
    dlsrc=dl_dlopen.xs, dlext=so, d_dlsymun=undef, ccdlflags='-Wl,-E'
    cccdlflags='-fPIC', lddlflags='-shared -O2 -L/usr/local/lib -fstack-protector'


Characteristics of this binary (from libperl): 
  Compile-time options: HAS_TIMES PERLIO_LAYERS PERL_DONT_CREATE_GVSV
                        PERL_MALLOC_WRAP PERL_PRESERVE_IVUV USE_64_BIT_ALL
                        USE_64_BIT_INT USE_LARGE_FILES USE_LOCALE
                        USE_LOCALE_COLLATE USE_LOCALE_CTYPE
                        USE_LOCALE_NUMERIC USE_PERLIO USE_PERL_ATOF
  Built under linux
  Compiled at Jun 24 2017 09:37:57
  %ENV:
    PERL5LIB=""
    PERL5OPT=""
    PERL5_CPANPLUS_IS_RUNNING="14910"
    PERL5_CPAN_IS_RUNNING="14910"
    PERL5_CPAN_IS_RUNNING_IN_RECURSION="14869,14910"
    PERLDOC="-MPod::Perldoc::ToTextOverstrike"
    PERL_BATCH="yes"
    PERL_CANARY_STABILITY_NOPROMPT="1"
    PERL_CPAN_REPORTER_CONFIG="/var/tmp/cpansmoker-1023/2017080703/cpanreporter_000_config.ini"
    PERL_EXTUTILS_AUTOINSTALL="--defaultdeps"
  @INC:
    /opt/perl-5.16.3/lib/site_perl/5.16.3/x86_64-linux
    /opt/perl-5.16.3/lib/site_perl/5.16.3
    /opt/perl-5.16.3/lib/5.16.3/x86_64-linux
    /opt/perl-5.16.3/lib/5.16.3
    .