autodie v2.29 Perl 5 v5.12.5 x86_64-linux-thread-multi-ld

Status
Pass
From
Andreas J. König (ANDK)
Dist
autodie v2.29
Platform
Perl 5 v5.12.5 x86_64-linux-thread-multi-ld
Date
2019-03-11 00:25:35
ID
30551dea-4394-11e9-b7b5-f542cbdd0b6f
This distribution has been tested as part of the CPAN Testers
project, supporting the Perl programming language.  See
http://wiki.cpantesters.org/ for more information or email
questions to cpan-testers-discuss@perl.org


--
Dear Paul Jamieson Fenwick,

This is a computer-generated report for autodie-2.29
on perl 5.12.5, created by CPAN-Reporter-1.2018.

Thank you for uploading your work to CPAN.  Congratulations!
All tests were successful.

Sections of this report:

    * Tester comments
    * Program output
    * Prerequisites
    * Environment and other context

------------------------------
TESTER COMMENTS
------------------------------

Additional comments from tester:

this report is from an automated smoke testing program
and was not reviewed by a human for accuracy

------------------------------
PROGRAM OUTPUT
------------------------------

Output from '/usr/bin/make test':

PERL_DL_NONLAZY=1 "/home/sand/src/perl/repoperls/installed-perls/host/k93stretch/v5.12.5/cb59/bin/perl" "-MExtUtils::Command::MM" "-MTest::Harness" "-e" "undef *Test::Harness::Switches; test_harness(0, 'blib/lib', 'blib/arch')" t/*.t
t/00-load.t ...................... ok
t/args.t ......................... ok
t/author-critic.t ................ skipped: these tests are for testing by the author
t/autodie.t ...................... ok
t/backcompat.t ................... ok
t/basic_exceptions.t ............. ok
t/binmode.t ...................... ok
t/blog_hints.t ................... ok
t/caller.t ....................... ok
t/chmod.t ........................ ok
t/chown.t ........................ ok
t/context.t ...................... ok
t/context_lexical.t .............. ok
t/core-trampoline-slurp.t ........ ok
t/crickey.t ...................... ok
t/critic.t ....................... skipped: Author test.  Set $ENV{AUTHOR_TESTING} to true to run.
t/dbmopen.t ...................... ok
t/eval_error.t ................... ok
t/exception_class.t .............. ok
t/exceptions.t ................... ok
t/exec.t ......................... ok
t/Fatal.t ........................ ok
t/filehandles.t .................. ok
t/fileno.t ....................... ok
t/flock.t ........................ ok
t/fork.t ......................... ok
t/format-clobber.t ............... ok
# Sub::Identify is loaded
t/hints.t ........................ ok
t/hints_insist.t ................. ok
t/hints_pod_examples.t ........... ok
t/hints_provider_does.t .......... ok
t/hints_provider_easy_does_it.t .. ok
t/hints_provider_isa.t ........... ok
t/import-into.t .................. skipped: Test needs Import::Into >= 1.002004
t/internal-backcompat.t .......... ok
t/internal.t ..................... ok
t/kill.t ......................... ok
t/kwalitee.t ..................... skipped: Author test.  Set $ENV{RELEASE_TESTING} to true to run.
t/lethal.t ....................... ok
t/lex58.t ........................ skipped: IPC::System::Simple required
t/mkdir.t ........................ ok
t/no_carp.t ...................... ok
t/open.t ......................... ok
t/pod-coverage.t ................. skipped: Author test.  Set $ENV{AUTHOR_TESTING} to true to run.
t/pod.t .......................... skipped: Author test.  Set $ENV{AUTHOR_TESTING} to true to run.
t/read.t ......................... ok
t/recv.t ......................... ok
t/release-pod-coverage.t ......... skipped: these tests are for release candidate testing
t/release-pod-syntax.t ........... skipped: these tests are for release candidate testing
t/repeat.t ....................... ok
Variable "$open" is not imported at (eval 10) line 5.
	(Did you mean &open instead?)
t/rt-74246.t ..................... ok
t/scope_leak.t ................... ok
t/skip.t ......................... ok
t/socket.t ....................... skipped: Author test.  Set $ENV{AUTHOR_TESTING} to true to run.
t/string-eval-basic.t ............ ok
t/string-eval-leak.t ............. ok
t/sysopen.t ...................... ok
t/system.t ....................... skipped: IPC::System::Simple not installed
t/truncate.t ..................... ok
t/unlink.t ....................... ok
t/user-context.t ................. ok
t/usersub.t ...................... ok
t/utf8_open.t .................... ok
t/utime.t ........................ ok
t/version.t ...................... skipped: Release test.  Set $ENV{RELEASE_TESTING} to true to run.
t/version_tag.t .................. ok
All tests successful.
Files=66, Tests=498,  7 wallclock secs ( 0.16 usr  0.32 sys +  3.62 cusr  1.20 csys =  5.30 CPU)
Result: PASS

------------------------------
PREREQUISITES
------------------------------

Prerequisite modules loaded:

requires:

    Module              Need     Have    
    ------------------- -------- --------
    B                   0        1.23    
    Carp                0        1.50    
    constant            0        1.20    
    Exporter            5.57     5.64_01 
    Fcntl               0        1.06    
    overload            0        1.10    
    parent              0        0.237   
    perl                5.008004 5.012005
    POSIX               0        1.19    
    Scalar::Util        0        1.50    
    strict              0        1.04    
    Tie::RefHash        0        1.38    
    warnings            0        1.09    

build_requires:

    Module              Need     Have    
    ------------------- -------- --------
    ExtUtils::MakeMaker 0        7.34    
    File::Copy          0        2.18    
    File::Spec          0        3.75    
    File::Temp          0        0.2309  
    FindBin             0        1.50    
    if                  0        0.05    
    IO::Handle          0        1.28    
    lib                 0        0.62    
    Socket              0        2.029   
    Test::More          0        1.302162

configure_requires:

    Module              Need     Have    
    ------------------- -------- --------
    ExtUtils::MakeMaker 0        7.34    

opt_requires:

    Module              Need     Have    
    ------------------- -------- --------
  ! IPC::System::Simple 0.12     n/a     
    perl                5.010    5.012005
    Sub::Identify       0        0.14    


------------------------------
ENVIRONMENT AND OTHER CONTEXT
------------------------------

Environment variables:

    AUTOMATED_TESTING = 1
    LANG = C
    PATH = /home/sand/bin:/usr/local/bin:/usr/bin:/bin:/usr/games:/usr/local/perl/bin:/usr/X11/bin:/sbin:/usr/sbin
    PERL5LIB = /tmp/loop_over_bdir-625-3TLVAb/Carp-1.50-0/blib/arch:/tmp/loop_over_bdir-625-3TLVAb/Carp-1.50-0/blib/lib:/tmp/loop_over_bdir-625-3TLVAb/AnyEvent-HTTP-Message-0.302-0/blib/arch:/tmp/loop_over_bdir-625-3TLVAb/AnyEvent-HTTP-Message-0.302-0/blib/lib:/tmp/loop_over_bdir-625-3TLVAb/AnyEvent-HTTP-2.24-0/blib/arch:/tmp/loop_over_bdir-625-3TLVAb/AnyEvent-HTTP-2.24-0/blib/lib:/tmp/loop_over_bdir-625-3TLVAb/Async-Interrupt-1.24-0/blib/arch:/tmp/loop_over_bdir-625-3TLVAb/Async-Interrupt-1.24-0/blib/lib:/tmp/loop_over_bdir-625-3TLVAb/EV-4.25-0/blib/arch:/tmp/loop_over_bdir-625-3TLVAb/EV-4.25-0/blib/lib:/tmp/loop_over_bdir-625-3TLVAb/Guard-1.023-0/blib/arch:/tmp/loop_over_bdir-625-3TLVAb/Guard-1.023-0/blib/lib:/tmp/loop_over_bdir-625-3TLVAb/AnyEvent-7.15-0/blib/arch:/tmp/loop_over_bdir-625-3TLVAb/AnyEvent-7.15-0/blib/lib:/tmp/loop_over_bdir-625-3TLVAb/Event-1.27-0/blib/arch:/tmp/loop_over_bdir-625-3TLVAb/Event-1.27-0/blib/lib:/tmp/loop_over_bdir-625-3TLVAb/Canary-Stability-2012-0/blib/arch:/tmp/loop_over_bdir-625-3TLVAb/Canary-Stability-2012-0/blib/lib
    PERL5OPT = 
    PERL5_CPANPLUS_IS_RUNNING = 14199
    PERL5_CPAN_IS_RUNNING = 14199
    PERL_CANARY_STABILITY_NOPROMPT = 1
    PERL_MM_USE_DEFAULT = 1
    PERL_USE_UNSAFE_INC = 1
    SHELL = /usr/bin/zsh
    TERM = screen

Perl special variables (and OS-specific diagnostics, for MSWin32):

    $^X = /home/sand/src/perl/repoperls/installed-perls/host/k93stretch/v5.12.5/cb59/bin/perl
    $UID/$EUID = 1005 / 1005
    $GID = 1005 1005
    $EGID = 1005 1005

Perl module toolchain versions installed:

    Module              Have    
    ------------------- --------
    CPAN                2.25    
    CPAN::Meta          2.150010
    Cwd                 3.75    
    ExtUtils::CBuilder  0.280230
    ExtUtils::Command   7.34    
    ExtUtils::Install   2.06    
    ExtUtils::MakeMaker 7.34    
    ExtUtils::Manifest  1.70    
    ExtUtils::ParseXS   2.21    
    File::Spec          3.75    
    JSON                4.02    
    JSON::PP            4.02    
    Module::Build       0.4224  
    Module::Signature   0.83    
    Parse::CPAN::Meta   2.150010
    Test::Harness       3.42    
    Test::More          1.302162
    YAML                1.27    
    YAML::Syck          1.31    
    version             0.9924  


--

Summary of my perl5 (revision 5 version 12 subversion 5) configuration:
  Derived from: 9a9cbd715960a905dcbc9166349a73a64a007e4e
  Platform:
    osname=linux, osvers=4.9.0-8-amd64, archname=x86_64-linux-thread-multi-ld
    uname='linux k93stretch 4.9.0-8-amd64 #1 smp debian 4.9.144-3 (2019-02-02) x86_64 gnulinux '
    config_args='-Dprefix=/home/sand/src/perl/repoperls/installed-perls/host/k93stretch/v5.12.5/cb59 -Dmyhostname=k93stretch -Dinstallusrbinperl=n -Uversiononly -Dusedevel -des -Ui_db -Dlibswanted=cl pthread socket inet nsl gdbm dbm malloc dl ld sun m crypt sec util c cposix posix ucb BSD gdbm_compat -Duseithreads -Duselongdouble -DEBUGGING=-g'
    hint=recommended, useposix=true, d_sigaction=define
    useithreads=define, usemultiplicity=define
    useperlio=define, d_sfio=undef, uselargefiles=define, usesocks=undef
    use64bitint=define, use64bitall=define, uselongdouble=define
    usemymalloc=n, bincompat5005=undef
  Compiler:
    cc='cc', ccflags ='-D_REENTRANT -D_GNU_SOURCE -fno-strict-aliasing -pipe -fstack-protector -I/usr/local/include -D_LARGEFILE_SOURCE -D_FILE_OFFSET_BITS=64',
    optimize='-O2 -g',
    cppflags='-D_REENTRANT -D_GNU_SOURCE -fno-strict-aliasing -pipe -fstack-protector -I/usr/local/include'
    ccversion='', gccversion='6.3.0 20170516', gccosandvers=''
    intsize=4, longsize=8, ptrsize=8, doublesize=8, byteorder=12345678
    d_longlong=define, longlongsize=8, d_longdbl=define, longdblsize=16
    ivtype='long', ivsize=8, nvtype='long double', nvsize=16, Off_t='off_t', lseeksize=8
    alignbytes=16, prototype=define
  Linker and Libraries:
    ld='cc', ldflags =' -fstack-protector -L/usr/local/lib'
    libpth=/usr/local/lib /lib/x86_64-linux-gnu /lib/../lib /usr/lib/x86_64-linux-gnu /usr/lib/../lib /lib /usr/lib
    libs=-lpthread -lnsl -ldl -lm -lcrypt -lutil -lc
    perllibs=-lpthread -lnsl -ldl -lm -lcrypt -lutil -lc
    libc=libc-2.24.so, so=so, useshrplib=false, libperl=libperl.a
    gnulibc_version='2.24'
  Dynamic Linking:
    dlsrc=dl_dlopen.xs, dlext=so, d_dlsymun=undef, ccdlflags='-Wl,-E'
    cccdlflags='-fPIC', lddlflags='-shared -O2 -g -L/usr/local/lib -fstack-protector'


Characteristics of this binary (from libperl): 
  Compile-time options: MULTIPLICITY PERL_DONT_CREATE_GVSV
                        PERL_IMPLICIT_CONTEXT PERL_MALLOC_WRAP PERL_USE_DEVEL
                        USE_64_BIT_ALL USE_64_BIT_INT USE_ITHREADS
                        USE_LARGE_FILES USE_LONG_DOUBLE USE_PERLIO
                        USE_PERL_ATOF USE_REENTRANT_API
  Locally applied patches:
	uncommitted-changes
  Built under linux
  Compiled at Mar  8 2019 11:24:38
  %ENV:
    PERL5LIB="/tmp/loop_over_bdir-625-3TLVAb/Carp-1.50-0/blib/arch:/tmp/loop_over_bdir-625-3TLVAb/Carp-1.50-0/blib/lib:/tmp/loop_over_bdir-625-3TLVAb/AnyEvent-HTTP-Message-0.302-0/blib/arch:/tmp/loop_over_bdir-625-3TLVAb/AnyEvent-HTTP-Message-0.302-0/blib/lib:/tmp/loop_over_bdir-625-3TLVAb/AnyEvent-HTTP-2.24-0/blib/arch:/tmp/loop_over_bdir-625-3TLVAb/AnyEvent-HTTP-2.24-0/blib/lib:/tmp/loop_over_bdir-625-3TLVAb/Async-Interrupt-1.24-0/blib/arch:/tmp/loop_over_bdir-625-3TLVAb/Async-Interrupt-1.24-0/blib/lib:/tmp/loop_over_bdir-625-3TLVAb/EV-4.25-0/blib/arch:/tmp/loop_over_bdir-625-3TLVAb/EV-4.25-0/blib/lib:/tmp/loop_over_bdir-625-3TLVAb/Guard-1.023-0/blib/arch:/tmp/loop_over_bdir-625-3TLVAb/Guard-1.023-0/blib/lib:/tmp/loop_over_bdir-625-3TLVAb/AnyEvent-7.15-0/blib/arch:/tmp/loop_over_bdir-625-3TLVAb/AnyEvent-7.15-0/blib/lib:/tmp/loop_over_bdir-625-3TLVAb/Event-1.27-0/blib/arch:/tmp/loop_over_bdir-625-3TLVAb/Event-1.27-0/blib/lib:/tmp/loop_over_bdir-625-3TLVAb/Canary-Stability-2012-0/blib/arch:/tmp/loop_over_bdir-625-3TLVAb/Canary-Stability-2012-0/blib/lib"
    PERL5OPT=""
    PERL5_CPANPLUS_IS_RUNNING="14199"
    PERL5_CPAN_IS_RUNNING="14199"
    PERL_CANARY_STABILITY_NOPROMPT="1"
    PERL_MM_USE_DEFAULT="1"
    PERL_USE_UNSAFE_INC="1"
  @INC:
    /tmp/loop_over_bdir-625-3TLVAb/Carp-1.50-0/blib/arch
    /tmp/loop_over_bdir-625-3TLVAb/Carp-1.50-0/blib/lib
    /tmp/loop_over_bdir-625-3TLVAb/AnyEvent-HTTP-Message-0.302-0/blib/arch
    /tmp/loop_over_bdir-625-3TLVAb/AnyEvent-HTTP-Message-0.302-0/blib/lib
    /tmp/loop_over_bdir-625-3TLVAb/AnyEvent-HTTP-2.24-0/blib/arch
    /tmp/loop_over_bdir-625-3TLVAb/AnyEvent-HTTP-2.24-0/blib/lib
    /tmp/loop_over_bdir-625-3TLVAb/Async-Interrupt-1.24-0/blib/arch
    /tmp/loop_over_bdir-625-3TLVAb/Async-Interrupt-1.24-0/blib/lib
    /tmp/loop_over_bdir-625-3TLVAb/EV-4.25-0/blib/arch
    /tmp/loop_over_bdir-625-3TLVAb/EV-4.25-0/blib/lib
    /tmp/loop_over_bdir-625-3TLVAb/Guard-1.023-0/blib/arch
    /tmp/loop_over_bdir-625-3TLVAb/Guard-1.023-0/blib/lib
    /tmp/loop_over_bdir-625-3TLVAb/AnyEvent-7.15-0/blib/arch
    /tmp/loop_over_bdir-625-3TLVAb/AnyEvent-7.15-0/blib/lib
    /tmp/loop_over_bdir-625-3TLVAb/Event-1.27-0/blib/arch
    /tmp/loop_over_bdir-625-3TLVAb/Event-1.27-0/blib/lib
    /tmp/loop_over_bdir-625-3TLVAb/Canary-Stability-2012-0/blib/arch
    /tmp/loop_over_bdir-625-3TLVAb/Canary-Stability-2012-0/blib/lib
    /home/sand/src/perl/repoperls/installed-perls/host/k93stretch/v5.12.5/cb59/lib/site_perl/5.12.5/x86_64-linux-thread-multi-ld
    /home/sand/src/perl/repoperls/installed-perls/host/k93stretch/v5.12.5/cb59/lib/site_perl/5.12.5
    /home/sand/src/perl/repoperls/installed-perls/host/k93stretch/v5.12.5/cb59/lib/5.12.5/x86_64-linux-thread-multi-ld
    /home/sand/src/perl/repoperls/installed-perls/host/k93stretch/v5.12.5/cb59/lib/5.12.5
    .