String-Random v0.30 Perl 5 v5.8.7 x86_64-linux-thread-multi
- Status
- Pass
- From
- Nigel Horne
- Dist
-
String-Random v0.30
- Platform
- Perl 5 v5.8.7 x86_64-linux-thread-multi
- Date
- 2018-06-03 16:21:37
- ID
- 307e2bb2-674a-11e8-8fb1-ef5133556b3f
This distribution has been tested as part of the CPAN Testers
project, supporting the Perl programming language. See
http://wiki.cpantesters.org/ for more information or email
questions to cpan-testers-discuss@perl.org
--
Dear Shlomi Fish,
This is a computer-generated report for String-Random-0.30
on perl 5.8.7, created by CPAN-Reporter-1.2018.
Thank you for uploading your work to CPAN. Congratulations!
All tests were successful.
Sections of this report:
* Tester comments
* Program output
* Prerequisites
* Environment and other context
------------------------------
TESTER COMMENTS
------------------------------
Additional comments from tester:
this report is from an automated smoke testing program
and was not reviewed by a human for accuracy
------------------------------
PROGRAM OUTPUT
------------------------------
Output from './Build test':
t/01_use.t ............ ok
t/00-compile.t ........ ok
t/02_new.t ............ ok
t/03_random_string.t .. ok
t/04_randpattern.t .... ok
t/05_randregex.t ...... ok
t/06_random_regex.t ... ok
t/07_rand_gen.t ....... ok
All tests successful.
Files=8, Tests=165, 1 wallclock secs ( 0.09 usr 0.02 sys + 0.28 cusr 0.08 csys = 0.47 CPU)
Result: PASS
------------------------------
PREREQUISITES
------------------------------
Prerequisite modules loaded:
requires:
Module Need Have
------------- --------- --------
Carp 0 1.3301
Exporter 0 5.70
parent 0 0.228
perl 5.006_001 5.008007
strict 0 1.03
warnings 0 1.03
build_requires:
Module Need Have
------------- --------- --------
File::Spec 0 3.47
IO::Handle 0 1.28
IPC::Open3 0 1.0106
Module::Build 0.28 0.4210
Test::More 0.88 1.001009
vars 0 1.01
configure_requires:
Module Need Have
------------- --------- --------
Module::Build 0.28 0.4210
------------------------------
ENVIRONMENT AND OTHER CONTEXT
------------------------------
Environment variables:
AUTOMATED_TESTING = 1
HARNESS_OPTIONS = j2
LANG = en_GB.UTF-8
LANGUAGE = en_GB:en
PATH = /home/njh/perl5/perlbrew/bin:/home/njh/perl5/perlbrew/perls/perl-5.8.7/bin:src/njh/smoker/bin:/usr/bin:/bin
PERL5LIB = /home/njh/.cpan/build/ExtUtils-PkgConfig-1.16-0/blib/arch:/home/njh/.cpan/build/ExtUtils-PkgConfig-1.16-0/blib/lib:/home/njh/.cpan/build/ExtUtils-Constant-0.25-0/blib/arch:/home/njh/.cpan/build/ExtUtils-Constant-0.25-0/blib/lib
PERL5OPT =
PERL5_CPANPLUS_IS_RUNNING = 23151
PERL5_CPAN_IS_RUNNING = 23151
PERLBREW_BASHRC_VERSION = 0.75
PERLBREW_HOME = /home/njh/.perlbrew
PERLBREW_MANPATH = /home/njh/perl5/perlbrew/perls/perl-5.8.7/man
PERLBREW_PATH = /home/njh/perl5/perlbrew/bin:/home/njh/perl5/perlbrew/perls/perl-5.8.7/bin
PERLBREW_PERL = perl-5.8.7
PERLBREW_ROOT = /home/njh/perl5/perlbrew
PERLBREW_VERSION = 0.75
SHELL = /bin/sh
TMPDIR = /tmp/testwrapper.23141
Perl special variables (and OS-specific diagnostics, for MSWin32):
$^X = /home/njh/perl5/perlbrew/perls/perl-5.8.7/bin/perl
$UID/$EUID = 1000 / 1000
$GID = 1000 1000 127 116 108 103 46 44 30 29 25 24 4
$EGID = 1000 1000 127 116 108 103 46 44 30 29 25 24 4
Perl module toolchain versions installed:
Module Have
------------------- --------
CPAN 2.16
CPAN::Meta 2.150005
Cwd 3.47
ExtUtils::CBuilder 0.280220
ExtUtils::Command 7.22
ExtUtils::Install 1.54
ExtUtils::MakeMaker 7.22
ExtUtils::Manifest 1.70
ExtUtils::ParseXS 3.30
File::Spec 3.47
JSON 2.90
JSON::PP 2.27400
Module::Build 0.4210
Module::Signature n/a
Parse::CPAN::Meta 1.4422
Test::Harness 3.36
Test::More 1.001009
YAML n/a
YAML::Syck 1.30
version 0.9909
--
Summary of my perl5 (revision 5 version 8 subversion 7) configuration:
Platform:
osname=linux, osvers=3.16-3-amd64, archname=x86_64-linux-thread-multi
uname='linux compaq 3.16-3-amd64 #1 smp debian 3.16.5-1 (2014-10-10) x86_64 gnulinux '
config_args='-de -Dprefix=/home/njh/perl5/perlbrew/perls/perl-5.8.7 -Duseithreads -Dusemultiplicity -Dusedevel -Accflags= -Aeval:scriptdir=/home/njh/perl5/perlbrew/perls/perl-5.8.7/bin'
hint=recommended, useposix=true, d_sigaction=define
usethreads=define use5005threads=undef useithreads=define usemultiplicity=define
useperlio=define d_sfio=undef uselargefiles=define usesocks=undef
use64bitint=define use64bitall=define uselongdouble=undef
usemymalloc=n, bincompat5005=undef
Compiler:
cc='cc', ccflags ='-D_REENTRANT -D_GNU_SOURCE -fno-strict-aliasing -pipe -I/usr/local/include -D_LARGEFILE_SOURCE -D_FILE_OFFSET_BITS=64',
optimize='-O2',
cppflags='-D_REENTRANT -D_GNU_SOURCE -fno-strict-aliasing -pipe -I/usr/local/include'
ccversion='', gccversion='4.9.2', gccosandvers=''
intsize=4, longsize=8, ptrsize=8, doublesize=8, byteorder=12345678
d_longlong=define, longlongsize=8, d_longdbl=define, longdblsize=16
ivtype='long', ivsize=8, nvtype='double', nvsize=8, Off_t='off_t', lseeksize=8
alignbytes=8, prototype=define
Linker and Libraries:
ld='cc', ldflags =' -L/usr/local/lib'
libpth=/usr/local/lib /lib/x86_64-linux-gnu /lib/../lib /usr/lib/x86_64-linux-gnu /usr/lib/../lib /lib /usr/lib
libs=-lnsl -lgdbm -ldb -ldl -lm -lcrypt -lutil -lpthread -lc -lgdbm_compat
perllibs=-lnsl -ldl -lm -lcrypt -lutil -lpthread -lc -lgdbm_compat
libc=, so=so, useshrplib=false, libperl=libperl.a
gnulibc_version='2.19'
Dynamic Linking:
dlsrc=dl_dlopen.xs, dlext=so, d_dlsymun=undef, ccdlflags='-Wl,-E'
cccdlflags='-fpic', lddlflags='-shared -L/usr/local/lib'
Characteristics of this binary (from libperl):
Compile-time options: MULTIPLICITY USE_ITHREADS USE_64_BIT_INT
USE_64_BIT_ALL USE_LARGE_FILES
PERL_IMPLICIT_CONTEXT
Built under linux
Compiled at Nov 15 2014 04:59:30
%ENV:
PERL5LIB="/home/njh/.cpan/build/ExtUtils-PkgConfig-1.16-0/blib/arch:/home/njh/.cpan/build/ExtUtils-PkgConfig-1.16-0/blib/lib:/home/njh/.cpan/build/ExtUtils-Constant-0.25-0/blib/arch:/home/njh/.cpan/build/ExtUtils-Constant-0.25-0/blib/lib"
PERL5OPT=""
PERL5_CPANPLUS_IS_RUNNING="23151"
PERL5_CPAN_IS_RUNNING="23151"
PERLBREW_BASHRC_VERSION="0.75"
PERLBREW_HOME="/home/njh/.perlbrew"
PERLBREW_MANPATH="/home/njh/perl5/perlbrew/perls/perl-5.8.7/man"
PERLBREW_PATH="/home/njh/perl5/perlbrew/bin:/home/njh/perl5/perlbrew/perls/perl-5.8.7/bin"
PERLBREW_PERL="perl-5.8.7"
PERLBREW_ROOT="/home/njh/perl5/perlbrew"
PERLBREW_VERSION="0.75"
@INC:
/home/njh/.cpan/build/ExtUtils-PkgConfig-1.16-0/blib/arch
/home/njh/.cpan/build/ExtUtils-PkgConfig-1.16-0/blib/lib
/home/njh/.cpan/build/ExtUtils-Constant-0.25-0/blib/arch
/home/njh/.cpan/build/ExtUtils-Constant-0.25-0/blib/lib
/home/njh/perl5/perlbrew/perls/perl-5.8.7/lib/5.8.7/x86_64-linux-thread-multi
/home/njh/perl5/perlbrew/perls/perl-5.8.7/lib/5.8.7
/home/njh/perl5/perlbrew/perls/perl-5.8.7/lib/site_perl/5.8.7/x86_64-linux-thread-multi
/home/njh/perl5/perlbrew/perls/perl-5.8.7/lib/site_perl/5.8.7
/home/njh/perl5/perlbrew/perls/perl-5.8.7/lib/site_perl
.