Filter-Crypto v2.10 Perl 5 v5.37.11 x86_64-linux

Status
Pass
From
Slaven Rezić
Dist
Filter-Crypto v2.10
Platform
Perl 5 v5.37.11 x86_64-linux
Date
2023-07-02 10:28:30
ID
30a1aef4-18c3-11ee-9c5e-86186e8775ea
This distribution has been tested as part of the CPAN Testers
project, supporting the Perl programming language.  See
http://wiki.cpantesters.org/ for more information or email
questions to cpan-testers-discuss@perl.org


--
Dear Steve Hay,

This is a computer-generated report for Filter-Crypto-2.10
on perl 5.37.11, created by CPAN-Reporter-1.2019.

Thank you for uploading your work to CPAN.  Congratulations!
All tests were successful.

Sections of this report:

    * Tester comments
    * Program output
    * Prerequisites
    * Environment and other context

------------------------------
TESTER COMMENTS
------------------------------

Additional comments from tester:

none provided

------------------------------
PROGRAM OUTPUT
------------------------------

Output from '/usr/bin/make test':

make[1]: Entering directory '/home/cpansand/.cpan/build/2023070210/Filter-Crypto-2.10-0/CryptFile'
"/opt/perl-5.37.11/bin/perl5.37.11" -MExtUtils::Command::MM -e 'cp_nonempty' -- CryptFile.bs ../blib/arch/auto/Filter/Crypto/CryptFile/CryptFile.bs 644
Manifying 1 pod document
make[1]: Leaving directory '/home/cpansand/.cpan/build/2023070210/Filter-Crypto-2.10-0/CryptFile'
make[1]: Entering directory '/home/cpansand/.cpan/build/2023070210/Filter-Crypto-2.10-0/Decrypt'
"/opt/perl-5.37.11/bin/perl5.37.11" -MExtUtils::Command::MM -e 'cp_nonempty' -- Decrypt.bs ../blib/arch/auto/Filter/Crypto/Decrypt/Decrypt.bs 644
Manifying 1 pod document
make[1]: Leaving directory '/home/cpansand/.cpan/build/2023070210/Filter-Crypto-2.10-0/Decrypt'
PERL_DL_NONLAZY=1 "/opt/perl-5.37.11/bin/perl5.37.11" "-MExtUtils::Command::MM" "-MTest::Harness" "-e" "undef *Test::Harness::Switches; test_harness(0, 'blib/lib', 'blib/arch')" t/*.t
t/01_imports_01.t .... ok
t/01_imports_02.t .... ok
t/01_imports_03.t .... ok
t/01_imports_04.t .... ok
t/02_function.t ...... ok
t/03_script.t ........ ok
t/04_par.t ........... skipped: PAR::Filter required to test PAR::Filter::Crypto
t/05_errstr.t ........ ok
t/06_changes.t ....... skipped: Author testing only
t/07_critic.t ........ skipped: Author testing only
t/08_pod.t ........... skipped: Author testing only
t/09_pod_coverage.t .. skipped: Author testing only
All tests successful.
Files=12, Tests=432,  8 wallclock secs ( 0.08 usr  0.02 sys +  6.95 cusr  1.46 csys =  8.51 CPU)
Result: PASS

------------------------------
PREREQUISITES
------------------------------

Prerequisite modules loaded:

requires:

    Module                Need     Have     
    --------------------- -------- ---------
    Carp                  0        1.54     
    Config                0        5.037011 
    constant              0        1.33     
    Cwd                   0        3.89     
    Exporter              0        5.77     
    ExtUtils::MakeMaker   6.66     7.70     
    Fcntl                 0        1.15     
    File::Basename        0        2.86     
    File::Copy            0        2.41     
    File::Find            0        1.43     
    File::Spec::Functions 0        3.88     
    File::Temp            0        0.2311   
    Getopt::Long          0        2.54     
    perl                  5.008001 5.037011 
    Pod::Usage            1.15     2.03     
    Scalar::Util          0        1.63     
    strict                0        1.12     
    Text::ParseWords      0        3.31     
    Text::Wrap            0        2023.0511
    warnings              0        1.64     
    XSLoader              0        0.32     

build_requires:

    Module                Need     Have     
    --------------------- -------- ---------
    blib                  0        1.07     
    ExtUtils::MakeMaker   0        7.70     
    File::Path            0        2.18     
    FindBin               0        1.53     
    Test::More            0        1.302195 

configure_requires:

    Module                Need     Have     
    --------------------- -------- ---------
    Carp                  0        1.54     
    Config                0        5.037011 
    constant              0        1.33     
    Cwd                   0        3.89     
    ExtUtils::MakeMaker   6.66     7.70     
    Fcntl                 0        1.15     
    File::Basename        0        2.86     
    File::Copy            0        2.41     
    File::Spec::Functions 0        3.88     
    Getopt::Long          0        2.54     
    perl                  5.008001 5.037011 
    Pod::Usage            1.15     2.03     
    strict                0        1.12     
    Text::Wrap            0        2023.0511
    warnings              0        1.64     


------------------------------
ENVIRONMENT AND OTHER CONTEXT
------------------------------

Environment variables:

    LANG = en_US.UTF-8
    PATH = /usr/local/bin:/usr/bin:/bin:/usr/local/sbin:/usr/sbin:/sbin:/home/cpansand/bin/linux-gnu:/home/cpansand/bin/sh:/home/cpansand/bin:/usr/games:/home/cpansand/devel:/home/eserte/src/srezic-misc/scripts
    PERL5LIB = 
    PERL5OPT = 
    PERL5_CPANPLUS_IS_RUNNING = 482585
    PERL5_CPAN_IS_RUNNING = 482585
    PERL5_CPAN_IS_RUNNING_IN_RECURSION = 482524,482585
    PERLDOC = -MPod::Perldoc::ToTextOverstrike
    PERL_BATCH = yes
    PERL_CANARY_STABILITY_NOPROMPT = 1
    PERL_CPAN_REPORTER_CONFIG = /var/tmp/cpansmoker-1023/2023070210/cpanreporter_000_config.ini
    PERL_EXTUTILS_AUTOINSTALL = --defaultdeps
    PERL_USE_UNSAFE_INC = 1
    SHELL = /usr/bin/zsh
    TERM = screen
    TMPDIR = /var/tmp/cpansmoker-1023/2023070210

Perl special variables (and OS-specific diagnostics, for MSWin32):

    $^X = /opt/perl-5.37.11/bin/perl5.37.11
    $UID/$EUID = 1023 / 1023
    $GID = 1023 1023
    $EGID = 1023 1023

Perl module toolchain versions installed:

    Module              Have    
    ------------------- --------
    CPAN                2.34    
    CPAN::Meta          2.150010
    Cwd                 3.89    
    ExtUtils::CBuilder  0.280238
    ExtUtils::Command   7.70    
    ExtUtils::Install   2.22    
    ExtUtils::MakeMaker 7.70    
    ExtUtils::Manifest  1.73    
    ExtUtils::ParseXS   3.50    
    File::Spec          3.88    
    JSON                4.10    
    JSON::PP            4.16    
    Module::Build       0.4234  
    Module::Signature   n/a     
    Parse::CPAN::Meta   2.150010
    Test2               1.302195
    Test::Harness       3.44    
    Test::More          1.302195
    YAML                1.30    
    YAML::Syck          1.34    
    version             0.9929  


--

Summary of my perl5 (revision 5 version 37 subversion 11) configuration:
   
  Platform:
    osname=linux
    osvers=6.2.11-100.fc36.x86_64
    archname=x86_64-linux
    uname='linux cloud4.bbbike.org 6.2.11-100.fc36.x86_64 #1 smp preempt_dynamic thu apr 13 20:28:38 utc 2023 x86_64 x86_64 x86_64 gnulinux '
    config_args='-ds -e -Dprefix=/opt/perl-5.37.11 -Dusedevel -Dusemallocwrap=no -Dcf_email=srezic@cpan.org'
    hint=recommended
    useposix=true
    d_sigaction=define
    useithreads=undef
    usemultiplicity=undef
    use64bitint=define
    use64bitall=define
    uselongdouble=undef
    usemymalloc=n
    default_inc_excludes_dot=define
  Compiler:
    cc='cc'
    ccflags ='-fwrapv -fno-strict-aliasing -pipe -fstack-protector-strong -I/usr/local/include -D_LARGEFILE_SOURCE -D_FILE_OFFSET_BITS=64 -D_FORTIFY_SOURCE=2'
    optimize='-O2'
    cppflags='-fwrapv -fno-strict-aliasing -pipe -fstack-protector-strong -I/usr/local/include'
    ccversion=''
    gccversion='12.2.1 20221121 (Red Hat 12.2.1-4)'
    gccosandvers=''
    intsize=4
    longsize=8
    ptrsize=8
    doublesize=8
    byteorder=12345678
    doublekind=3
    d_longlong=define
    longlongsize=8
    d_longdbl=define
    longdblsize=16
    longdblkind=3
    ivtype='long'
    ivsize=8
    nvtype='double'
    nvsize=8
    Off_t='off_t'
    lseeksize=8
    alignbytes=8
    prototype=define
  Linker and Libraries:
    ld='cc'
    ldflags =' -fstack-protector-strong -L/usr/local/lib'
    libpth=/usr/local/lib /usr/lib /usr/lib64 /usr/local/lib64
    libs=-lpthread -ldb -ldl -lm -lcrypt -lutil -lc
    perllibs=-lpthread -ldl -lm -lcrypt -lutil -lc
    libc=/lib/../lib64/libc.so.6
    so=so
    useshrplib=false
    libperl=libperl.a
    gnulibc_version='2.35'
  Dynamic Linking:
    dlsrc=dl_dlopen.xs
    dlext=so
    d_dlsymun=undef
    ccdlflags='-Wl,-E'
    cccdlflags='-fPIC'
    lddlflags='-shared -O2 -L/usr/local/lib -fstack-protector-strong'


Characteristics of this binary (from libperl): 
  Compile-time options:
    HAS_LONG_DOUBLE
    HAS_STRTOLD
    HAS_TIMES
    PERLIO_LAYERS
    PERL_COPY_ON_WRITE
    PERL_DONT_CREATE_GVSV
    PERL_HASH_FUNC_SIPHASH13
    PERL_HASH_USE_SBOX32
    PERL_OP_PARENT
    PERL_PRESERVE_IVUV
    PERL_USE_DEVEL
    PERL_USE_SAFE_PUTENV
    USE_64_BIT_ALL
    USE_64_BIT_INT
    USE_LARGE_FILES
    USE_LOCALE
    USE_LOCALE_COLLATE
    USE_LOCALE_CTYPE
    USE_LOCALE_NUMERIC
    USE_LOCALE_TIME
    USE_PERLIO
    USE_PERL_ATOF
  Built under linux
  Compiled at May  1 2023 18:33:02
  %ENV:
    PERL5LIB=""
    PERL5OPT=""
    PERL5_CPANPLUS_IS_RUNNING="482585"
    PERL5_CPAN_IS_RUNNING="482585"
    PERL5_CPAN_IS_RUNNING_IN_RECURSION="482524,482585"
    PERLDOC="-MPod::Perldoc::ToTextOverstrike"
    PERL_BATCH="yes"
    PERL_CANARY_STABILITY_NOPROMPT="1"
    PERL_CPAN_REPORTER_CONFIG="/var/tmp/cpansmoker-1023/2023070210/cpanreporter_000_config.ini"
    PERL_EXTUTILS_AUTOINSTALL="--defaultdeps"
    PERL_USE_UNSAFE_INC="1"
  @INC:
    /opt/perl-5.37.11/lib/site_perl/5.37.11/x86_64-linux
    /opt/perl-5.37.11/lib/site_perl/5.37.11
    /opt/perl-5.37.11/lib/5.37.11/x86_64-linux
    /opt/perl-5.37.11/lib/5.37.11
    .