Dist-Zilla-Plugin-Test-UseAllModules v0.002 Perl 5 v5.24.0 x86_64-linux

Status
Pass
From
Slaven Rezić (SREZIC)
Dist
Dist-Zilla-Plugin-Test-UseAllModules v0.002
Platform
Perl 5 v5.24.0 x86_64-linux
Date
2017-10-06 13:13:48
ID
30a1bbb4-aa98-11e7-ad61-f897c3dad5ef
This distribution has been tested as part of the CPAN Testers
project, supporting the Perl programming language.  See
http://wiki.cpantesters.org/ for more information or email
questions to cpan-testers-discuss@perl.org


--
Dear Alexei Znamensky,

This is a computer-generated report for Dist-Zilla-Plugin-Test-UseAllModules-0.002
on perl 5.24.0, created by CPAN-Reporter-1.2018.

Thank you for uploading your work to CPAN.  Congratulations!
All tests were successful.

Sections of this report:

    * Tester comments
    * Program output
    * Prerequisites
    * Environment and other context

------------------------------
TESTER COMMENTS
------------------------------

Additional comments from tester:

none provided

------------------------------
PROGRAM OUTPUT
------------------------------

Output from 'make test':

PERL_DL_NONLAZY=1 "/opt/perl-5.24.0/bin/perl5.24.0" "-MExtUtils::Command::MM" "-MTest::Harness" "-e" "undef *Test::Harness::Switches; test_harness(0, 'blib/lib', 'blib/arch')" t/*.t
t/00-compile.t ................ skipped: no tests to run
t/00-load.t ................... ok
# 
# 
# perl: v5.24.0 (wanted 5.006) on linux from /opt/perl-5.24.0/bin/perl5.24.0
# 
# Dist::Zilla::Plugin::InlineFiles              => 6.010      (want any version)
# Dist::Zilla::Role::PrereqSource               => 6.010      (want any version)
# English                                       => 1.10       (want any version)
# ExtUtils::MakeMaker                           => 7.3        (want 6.30)   
# File::Find                                    => 1.34       (want any version)
# File::Temp                                    => 0.2304     (want any version)
# Moose                                         => 2.2006     (want any version)
# Test::More                                    => 1.302086   (want 0.88)   
# Test::UseAllModules                           => 0.17       (want 0.13)   
# namespace::autoclean                          => 0.28       (want any version)
# 
# Thanks for using my code.  I hope it works for you.
# If not, please try and include this output in the bug report.
# That will help me reproduce the issue and solve you problem.
# 
t/000-report-versions-tiny.t .. ok
t/author-critic.t ............. skipped: these tests are for testing by the author
t/release-dist-manifest.t ..... skipped: these tests are for release candidate testing
t/release-distmeta.t .......... skipped: these tests are for release candidate testing
t/release-eol.t ............... skipped: these tests are for release candidate testing
t/release-kwalitee.t .......... skipped: these tests are for release candidate testing
t/release-meta-json.t ......... skipped: these tests are for release candidate testing
t/release-minimum-version.t ... skipped: these tests are for release candidate testing
t/release-mojibake.t .......... skipped: these tests are for release candidate testing
t/release-no-tabs.t ........... skipped: these tests are for release candidate testing
t/release-pod-coverage.t ...... skipped: these tests are for release candidate testing
t/release-pod-linkcheck.t ..... skipped: these tests are for release candidate testing
t/release-pod-syntax.t ........ skipped: these tests are for release candidate testing
t/release-portability.t ....... skipped: these tests are for release candidate testing
t/release-test-version.t ...... skipped: these tests are for release candidate testing
t/release-unused-vars.t ....... skipped: these tests are for release candidate testing
All tests successful.
Files=18, Tests=2,  2 wallclock secs ( 0.04 usr  0.07 sys +  1.20 cusr  0.29 csys =  1.60 CPU)
Result: PASS

------------------------------
PREREQUISITES
------------------------------

Prerequisite modules loaded:

requires:

    Module                           Need  Have    
    -------------------------------- ----- --------
    Dist::Zilla::Plugin::InlineFiles 0     6.010   
    Dist::Zilla::Role::PrereqSource  0     6.010   
    Moose                            0     2.2006  
    namespace::autoclean             0     0.28    
    Test::UseAllModules              0.13  0.17    

build_requires:

    Module                           Need  Have    
    -------------------------------- ----- --------
    English                          0     1.10    
    File::Find                       0     1.34    
    File::Temp                       0     0.2304  
    perl                             5.006 5.024000
    Test::More                       0.88  1.302086
    Test::UseAllModules              0     0.17    

configure_requires:

    Module                           Need  Have    
    -------------------------------- ----- --------
    ExtUtils::MakeMaker              6.30  7.30    


------------------------------
ENVIRONMENT AND OTHER CONTEXT
------------------------------

Environment variables:

    LANG = en_US.UTF-8
    PATH = /usr/local/bin:/usr/bin:/bin:/usr/local/sbin:/usr/sbin:/sbin:/home/cpansand/bin/linux-gnu:/home/cpansand/bin/sh:/home/cpansand/bin:/usr/games:/home/cpansand/devel:/home/eserte/src/srezic-misc/scripts
    PERL5LIB = /home/cpansand/.cpan/build/2017100612/Dist-Zilla-Plugin-ReportVersions-Tiny-1.12-IMvMLp/blib/arch:/home/cpansand/.cpan/build/2017100612/Dist-Zilla-Plugin-ReportVersions-Tiny-1.12-IMvMLp/blib/lib:/home/cpansand/.cpan/build/2017100612/Dist-Zilla-Plugin-PerlTidy-0.21-yQfJMI/blib/arch:/home/cpansand/.cpan/build/2017100612/Dist-Zilla-Plugin-PerlTidy-0.21-yQfJMI/blib/lib:/home/cpansand/.cpan/build/2017100612/Dist-Zilla-Plugin-ReadmeFromPod-0.35-KaxZqz/blib/arch:/home/cpansand/.cpan/build/2017100612/Dist-Zilla-Plugin-ReadmeFromPod-0.35-KaxZqz/blib/lib:/home/cpansand/.cpan/build/2017100612/Pod-Readme-v1.1.2-5CFC4L/blib/arch:/home/cpansand/.cpan/build/2017100612/Pod-Readme-v1.1.2-5CFC4L/blib/lib
    PERL5OPT = 
    PERL5_CPANPLUS_IS_RUNNING = 6767
    PERL5_CPAN_IS_RUNNING = 6767
    PERL5_CPAN_IS_RUNNING_IN_RECURSION = 6419,6767
    PERLDOC = -MPod::Perldoc::ToTextOverstrike
    PERL_BATCH = yes
    PERL_CANARY_STABILITY_NOPROMPT = 1
    PERL_CPAN_REPORTER_CONFIG = /var/tmp/cpansmoker-1023/2017100612/cpanreporter_000_config.ini
    PERL_EXTUTILS_AUTOINSTALL = --defaultdeps
    SHELL = /bin/zsh
    TERM = screen
    TMPDIR = /var/tmp/cpansmoker-1023/2017100612

Perl special variables (and OS-specific diagnostics, for MSWin32):

    $^X = /opt/perl-5.24.0/bin/perl5.24.0
    $UID/$EUID = 1023 / 1023
    $GID = 1023 1023
    $EGID = 1023 1023

Perl module toolchain versions installed:

    Module              Have    
    ------------------- --------
    CPAN                2.11    
    CPAN::Meta          2.150005
    Cwd                 3.63    
    ExtUtils::CBuilder  0.280226
    ExtUtils::Command   7.30    
    ExtUtils::Install   2.06    
    ExtUtils::MakeMaker 7.30    
    ExtUtils::Manifest  1.70    
    ExtUtils::ParseXS   3.31    
    File::Spec          3.63    
    JSON                2.94    
    JSON::PP            2.94    
    Module::Build       0.4224  
    Module::Signature   0.81    
    Parse::CPAN::Meta   1.4417  
    Test::Harness       3.36    
    Test::More          1.302086
    YAML                1.23    
    YAML::Syck          1.30    
    version             0.9916  


--

Summary of my perl5 (revision 5 version 24 subversion 0) configuration:
   
  Platform:
    osname=linux, osvers=2.6.32-696.3.1.el6.x86_64, archname=x86_64-linux
    uname='linux centos6 2.6.32-696.3.1.el6.x86_64 #1 smp tue may 30 19:52:55 utc 2017 x86_64 x86_64 x86_64 gnulinux '
    config_args='-ds -e -Dprefix=/opt/perl-5.24.0 -Dcf_email=srezic@cpan.org'
    hint=recommended, useposix=true, d_sigaction=define
    useithreads=undef, usemultiplicity=undef
    use64bitint=define, use64bitall=define, uselongdouble=undef
    usemymalloc=n, bincompat5005=undef
  Compiler:
    cc='cc', ccflags ='-fwrapv -fno-strict-aliasing -pipe -fstack-protector -I/usr/local/include -D_LARGEFILE_SOURCE -D_FILE_OFFSET_BITS=64 -D_FORTIFY_SOURCE=2',
    optimize='-O2',
    cppflags='-fwrapv -fno-strict-aliasing -pipe -fstack-protector -I/usr/local/include'
    ccversion='', gccversion='4.4.7 20120313 (Red Hat 4.4.7-18)', gccosandvers=''
    intsize=4, longsize=8, ptrsize=8, doublesize=8, byteorder=12345678, doublekind=3
    d_longlong=define, longlongsize=8, d_longdbl=define, longdblsize=16, longdblkind=3
    ivtype='long', ivsize=8, nvtype='double', nvsize=8, Off_t='off_t', lseeksize=8
    alignbytes=8, prototype=define
  Linker and Libraries:
    ld='cc', ldflags =' -fstack-protector -L/usr/local/lib'
    libpth=/usr/local/lib /usr/lib /lib/../lib64 /usr/lib/../lib64 /lib /lib64 /usr/lib64 /usr/local/lib64
    libs=-lpthread -lnsl -lgdbm -ldb -ldl -lm -lcrypt -lutil -lc
    perllibs=-lpthread -lnsl -ldl -lm -lcrypt -lutil -lc
    libc=libc-2.12.so, so=so, useshrplib=false, libperl=libperl.a
    gnulibc_version='2.12'
  Dynamic Linking:
    dlsrc=dl_dlopen.xs, dlext=so, d_dlsymun=undef, ccdlflags='-Wl,-E'
    cccdlflags='-fPIC', lddlflags='-shared -O2 -L/usr/local/lib -fstack-protector'


Characteristics of this binary (from libperl): 
  Compile-time options: HAS_TIMES PERLIO_LAYERS PERL_COPY_ON_WRITE
                        PERL_DONT_CREATE_GVSV
                        PERL_HASH_FUNC_ONE_AT_A_TIME_HARD PERL_MALLOC_WRAP
                        PERL_PRESERVE_IVUV USE_64_BIT_ALL USE_64_BIT_INT
                        USE_LARGE_FILES USE_LOCALE USE_LOCALE_COLLATE
                        USE_LOCALE_CTYPE USE_LOCALE_NUMERIC USE_LOCALE_TIME
                        USE_PERLIO USE_PERL_ATOF
  Built under linux
  Compiled at Jun 20 2017 21:17:18
  %ENV:
    PERL5LIB="/home/cpansand/.cpan/build/2017100612/Dist-Zilla-Plugin-ReportVersions-Tiny-1.12-IMvMLp/blib/arch:/home/cpansand/.cpan/build/2017100612/Dist-Zilla-Plugin-ReportVersions-Tiny-1.12-IMvMLp/blib/lib:/home/cpansand/.cpan/build/2017100612/Dist-Zilla-Plugin-PerlTidy-0.21-yQfJMI/blib/arch:/home/cpansand/.cpan/build/2017100612/Dist-Zilla-Plugin-PerlTidy-0.21-yQfJMI/blib/lib:/home/cpansand/.cpan/build/2017100612/Dist-Zilla-Plugin-ReadmeFromPod-0.35-KaxZqz/blib/arch:/home/cpansand/.cpan/build/2017100612/Dist-Zilla-Plugin-ReadmeFromPod-0.35-KaxZqz/blib/lib:/home/cpansand/.cpan/build/2017100612/Pod-Readme-v1.1.2-5CFC4L/blib/arch:/home/cpansand/.cpan/build/2017100612/Pod-Readme-v1.1.2-5CFC4L/blib/lib"
    PERL5OPT=""
    PERL5_CPANPLUS_IS_RUNNING="6767"
    PERL5_CPAN_IS_RUNNING="6767"
    PERL5_CPAN_IS_RUNNING_IN_RECURSION="6419,6767"
    PERLDOC="-MPod::Perldoc::ToTextOverstrike"
    PERL_BATCH="yes"
    PERL_CANARY_STABILITY_NOPROMPT="1"
    PERL_CPAN_REPORTER_CONFIG="/var/tmp/cpansmoker-1023/2017100612/cpanreporter_000_config.ini"
    PERL_EXTUTILS_AUTOINSTALL="--defaultdeps"
  @INC:
    /home/cpansand/.cpan/build/2017100612/Dist-Zilla-Plugin-ReportVersions-Tiny-1.12-IMvMLp/blib/arch
    /home/cpansand/.cpan/build/2017100612/Dist-Zilla-Plugin-ReportVersions-Tiny-1.12-IMvMLp/blib/lib
    /home/cpansand/.cpan/build/2017100612/Dist-Zilla-Plugin-PerlTidy-0.21-yQfJMI/blib/arch
    /home/cpansand/.cpan/build/2017100612/Dist-Zilla-Plugin-PerlTidy-0.21-yQfJMI/blib/lib
    /home/cpansand/.cpan/build/2017100612/Dist-Zilla-Plugin-ReadmeFromPod-0.35-KaxZqz/blib/arch
    /home/cpansand/.cpan/build/2017100612/Dist-Zilla-Plugin-ReadmeFromPod-0.35-KaxZqz/blib/lib
    /home/cpansand/.cpan/build/2017100612/Pod-Readme-v1.1.2-5CFC4L/blib/arch
    /home/cpansand/.cpan/build/2017100612/Pod-Readme-v1.1.2-5CFC4L/blib/lib
    /opt/perl-5.24.0/lib/site_perl/5.24.0/x86_64-linux
    /opt/perl-5.24.0/lib/site_perl/5.24.0
    /opt/perl-5.24.0/lib/5.24.0/x86_64-linux
    /opt/perl-5.24.0/lib/5.24.0
    .