MooseX-Role-BuildInstanceOf v0.08 Perl 5 v5.36.3 amd64-openbsd

Status
Pass
From
Alceu Rodrigues de Freitas Junior
Dist
MooseX-Role-BuildInstanceOf v0.08
Platform
Perl 5 v5.36.3 amd64-openbsd
Date
2024-05-09 13:36:50
ID
30a28bf8-0e09-11ef-abc3-f2abe9c7712c
This distribution has been tested as part of the CPAN Testers
project, supporting the Perl programming language.  See
http://wiki.cpantesters.org/ for more information or email
questions to cpan-testers-discuss@perl.org


--
Dear John Napiorkowski,

This is a computer-generated report for MooseX-Role-BuildInstanceOf-0.08
on perl 5.36.3, created by CPAN-Reporter-1.2019.

Thank you for uploading your work to CPAN.  Congratulations!
All tests were successful.

Sections of this report:

    * Tester comments
    * Program output
    * Prerequisites
    * Environment and other context

------------------------------
TESTER COMMENTS
------------------------------

Additional comments from tester:

this report is from an automated smoke testing program
and was not reviewed by a human for accuracy

If you would like to try to reproduce this report results or even to work with
the same environment for a bug fix, please refer to
https://github.com/glasswalk3r/cpan-openbsd-smoker to see how to use the
prebuilt virtual machines available.

------------------------------
PROGRAM OUTPUT
------------------------------

Output from '/usr/bin/make test':

PERL_DL_NONLAZY=1 "/usr/bin/perl" "-MExtUtils::Command::MM" "-MTest::Harness" "-e" "undef *Test::Harness::Switches; test_harness(0, 'blib/lib', 'blib/arch')" t/*.t
t/01-load.t ............... ok
Class::MOP::load_class is deprecated at /home/goku/perl5/lib/perl5/amd64-openbsd/Class/MOP.pm line 69.
	Class::MOP::load_class("Album::Storage::File") called at /mnt/cpan_build_dir/goku/MooseX-Role-BuildInstanceOf-0.08-0/blib/lib/MooseX/Role/BuildInstanceOf.pm line 15
	MooseX::Role::BuildInstanceOf::__ANON__("Album::Storage::File") called at /home/goku/perl5/lib/perl5/amd64-openbsd/Moose/Meta/TypeCoercion.pm line 65
	Moose::Meta::TypeCoercion::__ANON__("Album::Storage::File") called at /home/goku/perl5/lib/perl5/amd64-openbsd/Moose/Meta/TypeCoercion.pm line 100
	Moose::Meta::TypeCoercion::coerce(Moose::Meta::TypeCoercion=HASH(0x42a61a4daa8), "Album::Storage::File") called at /home/goku/perl5/lib/perl5/amd64-openbsd/Moose/Meta/TypeConstraint.pm line 145
	Moose::Meta::TypeConstraint::coerce(Moose::Meta::TypeConstraint=HASH(0x42a61a4d2e0), "Album::Storage::File") called at /home/goku/perl5/lib/perl5/amd64-openbsd/Moose/Meta/Attribute.pm line 1315
	Moose::Meta::Attribute::_coerce_and_verify(Moose::Meta::Attribute=HASH(0x42a61a19178), "Album::Storage::File", Album=HASH(0x4298d3e5a48)) called at /home/goku/perl5/lib/perl5/amd64-openbsd/Moose/Meta/Attribute.pm line 517
	Moose::Meta::Attribute::initialize_instance_slot(Moose::Meta::Attribute=HASH(0x42a61a19178), Moose::Meta::Instance=HASH(0x429fcec4b68), Album=HASH(0x4298d3e5a48), HASH(0x42a470359a0)) called at /home/goku/perl5/lib/perl5/amd64-openbsd/Class/MOP/Class.pm line 526
	Class::MOP::Class::_construct_instance(Moose::Meta::Class=HASH(0x42a15a859d0), HASH(0x42a470359a0)) called at /home/goku/perl5/lib/perl5/amd64-openbsd/Class/MOP/Class.pm line 496
	Class::MOP::Class::new_object(Moose::Meta::Class=HASH(0x42a15a859d0), HASH(0x42a470359a0)) called at /home/goku/perl5/lib/perl5/amd64-openbsd/Moose/Meta/Class.pm line 275
	Moose::Meta::Class::new_object(Moose::Meta::Class=HASH(0x42a15a859d0), HASH(0x42a470359a0)) called at /home/goku/perl5/lib/perl5/amd64-openbsd/Moose/Object.pm line 24
	Moose::Object::new("Album", "storage_args", ARRAY(0x42a4701a130), "storage_class", "Album::Storage::File") called at t/02-basic.t line 9
Class::MOP::load_class is deprecated at /home/goku/perl5/lib/perl5/amd64-openbsd/Class/MOP.pm line 69.
	Class::MOP::load_class("Album::Image") called at t/lib/Album/ResourceTypes.pm line 18
	Album::ResourceTypes::__ANON__(ARRAY(0x4298d3e5be0)) called at /home/goku/perl5/lib/perl5/amd64-openbsd/Moose/Meta/TypeCoercion.pm line 65
	Moose::Meta::TypeCoercion::__ANON__(ARRAY(0x4298d3e5be0)) called at /home/goku/perl5/lib/perl5/amd64-openbsd/Moose/Meta/TypeCoercion.pm line 100
	Moose::Meta::TypeCoercion::coerce(Moose::Meta::TypeCoercion=HASH(0x42a10a08388), ARRAY(0x4298d3e5be0)) called at /home/goku/perl5/lib/perl5/amd64-openbsd/Moose/Meta/TypeConstraint.pm line 145
	Moose::Meta::TypeConstraint::coerce(Moose::Meta::TypeConstraint::Parameterizable=HASH(0x429c967a508), ARRAY(0x4298d3e5be0)) called at /home/goku/perl5/lib/perl5/amd64-openbsd/Moose/Meta/Attribute.pm line 1315
	Moose::Meta::Attribute::_coerce_and_verify(Moose::Meta::Attribute=HASH(0x42a109fceb0), ARRAY(0x4298d3e5be0), Album::ResourceTypes=HASH(0x429fceb0d18)) called at /home/goku/perl5/lib/perl5/amd64-openbsd/Moose/Meta/Attribute.pm line 517
	Moose::Meta::Attribute::initialize_instance_slot(Moose::Meta::Attribute=HASH(0x42a109fceb0), Moose::Meta::Instance=HASH(0x42a10a07e80), Album::ResourceTypes=HASH(0x429fceb0d18), HASH(0x42a23c4ee50)) called at /home/goku/perl5/lib/perl5/amd64-openbsd/Class/MOP/Class.pm line 526
	Class::MOP::Class::_construct_instance(Moose::Meta::Class=HASH(0x429c96695b0), HASH(0x42a23c4ee50)) called at /home/goku/perl5/lib/perl5/amd64-openbsd/Class/MOP/Class.pm line 496
	Class::MOP::Class::new_object(Moose::Meta::Class=HASH(0x429c96695b0), HASH(0x42a23c4ee50)) called at /home/goku/perl5/lib/perl5/amd64-openbsd/Moose/Meta/Class.pm line 275
	Moose::Meta::Class::new_object(Moose::Meta::Class=HASH(0x429c96695b0), HASH(0x42a23c4ee50)) called at /home/goku/perl5/lib/perl5/amd64-openbsd/Moose/Object.pm line 24
	Moose::Object::new("Album::ResourceTypes", "resources", ARRAY(0x4298d3e5be0)) called at inline delegation in Album for resource_types_class->new (attribute declared in /mnt/cpan_build_dir/goku/MooseX-Role-BuildInstanceOf-0.08-0/blib/lib/MooseX/Role/BuildInstanceOf.pm at line 93) line 18
	Album::create_resource_types(Album=HASH(0x4298d3e5a48), "resources", ARRAY(0x4298d3e5be0)) called at /mnt/cpan_build_dir/goku/MooseX-Role-BuildInstanceOf-0.08-0/blib/lib/MooseX/Role/BuildInstanceOf.pm line 196
	MooseX::Role::BuildInstanceOf::__ANON__::SERIAL::3::_build_resource_types(Album=HASH(0x4298d3e5a48)) called at reader Album::resource_types (defined at /mnt/cpan_build_dir/goku/MooseX-Role-BuildInstanceOf-0.08-0/blib/lib/MooseX/Role/BuildInstanceOf.pm line 176) line 8
	Album::resource_types(Album=HASH(0x4298d3e5a48)) called at t/02-basic.t line 17
t/02-basic.t .............. ok
Class::MOP::load_class is deprecated at /home/goku/perl5/lib/perl5/amd64-openbsd/Class/MOP.pm line 69.
	Class::MOP::load_class("Foo::Bar") called at /mnt/cpan_build_dir/goku/MooseX-Role-BuildInstanceOf-0.08-0/blib/lib/MooseX/Role/BuildInstanceOf.pm line 15
	MooseX::Role::BuildInstanceOf::__ANON__("Foo::Bar") called at /home/goku/perl5/lib/perl5/amd64-openbsd/Moose/Meta/TypeCoercion.pm line 65
	Moose::Meta::TypeCoercion::__ANON__("Foo::Bar") called at reader Foo::bar_class (defined at /mnt/cpan_build_dir/goku/MooseX-Role-BuildInstanceOf-0.08-0/blib/lib/MooseX/Role/BuildInstanceOf.pm line 93) line 15
	Foo::bar_class(Foo=HASH(0x41d445a9598)) called at inline delegation in Foo for bar_class->new (attribute declared in /mnt/cpan_build_dir/goku/MooseX-Role-BuildInstanceOf-0.08-0/blib/lib/MooseX/Role/BuildInstanceOf.pm at line 93) line 4
	Foo::create_bar(Foo=HASH(0x41d445a9598), "parent", Foo=HASH(0x41d445a9598), "thingy", "toaster", "that", "stuff") called at /mnt/cpan_build_dir/goku/MooseX-Role-BuildInstanceOf-0.08-0/blib/lib/MooseX/Role/BuildInstanceOf.pm line 196
	MooseX::Role::BuildInstanceOf::__ANON__::SERIAL::1::_build_bar(Foo=HASH(0x41d445a9598)) called at reader Foo::bar (defined at /mnt/cpan_build_dir/goku/MooseX-Role-BuildInstanceOf-0.08-0/blib/lib/MooseX/Role/BuildInstanceOf.pm line 176) line 8
	Foo::bar(Foo=HASH(0x41d445a9598)) called at t/inherit-arguments.t line 15
t/inherit-arguments.t ..... ok
t/release-eol.t ........... skipped: these tests are for release candidate testing
t/release-no-tabs.t ....... skipped: these tests are for release candidate testing
t/release-pod-coverage.t .. skipped: these tests are for release candidate testing
t/release-pod-syntax.t .... skipped: these tests are for release candidate testing
All tests successful.
Files=7, Tests=13,  1 wallclock secs ( 0.03 usr  0.03 sys +  0.92 cusr  0.13 csys =  1.11 CPU)
Result: PASS

------------------------------
PREREQUISITES
------------------------------

Prerequisite modules loaded:

requires:

    Module                       Need Have    
    ---------------------------- ---- --------
    Moose::Util::TypeConstraints 0    2.2207  
    MooseX::Role::Parameterized  0.13 1.11    

build_requires:

    Module                       Need Have    
    ---------------------------- ---- --------
    Class::MOP                   0    2.2207  
    List::MoreUtils              0    0.430   
    List::Util                   0    1.63    
    Moose                        0    2.2207  
    Moose::Role                  0    2.2207  
    MooseX::Iterator             0    0.11    
    MooseX::Types::Path::Class   0    0.09    
    Perl6::Junction              0    1.60000 
    Scalar::Util                 0    1.63    
    strict                       0    1.12    
    Test::More                   0    1.302199
    warnings                     0    1.58    

configure_requires:

    Module                       Need Have    
    ---------------------------- ---- --------
    ExtUtils::MakeMaker          6.30 7.70    


------------------------------
ENVIRONMENT AND OTHER CONTEXT
------------------------------

Environment variables:

    AUTOMATED_TESTING = 1
    PATH = /home/goku/perl5/bin:/usr/bin:/bin:/usr/sbin:/sbin:/usr/X11R6/bin:/usr/local/bin:/usr/local/sbin
    PERL5LIB = /home/goku/perl5/lib/perl5
    PERL5OPT = 
    PERL5_CPANPLUS_IS_RUNNING = 55421
    PERL5_CPAN_IS_RUNNING = 55421
    PERL5_CPAN_IS_RUNNING_IN_RECURSION = 64756,55421
    PERL_CR_SMOKER_CURRENT = Catalyst-Controller-DBIC-API-2.009000
    PERL_EXTUTILS_AUTOINSTALL = --defaultdeps
    PERL_LOCAL_LIB_ROOT = /home/goku/perl5
    PERL_MB_OPT = --install_base "/home/goku/perl5"
    PERL_MM_OPT = INSTALL_BASE=/home/goku/perl5
    PERL_MM_USE_DEFAULT = 1
    PERL_USE_UNSAFE_INC = 1
    SHELL = /bin/ksh
    TERM = xterm-256color

Perl special variables (and OS-specific diagnostics, for MSWin32):

    $^X = /usr/bin/perl
    $UID/$EUID = 1001 / 1001
    $GID = 1002 1002 1001
    $EGID = 1002 1002 1001

Perl module toolchain versions installed:

    Module              Have    
    ------------------- --------
    CPAN                2.36    
    CPAN::Meta          2.150010
    Cwd                 3.84    
    ExtUtils::CBuilder  0.280236
    ExtUtils::Command   7.70    
    ExtUtils::Install   2.20    
    ExtUtils::MakeMaker 7.70    
    ExtUtils::Manifest  1.73    
    ExtUtils::ParseXS   3.45    
    File::Spec          3.84    
    JSON                4.10    
    JSON::PP            4.07    
    Module::Build       0.4234  
    Module::Signature   n/a     
    Parse::CPAN::Meta   2.150010
    Test2               1.302199
    Test::Harness       3.49_01 
    Test::More          1.302199
    YAML                1.31    
    YAML::Syck          1.34    
    version             0.9932  


--

Summary of my perl5 (revision 5 version 36 subversion 3) configuration:
   
  Platform:
    osname=openbsd
    osvers=7.5
    archname=amd64-openbsd
    uname='openbsd'
    config_args='-dse -Dopenbsd_distribution=defined -Dmksymlinks'
    hint=recommended
    useposix=true
    d_sigaction=define
    useithreads=undef
    usemultiplicity=undef
    use64bitint=define
    use64bitall=define
    uselongdouble=undef
    usemymalloc=n
    default_inc_excludes_dot=define
  Compiler:
    cc='cc'
    ccflags ='-DNO_LOCALE_NUMERIC -DNO_LOCALE_COLLATE -fno-strict-aliasing -fno-delete-null-pointer-checks -pipe -fstack-protector-strong -I/usr/local/include'
    optimize='-O2'
    cppflags='-DBIG_TIME -DNO_LOCALE_NUMERIC -DNO_LOCALE_COLLATE -fno-strict-aliasing -fno-delete-null-pointer-checks -pipe -fstack-protector-strong -I/usr/local/include'
    ccversion=''
    gccversion='OpenBSD Clang 16.0.6'
    gccosandvers=''
    intsize=4
    longsize=8
    ptrsize=8
    doublesize=8
    byteorder=12345678
    doublekind=3
    d_longlong=define
    longlongsize=8
    d_longdbl=define
    longdblsize=16
    longdblkind=3
    ivtype='long'
    ivsize=8
    nvtype='double'
    nvsize=8
    Off_t='off_t'
    lseeksize=8
    alignbytes=8
    prototype=define
  Linker and Libraries:
    ld='cc'
    ldflags ='-Wl,-E  -fstack-protector-strong -L/usr/local/lib'
    libpth=/usr/lib /usr/lib/clang/16/lib
    libs=-lm -lc
    perllibs=-lm -lc
    libc=/usr/lib/libc.so.99.0
    so=so
    useshrplib=true
    libperl=libperl.so.23.0
    gnulibc_version=''
  Dynamic Linking:
    dlsrc=dl_dlopen.xs
    dlext=so
    d_dlsymun=undef
    ccdlflags='-Wl,-R/usr/libdata/perl5/amd64-openbsd/CORE'
    cccdlflags='-DPIC -fpic '
    lddlflags='-shared -fpic  -fstack-protector-strong -L/usr/local/lib'


Characteristics of this binary (from libperl): 
  Compile-time options:
    HAS_TIMES
    PERLIO_LAYERS
    PERL_COPY_ON_WRITE
    PERL_DONT_CREATE_GVSV
    PERL_MALLOC_WRAP
    PERL_OP_PARENT
    PERL_PRESERVE_IVUV
    USE_64_BIT_ALL
    USE_64_BIT_INT
    USE_LARGE_FILES
    USE_LOCALE
    USE_LOCALE_CTYPE
    USE_LOCALE_TIME
    USE_PERLIO
    USE_PERL_ATOF
  Built under openbsd
  %ENV:
    PERL5LIB="/home/goku/perl5/lib/perl5"
    PERL5OPT=""
    PERL5_CPANPLUS_IS_RUNNING="55421"
    PERL5_CPAN_IS_RUNNING="55421"
    PERL5_CPAN_IS_RUNNING_IN_RECURSION="64756,55421"
    PERL_CR_SMOKER_CURRENT="Catalyst-Controller-DBIC-API-2.009000"
    PERL_EXTUTILS_AUTOINSTALL="--defaultdeps"
    PERL_LOCAL_LIB_ROOT="/home/goku/perl5"
    PERL_MB_OPT="--install_base "/home/goku/perl5""
    PERL_MM_OPT="INSTALL_BASE=/home/goku/perl5"
    PERL_MM_USE_DEFAULT="1"
    PERL_USE_UNSAFE_INC="1"
  @INC:
    /home/goku/perl5/lib/perl5/amd64-openbsd
    /home/goku/perl5/lib/perl5
    /usr/local/libdata/perl5/site_perl/amd64-openbsd
    /usr/local/libdata/perl5/site_perl
    /usr/libdata/perl5/amd64-openbsd
    /usr/libdata/perl5
    .