Report for Mail-SPF-v2.9.0

Back
From: metabase:user:320bfe00-2aae-11df-837a-5e0a49663a4f
Subject: PASS Mail-SPF-v2.9.0 v5.14.4 GNU/Linux
Date: 2013-07-22T04:00:04Z

This distribution has been tested as part of the CPAN Testers
project, supporting the Perl programming language.  See
http://wiki.cpantesters.org/ for more information or email
questions to cpan-testers-discuss@perl.org


--
Dear Julian Mehnle,

This is a computer-generated report for Mail-SPF-v2.9.0
on perl 5.14.4, created by CPAN-Reporter-1.2010.

Thank you for uploading your work to CPAN.  Congratulations!
All tests were successful.

Sections of this report:

    * Tester comments
    * Program output
    * Prerequisites
    * Environment and other context

------------------------------
TESTER COMMENTS
------------------------------

Additional comments from tester:

this report is from an automated smoke testing program
and was not reviewed by a human for accuracy

------------------------------
PROGRAM OUTPUT
------------------------------

Output from './Build test':

t/00.00-class-misc.t .......... ok
t/00.01-class-util.t .......... ok
t/00.02-class-request.t ....... ok
t/00.03-class-result.t ........ ok
t/00.04-class-server.t ........ ok
t/00.05-class-macrostring.t ... ok
t/00.99-class-misc.t .......... ok
t/10.00-rfc4408.t ............. skipped: Mail::SPF::Test required for testing Mail::SPF's RFC compliance
t/10.01-rfc4406.t ............. skipped: Mail::SPF::Test required for testing Mail::SPF's RFC compliance
t/90-author-pod-validation.t .. ok
All tests successful.
Files=10, Tests=159,  2 wallclock secs ( 0.06 usr  0.01 sys +  0.89 cusr  0.09 csys =  1.05 CPU)
Result: PASS

------------------------------
PREREQUISITES
------------------------------

Prerequisite modules loaded:

requires:

    Module                           Need   Have    
    -------------------------------- ------ --------
    Error                            0      0.17020 
    Net::DNS                         0.62   0.72    
    NetAddr::IP                      4      4.069   
    perl                             5.006  5.014004
    URI                              1.13   1.60    
    version                          0      0.88    

build_requires:

    Module                           Need   Have    
    -------------------------------- ------ --------
    Module::Build                    0.2805 0.4007  
    Net::DNS::Resolver::Programmable 0.003  v0.003  
    Test::More                       0      0.98    

configure_requires:

    Module                           Need   Have    
    -------------------------------- ------ --------
    Module::Build                    0.2805 0.4007  


------------------------------
ENVIRONMENT AND OTHER CONTEXT
------------------------------

Environment variables:

    AUTOMATED_TESTING = 1
    LANG = en_US.UTF-8
    LANGUAGE = en_US:en
    PATH = /usr/lib/ccache:/home/sand/bin:/usr/local/bin:/usr/bin:/bin:/usr/bin/X11:/usr/games:/usr/local/perl/bin:/usr/X11/bin:/sbin:/usr/sbin
    PERL5LIB = 
    PERL5OPT = 
    PERL5_CPANPLUS_IS_RUNNING = 14067
    PERL5_CPAN_IS_RUNNING = 14067
    PERL_MM_USE_DEFAULT = 1
    SHELL = /usr/bin/zsh
    TERM = screen

Perl special variables (and OS-specific diagnostics, for MSWin32):

    $^X = /home/sand/src/perl/repoperls/installed-perls/perl/v5.14.4/a2da/bin/perl
    $UID/$EUID = 1005 / 1005
    $GID = 1005 1005
    $EGID = 1005 1005

Perl module toolchain versions installed:

    Module              Have    
    ------------------- --------
    CPAN                2.00    
    CPAN::Meta          2.131560
    Cwd                 3.40    
    ExtUtils::CBuilder  0.280205
    ExtUtils::Command   1.17    
    ExtUtils::Install   1.56    
    ExtUtils::MakeMaker 6.69_09 
    ExtUtils::Manifest  1.60    
    ExtUtils::ParseXS   2.2210  
    File::Spec          3.40    
    JSON                2.59    
    JSON::PP            2.27200 
    Module::Build       0.4007  
    Module::Signature   0.73    
    Parse::CPAN::Meta   1.4405  
    Test::Harness       3.28    
    Test::More          0.98    
    YAML                0.84    
    YAML::Syck          1.27    
    version             0.88    


--

Summary of my perl5 (revision 5 version 14 subversion 4) configuration:
  Commit id: 26c5c13a4ece9084f310610bb17fb2f24c72a73e
  Platform:
    osname=linux, osvers=3.9-1-amd64, archname=x86_64-linux-thread-multi-ld
    uname='linux k83 3.9-1-amd64 #1 smp debian 3.9.8-1 x86_64 gnulinux '
    config_args='-Dprefix=/home/sand/src/perl/repoperls/installed-perls/perl/v5.14.4/a2da -Dmyhostname=k83 -Dinstallusrbinperl=n -Uversiononly -Dusedevel -des -Ui_db -Duseithreads -Duselongdouble -DDEBUGGING=-g'
    hint=recommended, useposix=true, d_sigaction=define
    useithreads=define, usemultiplicity=define
    useperlio=define, d_sfio=undef, uselargefiles=define, usesocks=undef
    use64bitint=define, use64bitall=define, uselongdouble=define
    usemymalloc=n, bincompat5005=undef
  Compiler:
    cc='cc', ccflags ='-D_REENTRANT -D_GNU_SOURCE -fno-strict-aliasing -pipe -fstack-protector -I/usr/local/include -D_LARGEFILE_SOURCE -D_FILE_OFFSET_BITS=64',
    optimize='-O2 -g',
    cppflags='-D_REENTRANT -D_GNU_SOURCE -fno-strict-aliasing -pipe -fstack-protector -I/usr/local/include'
    ccversion='', gccversion='4.8.1', gccosandvers=''
    intsize=4, longsize=8, ptrsize=8, doublesize=8, byteorder=12345678
    d_longlong=define, longlongsize=8, d_longdbl=define, longdblsize=16
    ivtype='long', ivsize=8, nvtype='long double', nvsize=16, Off_t='off_t', lseeksize=8
    alignbytes=16, prototype=define
  Linker and Libraries:
    ld='cc', ldflags =' -fstack-protector -L/usr/local/lib'
    libpth=/usr/local/lib /lib/x86_64-linux-gnu /lib/../lib /usr/lib/x86_64-linux-gnu /usr/lib/../lib /lib /usr/lib
    libs=-lnsl -lgdbm -ldb -ldl -lm -lcrypt -lutil -lpthread -lc -lgdbm_compat
    perllibs=-lnsl -ldl -lm -lcrypt -lutil -lpthread -lc
    libc=, so=so, useshrplib=false, libperl=libperl.a
    gnulibc_version='2.17'
  Dynamic Linking:
    dlsrc=dl_dlopen.xs, dlext=so, d_dlsymun=undef, ccdlflags='-Wl,-E'
    cccdlflags='-fPIC', lddlflags='-shared -O2 -g -L/usr/local/lib -fstack-protector'


Characteristics of this binary (from libperl): 
  Compile-time options: MULTIPLICITY PERL_DONT_CREATE_GVSV
                        PERL_IMPLICIT_CONTEXT PERL_MALLOC_WRAP
                        PERL_PRESERVE_IVUV PERL_USE_DEVEL USE_64_BIT_ALL
                        USE_64_BIT_INT USE_ITHREADS USE_LARGE_FILES
                        USE_LONG_DOUBLE USE_PERLIO USE_PERL_ATOF
                        USE_REENTRANT_API
  Built under linux
  Compiled at Jul 21 2013 06:33:19
  %ENV:
    PERL5LIB=""
    PERL5OPT=""
    PERL5_CPANPLUS_IS_RUNNING="14067"
    PERL5_CPAN_IS_RUNNING="14067"
    PERL_MM_USE_DEFAULT="1"
  @INC:
    /home/sand/src/perl/repoperls/installed-perls/perl/v5.14.4/a2da/lib/site_perl/5.14.4/x86_64-linux-thread-multi-ld
    /home/sand/src/perl/repoperls/installed-perls/perl/v5.14.4/a2da/lib/site_perl/5.14.4
    /home/sand/src/perl/repoperls/installed-perls/perl/v5.14.4/a2da/lib/5.14.4/x86_64-linux-thread-multi-ld
    /home/sand/src/perl/repoperls/installed-perls/perl/v5.14.4/a2da/lib/5.14.4
    .