XML-Ant-BuildFile v0.217 Perl 5 v5.24.3 x86_64-linux-thread-multi

Status
Pass
From
Andreas J. König (ANDK)
Dist
XML-Ant-BuildFile v0.217
Platform
Perl 5 v5.24.3 x86_64-linux-thread-multi
Date
2017-10-11 05:29:45
ID
30e2efde-ae45-11e7-80b7-649449b1df06
This distribution has been tested as part of the CPAN Testers
project, supporting the Perl programming language.  See
http://wiki.cpantesters.org/ for more information or email
questions to cpan-testers-discuss@perl.org


--
Dear Mark Gardner,

This is a computer-generated report for XML-Ant-BuildFile-0.217
on perl 5.24.3, created by CPAN-Reporter-1.2018.

Thank you for uploading your work to CPAN.  Congratulations!
All tests were successful.

Sections of this report:

    * Tester comments
    * Program output
    * Prerequisites
    * Environment and other context

------------------------------
TESTER COMMENTS
------------------------------

Additional comments from tester:

this report is from an automated smoke testing program
and was not reviewed by a human for accuracy

------------------------------
PROGRAM OUTPUT
------------------------------

Output from '/usr/bin/make test':

PERL_DL_NONLAZY=1 "/tmp/basesmoker-reloperl-Vwa2/bin/perl" "-MExtUtils::Command::MM" "-MTest::Harness" "-e" "undef *Test::Harness::Switches; test_harness(0, 'blib/lib', 'blib/arch')" t/*.t
t/00-compile.t ............... ok
# Testing with Perl 5.024003, /tmp/basesmoker-reloperl-Vwa2/bin/perl
#     Carp version is 1.40
#     English version is 1.10
#     ExtUtils::MakeMaker version is 7.3
#     File::Spec version is 3.6301
#     IO::Handle version is 1.36
#     IPC::Open3 version is 1.20
#     List::Util version is 1.49
#     Modern::Perl version is 1.20170117
#     Module::Pluggable version is 5.2
#     Moose version is 2.2006
#     Moose::Util::TypeConstraints version is 2.2006
#     MooseX::Has::Sugar version is 1.000006
#     MooseX::Has::Sugar::Minimal version is 1.000006
#     MooseX::Singleton version is 0.30
#     MooseX::Types::Moose version is 0.50
#     MooseX::Types::Path::Class version is 0.09
#     Path::Class version is 0.37
#     Readonly version is 2.05
#     Regexp::DefaultFlags version is 0.01
#     Scalar::Util version is 1.49
#     Test::More version is 1.302098
#     Test::Most version is 0.35
#     Try::Tiny version is 0.28
#     XML::Rabbit version is 0.4.1
#     XML::Rabbit::Node version is 0.4.1
#     XML::Rabbit::RootNode version is 0.4.1
#     blib version is 1.06
#     namespace::autoclean version is 0.28
#     strict version is 1.11
#     utf8 version is 1.19
#     warnings version is 1.36
t/000-report-versions.t ...... ok
t/author-critic.t ............ skipped: these tests are for testing by the author
t/author-eol.t ............... skipped: these tests are for testing by the author
t/author-mojibake.t .......... skipped: these tests are for testing by the author
t/author-no-tabs.t ........... skipped: these tests are for testing by the author
t/author-pod-coverage.t ...... skipped: these tests are for testing by the author
t/author-pod-linkcheck.t ..... skipped: these tests are for testing by the author
t/author-pod-syntax.t ........ skipped: these tests are for testing by the author
t/author-portability.t ....... skipped: these tests are for testing by the author
t/author-synopsis.t .......... skipped: these tests are for testing by the author
t/author-test-version.t ...... skipped: these tests are for testing by the author
t/concat.t ................... ok
t/copy_filelist.t ............ ok
t/filelist.t ................. ok
t/java.t ..................... ok
t/java_args.t ................ ok
t/path.t ..................... ok
t/release-cpan-changes.t ..... skipped: these tests are for release candidate testing
t/release-dist-manifest.t .... skipped: these tests are for release candidate testing
t/release-distmeta.t ......... skipped: these tests are for release candidate testing
t/release-kwalitee.t ......... skipped: these tests are for release candidate testing
t/release-meta-json.t ........ skipped: these tests are for release candidate testing
t/release-minimum-version.t .. skipped: these tests are for release candidate testing
t/release-unused-vars.t ...... skipped: these tests are for release candidate testing
All tests successful.
Files=25, Tests=69, 12 wallclock secs ( 0.07 usr  0.11 sys + 10.66 cusr  1.19 csys = 12.03 CPU)
Result: PASS

------------------------------
PREREQUISITES
------------------------------

Prerequisite modules loaded:

requires:

    Module                       Need   Have      
    ---------------------------- ------ ----------
    Carp                         0      1.40      
    English                      0      1.10      
    List::Util                   1.33   1.49      
    Modern::Perl                 0      1.20170117
    Module::Pluggable            0      5.2       
    Moose                        0      2.2006    
    Moose::Role                  0      2.2006    
    Moose::Util::TypeConstraints 0      2.2006    
    MooseX::Has::Sugar           0      1.000006  
    MooseX::Has::Sugar::Minimal  0      1.000006  
    MooseX::Singleton            0.26   0.30      
    MooseX::Types::Moose         0      0.50      
    MooseX::Types::Path::Class   0      0.09      
    namespace::autoclean         0      0.28      
    Path::Class                  0      0.37      
    perl                         5.010  5.024003  
    Readonly                     0      2.05      
    Regexp::DefaultFlags         0      0.01      
    strict                       0      1.11      
    Try::Tiny                    0      0.28      
    utf8                         0      1.19      
    XML::Rabbit                  v0.0.4 0.4.1     
    XML::Rabbit::Node            v0.0.4 0.4.1     
    XML::Rabbit::RootNode        0      0.4.1     

build_requires:

    Module                       Need   Have      
    ---------------------------- ------ ----------
    blib                         1.01   1.06      
    ExtUtils::MakeMaker          0      7.30      
    File::Spec                   0      3.63_01   
    IO::Handle                   0      1.36      
    IPC::Open3                   0      1.20      
    Scalar::Util                 0      1.49      
    Test::More                   0.94   1.302098  
    Test::Most                   0      0.35      
    warnings                     0      1.36      

configure_requires:

    Module                       Need   Have      
    ---------------------------- ------ ----------
    ExtUtils::MakeMaker          0      7.30      


------------------------------
ENVIRONMENT AND OTHER CONTEXT
------------------------------

Environment variables:

    AUTOMATED_TESTING = 1
    LANG = en_US.UTF-8
    PATH = /home/sand/bin:/usr/local/bin:/usr/bin:/bin:/usr/games:/usr/local/perl/bin:/usr/X11/bin:/sbin:/usr/sbin
    PERL5LIB = /tmp/loop_over_bdir-24786-wgm1rg/Net-DNS-1.12-0/blib/arch:/tmp/loop_over_bdir-24786-wgm1rg/Net-DNS-1.12-0/blib/lib
    PERL5OPT = 
    PERL5_CPANPLUS_IS_RUNNING = 31988
    PERL5_CPAN_IS_RUNNING = 31988
    PERL_CANARY_STABILITY_NOPROMPT = 1
    PERL_MM_USE_DEFAULT = 1
    PERL_USE_UNSAFE_INC = 1
    SHELL = /usr/bin/zsh
    TERM = screen

Perl special variables (and OS-specific diagnostics, for MSWin32):

    $^X = /tmp/basesmoker-reloperl-Vwa2/bin/perl
    $UID/$EUID = 1005 / 1005
    $GID = 1005 1005
    $EGID = 1005 1005

Perl module toolchain versions installed:

    Module              Have      
    ------------------- ----------
    CPAN                2.18      
    CPAN::Meta          2.150010  
    Cwd                 3.63_01   
    ExtUtils::CBuilder  0.280226  
    ExtUtils::Command   7.30      
    ExtUtils::Install   2.14      
    ExtUtils::MakeMaker 7.30      
    ExtUtils::Manifest  1.70      
    ExtUtils::ParseXS   3.35      
    File::Spec          3.63_01   
    JSON                2.94      
    JSON::PP            2.27300_01
    Module::Build       0.4224    
    Module::Signature   0.81      
    Parse::CPAN::Meta   2.150010  
    Test::Harness       3.39      
    Test::More          1.302098  
    YAML                1.23      
    YAML::Syck          1.30      
    version             0.9918    


--

Summary of my perl5 (revision 5 version 24 subversion 3) configuration:
  Derived from: 9f1d3884c227a955e9ecaaadba4cba3280c47e3a
  Platform:
    osname=linux, osvers=4.13.0-1-amd64, archname=x86_64-linux-thread-multi
    uname='linux k93x64sid 4.13.0-1-amd64 #1 smp debian 4.13.4-1 (2017-10-01) x86_64 gnulinux '
    config_args='-Dprefix=/home/sand/src/perl/repoperls/installed-perls/host/k93x64sid/v5.24.3/9af6 -Dmyhostname=k93x64sid -Dinstallusrbinperl=n -Uversiononly -Dusedevel -des -Ui_db -Dlibswanted=cl pthread socket inet nsl gdbm dbm malloc dl ld sun m crypt sec util c cposix posix ucb BSD gdbm_compat -Duseithreads -Uuselongdouble -DDEBUGGING=-g'
    hint=recommended, useposix=true, d_sigaction=define
    useithreads=define, usemultiplicity=define
    use64bitint=define, use64bitall=define, uselongdouble=undef
    usemymalloc=n, bincompat5005=undef
  Compiler:
    cc='cc', ccflags ='-D_REENTRANT -D_GNU_SOURCE -fwrapv -fno-strict-aliasing -pipe -fstack-protector-strong -I/usr/local/include -D_LARGEFILE_SOURCE -D_FILE_OFFSET_BITS=64 -D_FORTIFY_SOURCE=2',
    optimize='-O2 -g',
    cppflags='-D_REENTRANT -D_GNU_SOURCE -fwrapv -fno-strict-aliasing -pipe -fstack-protector-strong -I/usr/local/include'
    ccversion='', gccversion='7.2.0', gccosandvers=''
    intsize=4, longsize=8, ptrsize=8, doublesize=8, byteorder=12345678, doublekind=3
    d_longlong=define, longlongsize=8, d_longdbl=define, longdblsize=16, longdblkind=3
    ivtype='long', ivsize=8, nvtype='double', nvsize=8, Off_t='off_t', lseeksize=8
    alignbytes=8, prototype=define
  Linker and Libraries:
    ld='cc', ldflags =' -fstack-protector-strong -L/usr/local/lib'
    libpth=/usr/local/lib /usr/lib/gcc/x86_64-linux-gnu/7/include-fixed /usr/include/x86_64-linux-gnu /usr/lib /lib/x86_64-linux-gnu /lib/../lib /usr/lib/x86_64-linux-gnu /usr/lib/../lib /lib
    libs=-lpthread -lnsl -ldl -lm -lcrypt -lutil -lc
    perllibs=-lpthread -lnsl -ldl -lm -lcrypt -lutil -lc
    libc=libc-2.24.so, so=so, useshrplib=false, libperl=libperl.a
    gnulibc_version='2.24'
  Dynamic Linking:
    dlsrc=dl_dlopen.xs, dlext=so, d_dlsymun=undef, ccdlflags='-Wl,-E'
    cccdlflags='-fPIC', lddlflags='-shared -O2 -g -L/usr/local/lib -fstack-protector-strong'


Characteristics of this binary (from libperl): 
  Compile-time options: HAS_TIMES MULTIPLICITY PERLIO_LAYERS
                        PERL_COPY_ON_WRITE PERL_DONT_CREATE_GVSV
                        PERL_HASH_FUNC_ONE_AT_A_TIME_HARD
                        PERL_IMPLICIT_CONTEXT PERL_MALLOC_WRAP
                        PERL_PRESERVE_IVUV PERL_USE_DEVEL USE_64_BIT_ALL
                        USE_64_BIT_INT USE_ITHREADS USE_LARGE_FILES
                        USE_LOCALE USE_LOCALE_COLLATE USE_LOCALE_CTYPE
                        USE_LOCALE_NUMERIC USE_LOCALE_TIME USE_PERLIO
                        USE_PERL_ATOF USE_REENTRANT_API
  Locally applied patches:
	uncommitted-changes
  Built under linux
  Compiled at Oct  9 2017 06:24:38
  %ENV:
    PERL5LIB="/tmp/loop_over_bdir-24786-wgm1rg/Net-DNS-1.12-0/blib/arch:/tmp/loop_over_bdir-24786-wgm1rg/Net-DNS-1.12-0/blib/lib"
    PERL5OPT=""
    PERL5_CPANPLUS_IS_RUNNING="31988"
    PERL5_CPAN_IS_RUNNING="31988"
    PERL_CANARY_STABILITY_NOPROMPT="1"
    PERL_MM_USE_DEFAULT="1"
    PERL_USE_UNSAFE_INC="1"
  @INC:
    /tmp/loop_over_bdir-24786-wgm1rg/Net-DNS-1.12-0/blib/arch
    /tmp/loop_over_bdir-24786-wgm1rg/Net-DNS-1.12-0/blib/lib
    /home/sand/src/perl/repoperls/installed-perls/host/k93x64sid/v5.24.3/9af6/lib/site_perl/5.24.3/x86_64-linux-thread-multi
    /home/sand/src/perl/repoperls/installed-perls/host/k93x64sid/v5.24.3/9af6/lib/site_perl/5.24.3
    /home/sand/src/perl/repoperls/installed-perls/host/k93x64sid/v5.24.3/9af6/lib/5.24.3/x86_64-linux-thread-multi
    /home/sand/src/perl/repoperls/installed-perls/host/k93x64sid/v5.24.3/9af6/lib/5.24.3
    .