Devel-REPL v1.003029 Perl 5 v5.28.3 arm64-freebsd
- Status
- Pass
- From
- Slaven Rezić
- Dist
-
Devel-REPL v1.003029
- Platform
- Perl 5 v5.28.3 arm64-freebsd
- Date
- 2024-11-26 17:52:23
- ID
- 30eadd68-ac1f-11ef-a8e2-614e6e8775ea
This distribution has been tested as part of the CPAN Testers
project, supporting the Perl programming language. See
http://wiki.cpantesters.org/ for more information or email
questions to cpan-testers-discuss@perl.org
--
Dear Karen Etheridge,
This is a computer-generated report for Devel-REPL-1.003029
on perl 5.28.3, created by CPAN-Reporter-1.2019.
Thank you for uploading your work to CPAN. Congratulations!
All tests were successful.
Sections of this report:
* Tester comments
* Program output
* Prerequisites
* Environment and other context
------------------------------
TESTER COMMENTS
------------------------------
Additional comments from tester:
none provided
------------------------------
PROGRAM OUTPUT
------------------------------
Output from '/usr/bin/make test':
PERL_DL_NONLAZY=1 "/usr/perl5.28.3/bin/perl" "-MExtUtils::Command::MM" "-MTest::Harness" "-e" "undef *Test::Harness::Switches; test_harness(0, 'blib/lib', 'blib/arch')" t/*.t
#
# Versions for all modules listed in MYMETA.json (including optional ones):
#
# === Configure Requires ===
#
# Module Want Have
# ------------------------ -------- --------
# CPAN::Meta::Requirements 2.120620 2.143
# ExtUtils::MakeMaker any 7.70
# Module::Metadata any 1.000038
#
# === Build Requires ===
#
# Module Want Have
# ------------------- ---- ----
# ExtUtils::MakeMaker any 7.70
#
# === Test Requires ===
#
# Module Want Have
# ------------------- ---- --------
# ExtUtils::MakeMaker any 7.70
# File::Spec any 3.75
# Test::Fatal any 0.017
# Test::More 0.88 1.302202
# if any 0.0608
#
# === Test Recommends ===
#
# Module Want Have
# ---------- -------- --------
# CPAN::Meta 2.120900 2.150010
#
# === Runtime Requires ===
#
# Module Want Have
# ------------------------- ------ ------
# B::Concise 0.62 1.003
# B::Keywords any 1.27
# Data::Dump::Streamer 2.39 2.42
# Data::Dumper::Concise any 2.023
# Devel::Peek any 1.27
# File::Next any 1.18
# File::Spec any 3.75
# Lexical::Persistence any 1.020
# Module::Runtime any 0.016
# Moose 0.93 2.2207
# Moose::Meta::Role any 2.2207
# Moose::Role any 2.2207
# MooseX::Getopt 0.18 0.76
# MooseX::Object::Pluggable 0.0009 0.0014
# PPI any 1.279
# Scalar::Util any 1.63
# Sys::SigAction any 0.23
# Task::Weaken any 1.06
# Term::ANSIColor any 5.01
# Term::ReadLine any 1.17
# Time::HiRes any 1.9764
# namespace::autoclean any 0.29
# strict any 1.11
# warnings any 1.42
#
# === Runtime Recommends ===
#
# Module Want Have
# --------------------- ----- -------
# App::Nopaste any missing
# B::Keywords any 1.27
# Data::Dump::Streamer 2.39 2.42
# Data::Dumper::Concise any 2.023
# File::Next any 1.18
# Lexical::Persistence any 1.020
# Module::Refresh any missing
# PPI any 1.279
# PPI::XS 0.902 0.910
# Sys::SigAction any 0.23
#
# === Other Modules ===
#
# Module Have
# --------------- ------
# Encode 3.21
# File::Temp 0.2311
# JSON::PP 4.16
# Module::Runtime 0.016
# Sub::Name 0.27
# YAML 1.31
# autodie 2.29
#
t/00-report-prereqs.t .. ok
t/load_core.t .......... ok
t/load_plugins.t ....... ok
All tests successful.
Files=3, Tests=61, 1 wallclock secs ( 0.02 usr 0.02 sys + 1.08 cusr 0.16 csys = 1.29 CPU)
Result: PASS
------------------------------
PREREQUISITES
------------------------------
Prerequisite modules loaded:
requires:
Module Need Have
------------------------- -------- --------
B::Concise 0.62 1.003
B::Keywords 0 1.27
Data::Dump::Streamer 2.39 2.42
Data::Dumper::Concise 0 2.023
Devel::Peek 0 1.27
File::Next 0 1.18
File::Spec 0 3.75
Lexical::Persistence 0 1.020
Module::Runtime 0 0.016
Moose 0.93 2.2207
Moose::Meta::Role 0 2.2207
Moose::Role 0 2.2207
MooseX::Getopt 0.18 0.76
MooseX::Object::Pluggable 0.0009 0.0014
namespace::autoclean 0 0.29
perl 5.008001 5.028003
PPI 0 1.279
Scalar::Util 0 1.63
strict 0 1.11
Sys::SigAction 0 0.23
Task::Weaken 0 1.06
Term::ANSIColor 0 5.01
Term::ReadLine 0 1.17
Time::HiRes 0 1.9764
warnings 0 1.42
build_requires:
Module Need Have
------------------------- -------- --------
ExtUtils::MakeMaker 0 7.70
File::Spec 0 3.75
if 0 0.0608
Test::Fatal 0 0.017
Test::More 0.88 1.302202
configure_requires:
Module Need Have
------------------------- -------- --------
CPAN::Meta::Requirements 2.120620 2.143
ExtUtils::MakeMaker 0 7.70
Module::Metadata 0 1.000038
perl 5.008001 5.028003
------------------------------
ENVIRONMENT AND OTHER CONTEXT
------------------------------
Environment variables:
LANG = C.UTF-8
PATH = /usr/local/bin:/usr/bin:/bin:/usr/local/sbin:/usr/sbin:/sbin:/home/cpansand/bin/sh:/home/cpansand/bin:/usr/games:/home/cpansand/devel:/home/eserte/src/srezic-misc/scripts
PERL5LIB = /home/cpansand/.cpan/build/2024112603/MooseX-Object-Pluggable-0.0014-1/blib/arch:/home/cpansand/.cpan/build/2024112603/MooseX-Object-Pluggable-0.0014-1/blib/lib:/home/cpansand/.cpan/build/2024112603/Lexical-Persistence-1.023-1/blib/arch:/home/cpansand/.cpan/build/2024112603/Lexical-Persistence-1.023-1/blib/lib:/home/cpansand/.cpan/build/2024112603/Devel-LexAlias-0.05-1/blib/arch:/home/cpansand/.cpan/build/2024112603/Devel-LexAlias-0.05-1/blib/lib
PERL5OPT =
PERL5_CPANPLUS_IS_RUNNING = 11130
PERL5_CPAN_IS_RUNNING = 11130
PERL5_CPAN_IS_RUNNING_IN_RECURSION = 10591,11130
PERL_BATCH = yes
PERL_CANARY_STABILITY_NOPROMPT = 1
PERL_CPAN_REPORTER_CONFIG = /var/tmp/cpansmoker-1023/2024112603/cpanreporter_000_config.ini
PERL_EXTUTILS_AUTOINSTALL = --defaultdeps
PERL_USE_UNSAFE_INC = 1
SHELL = /bin/sh
TMPDIR = /var/tmp/cpansmoker-1023/2024112603
Perl special variables (and OS-specific diagnostics, for MSWin32):
$^X = /usr/perl5.28.3/bin/perl
$UID/$EUID = 1023 / 1023
$GID = 1023 1023
$EGID = 1023 1023
Perl module toolchain versions installed:
Module Have
------------------- --------
CPAN 2.20
CPAN::Meta 2.150010
Cwd 3.75
ExtUtils::CBuilder 0.280236
ExtUtils::Command 7.70
ExtUtils::Install 2.22
ExtUtils::MakeMaker 7.70
ExtUtils::Manifest 1.75
ExtUtils::ParseXS 3.51
File::Spec 3.75
JSON 4.10
JSON::PP 4.16
Module::Build 0.4234
Module::Signature n/a
Parse::CPAN::Meta 2.150010
Test2 1.302202
Test::Harness 3.50
Test::More 1.302202
YAML 1.31
YAML::Syck 1.34
version 0.9923
--
Summary of my perl5 (revision 5 version 28 subversion 3) configuration:
Platform:
osname=freebsd
osvers=14.1-stable
archname=arm64-freebsd
uname='freebsd cloud9.bbbike.org 14.1-stable freebsd 14.1-stable stable14-n268041-bb7b7b0eb7cf generic arm64 '
config_args='-ds -e -Dprefix=/usr/perl5.28.3 -Dcf_email=srezic@cpan.org -Doptimize=-O2 -pipe'
hint=recommended
useposix=true
d_sigaction=define
useithreads=undef
usemultiplicity=undef
use64bitint=define
use64bitall=define
uselongdouble=undef
usemymalloc=n
default_inc_excludes_dot=define
bincompat5005=undef
Compiler:
cc='cc'
ccflags ='-DHAS_FPSETMASK -DHAS_FLOATINGPOINT_H -fno-strict-aliasing -pipe -fstack-protector-strong -I/usr/local/include'
optimize='-O2 -pipe'
cppflags='-DHAS_FPSETMASK -DHAS_FLOATINGPOINT_H -fno-strict-aliasing -pipe -fstack-protector-strong -I/usr/local/include'
ccversion=''
gccversion='FreeBSD Clang 18.1.6 (https://github.com/llvm/llvm-project.git llvmorg-18.1.6-0-g1118c2e05e67)'
gccosandvers=''
intsize=4
longsize=8
ptrsize=8
doublesize=8
byteorder=12345678
doublekind=3
d_longlong=define
longlongsize=8
d_longdbl=define
longdblsize=16
longdblkind=1
ivtype='long'
ivsize=8
nvtype='double'
nvsize=8
Off_t='off_t'
lseeksize=8
alignbytes=8
prototype=define
Linker and Libraries:
ld='cc'
ldflags ='-Wl,-E -fstack-protector-strong -L/usr/local/lib'
libpth=/usr/lib /usr/local/lib /usr/lib/clang/18/lib /usr/lib
libs=-lpthread -lgdbm -ldl -lm -lcrypt -lutil -lc
perllibs=-lpthread -ldl -lm -lcrypt -lutil -lc
libc=
so=so
useshrplib=false
libperl=libperl.a
gnulibc_version=''
Dynamic Linking:
dlsrc=dl_dlopen.xs
dlext=so
d_dlsymun=undef
ccdlflags=' '
cccdlflags='-DPIC -fPIC'
lddlflags='-shared -L/usr/local/lib -fstack-protector-strong'
Characteristics of this binary (from libperl):
Compile-time options:
HAS_TIMES
PERLIO_LAYERS
PERL_COPY_ON_WRITE
PERL_DONT_CREATE_GVSV
PERL_MALLOC_WRAP
PERL_OP_PARENT
PERL_PRESERVE_IVUV
USE_64_BIT_ALL
USE_64_BIT_INT
USE_LARGE_FILES
USE_LOCALE
USE_LOCALE_COLLATE
USE_LOCALE_CTYPE
USE_LOCALE_NUMERIC
USE_LOCALE_TIME
USE_PERLIO
USE_PERL_ATOF
Locally applied patches:
Devel::PatchPerl 2.08
Built under freebsd
Compiled at Jun 30 2024 07:39:37
%ENV:
PERL5LIB="/home/cpansand/.cpan/build/2024112603/MooseX-Object-Pluggable-0.0014-1/blib/arch:/home/cpansand/.cpan/build/2024112603/MooseX-Object-Pluggable-0.0014-1/blib/lib:/home/cpansand/.cpan/build/2024112603/Lexical-Persistence-1.023-1/blib/arch:/home/cpansand/.cpan/build/2024112603/Lexical-Persistence-1.023-1/blib/lib:/home/cpansand/.cpan/build/2024112603/Devel-LexAlias-0.05-1/blib/arch:/home/cpansand/.cpan/build/2024112603/Devel-LexAlias-0.05-1/blib/lib"
PERL5OPT=""
PERL5_CPANPLUS_IS_RUNNING="11130"
PERL5_CPAN_IS_RUNNING="11130"
PERL5_CPAN_IS_RUNNING_IN_RECURSION="10591,11130"
PERL_BATCH="yes"
PERL_CANARY_STABILITY_NOPROMPT="1"
PERL_CPAN_REPORTER_CONFIG="/var/tmp/cpansmoker-1023/2024112603/cpanreporter_000_config.ini"
PERL_EXTUTILS_AUTOINSTALL="--defaultdeps"
PERL_USE_UNSAFE_INC="1"
@INC:
/home/cpansand/.cpan/build/2024112603/MooseX-Object-Pluggable-0.0014-1/blib/arch
/home/cpansand/.cpan/build/2024112603/MooseX-Object-Pluggable-0.0014-1/blib/lib
/home/cpansand/.cpan/build/2024112603/Lexical-Persistence-1.023-1/blib/arch
/home/cpansand/.cpan/build/2024112603/Lexical-Persistence-1.023-1/blib/lib
/home/cpansand/.cpan/build/2024112603/Devel-LexAlias-0.05-1/blib/arch
/home/cpansand/.cpan/build/2024112603/Devel-LexAlias-0.05-1/blib/lib
/usr/perl5.28.3/lib/site_perl/5.28.3/arm64-freebsd
/usr/perl5.28.3/lib/site_perl/5.28.3
/usr/perl5.28.3/lib/5.28.3/arm64-freebsd
/usr/perl5.28.3/lib/5.28.3
.