Report for Dist-Zilla-Plugin-SpellingCommonMistakesTests-1.001000

Back
From: metabase:user:00e8548a-0e72-11e3-8ee3-df0a9c418065
Subject: PASS Dist-Zilla-Plugin-SpellingCommonMistakesTests-1.001000 v5.10.1 GNU/Linux
Date: 2015-04-21T18:28:22Z

This distribution has been tested as part of the CPAN Testers
project, supporting the Perl programming language.  See
http://wiki.cpantesters.org/ for more information or email
questions to cpan-testers-discuss@perl.org


--
Dear Adam Lesperance,

This is a computer-generated report for Dist-Zilla-Plugin-SpellingCommonMistakesTests-1.001000
on perl 5.10.1, created by CPAN-Reporter-1.2014.

Thank you for uploading your work to CPAN.  Congratulations!
All tests were successful.

Sections of this report:

    * Tester comments
    * Program output
    * Prerequisites
    * Environment and other context

------------------------------
TESTER COMMENTS
------------------------------

Additional comments from tester:

this report is from an automated smoke testing program
and was not reviewed by a human for accuracy

------------------------------
PROGRAM OUTPUT
------------------------------

Output from './Build test':

t/00-compile.t .................. ok
# 
# 
# perl: v5.10.1 (wanted 5.008) on linux from /usr/bin/perl
# 
# Dist::Zilla::Plugin::Bootstrap::lib           => 1.001000   (want any version)
# Dist::Zilla::Plugin::InlineFiles              => 5.034      (want any version)
# English                                       => 1.04       (want any version)
# File::Find                                    => 1.14       (want any version)
# File::Temp                                    => 0.2304     (want any version)
# Module::Build                                 => 0.4211     (want 0.3601) 
# Moose                                         => 2.1403     (want any version)
# Pod::Spell::CommonMistakes                    => 1.002      (want any version)
# Test::More                                    => 1.001014   (want 0.88)   
# Test::Pod::Spelling::CommonMistakes           => 1.001      (want any version)
# utf8                                          => 1.07       (want any version)
# 
# Thanks for using my code.  I hope it works for you.
# If not, please try and include this output in the bug report.
# That will help me reproduce the issue and solve you problem.
# 
t/000-report-versions-tiny.t .... ok
t/author-critic.t ............... skipped: these tests are for testing by the author
t/release-common_spelling.t ..... skipped: these tests are for release candidate testing
t/release-consistent-version.t .. skipped: these tests are for release candidate testing
t/release-cpan-changes.t ........ skipped: these tests are for release candidate testing
t/release-dist-manifest.t ....... skipped: these tests are for release candidate testing
t/release-distmeta.t ............ skipped: these tests are for release candidate testing
t/release-eol.t ................. skipped: these tests are for release candidate testing
t/release-has-version.t ......... skipped: these tests are for release candidate testing
t/release-kwalitee.t ............ skipped: these tests are for release candidate testing
t/release-minimum-version.t ..... skipped: these tests are for release candidate testing
t/release-no-tabs.t ............. skipped: these tests are for release candidate testing
t/release-pod-coverage.t ........ skipped: these tests are for release candidate testing
t/release-pod-syntax.t .......... skipped: these tests are for release candidate testing
t/release-portability.t ......... skipped: these tests are for release candidate testing
t/release-unused-vars.t ......... skipped: these tests are for release candidate testing
All tests successful.
Files=17, Tests=2,  2 wallclock secs ( 0.05 usr  0.03 sys +  1.68 cusr  0.09 csys =  1.85 CPU)
Result: PASS

------------------------------
PREREQUISITES
------------------------------

Prerequisite modules loaded:

requires:

    Module                              Need   Have    
    ----------------------------------- ------ --------
    Dist::Zilla::Plugin::InlineFiles    0      5.034   
    Moose                               0      2.1403  
    perl                                5.008  5.010001
    Pod::Spell::CommonMistakes          0      1.002   
    Test::Pod::Spelling::CommonMistakes 0      1.001   
    utf8                                0      1.07    

build_requires:

    Module                              Need   Have    
    ----------------------------------- ------ --------
    Dist::Zilla::Plugin::Bootstrap::lib 0      1.001000
    English                             0      1.04    
    File::Find                          0      1.14    
    File::Temp                          0      0.2304  
    Module::Build                       0.3601 0.4211  
    Test::More                          0.88   1.001014

configure_requires:

    Module                              Need   Have    
    ----------------------------------- ------ --------
    Module::Build                       0.3601 0.4211  


------------------------------
ENVIRONMENT AND OTHER CONTEXT
------------------------------

Environment variables:

    AUTOMATED_TESTING = 1
    LANG = en_US.UTF-8
    PATH = /usr/local/sbin:/usr/local/bin:/sbin:/bin:/usr/sbin:/usr/bin:/root/bin
    PERL5LIB = /root/.cpan/build/Test-Pod-Spelling-CommonMistakes-1.001-WbHHq8/blib/arch:/root/.cpan/build/Test-Pod-Spelling-CommonMistakes-1.001-WbHHq8/blib/lib:/root/.cpan/build/Pod-Spell-CommonMistakes-1.002-f9drnu/blib/arch:/root/.cpan/build/Pod-Spell-CommonMistakes-1.002-f9drnu/blib/lib:/root/.cpan/build/Pod-Spell-1.17-hbdq_Z/blib/arch:/root/.cpan/build/Pod-Spell-1.17-hbdq_Z/blib/lib:/root/.cpan/build/File-ShareDir-ProjectDistDir-1.000005-bj4ulz/blib/arch:/root/.cpan/build/File-ShareDir-ProjectDistDir-1.000005-bj4ulz/blib/lib:/root/.cpan/build/Path-FindDev-0.5.2-aWh2TI/blib/arch:/root/.cpan/build/Path-FindDev-0.5.2-aWh2TI/blib/lib:/root/.cpan/build/Path-IsDev-1.001002-8ERenF/blib/arch:/root/.cpan/build/Path-IsDev-1.001002-8ERenF/blib/lib:/root/.cpan/build/Lingua-EN-Inflect-1.895-kmmU_X/blib/arch:/root/.cpan/build/Lingua-EN-Inflect-1.895-kmmU_X/blib/lib:/root/.cpan/build/Test-Pod-Content-v0.0.6-BfY1B1/blib/arch:/root/.cpan/build/Test-Pod-Content-v0.0.6-BfY1B1/blib/lib
    PERL5OPT = 
    PERL5_CPANPLUS_IS_RUNNING = 2523
    PERL5_CPAN_IS_RUNNING = 2523
    PERL5_CPAN_IS_RUNNING_IN_RECURSION = 12926,2523
    PERL_CR_SMOKER_CURRENT = Dist-Zilla-PluginBundle-Author-LESPEA-1.008000
    PERL_EXTUTILS_AUTOINSTALL = --defaultdeps
    PERL_MM_USE_DEFAULT = 1
    SHELL = /bin/bash
    TERM = linux

Perl special variables (and OS-specific diagnostics, for MSWin32):

    $^X = /usr/bin/perl
    $UID/$EUID = 0 / 0
    $GID = 0 0
    $EGID = 0 0

Perl module toolchain versions installed:

    Module              Have    
    ------------------- --------
    CPAN                2.10    
    CPAN::Meta          2.150001
    Cwd                 3.47    
    ExtUtils::CBuilder  0.280220
    ExtUtils::Command   1.20    
    ExtUtils::Install   2.04    
    ExtUtils::MakeMaker 7.04    
    ExtUtils::Manifest  1.70    
    ExtUtils::ParseXS   3.24    
    File::Spec          3.47    
    JSON                2.61    
    JSON::PP            2.27300 
    Module::Build       0.4211  
    Module::Signature   n/a     
    Parse::CPAN::Meta   1.4414  
    Test::Harness       3.35    
    Test::More          1.001014
    YAML                1.14    
    YAML::Syck          1.29    
    version             0.9912  


--

Summary of my perl5 (revision 5 version 10 subversion 1) configuration:
   
  Platform:
    osname=linux, osvers=2.6.32-220.el6.x86_64, archname=x86_64-linux-thread-multi
    uname='linux c6b8.bsys.dev.centos.org 2.6.32-220.el6.x86_64 #1 smp tue dec 6 19:48:22 gmt 2011 x86_64 x86_64 x86_64 gnulinux '
    config_args='-des -Doptimize=-O2 -g -pipe -Wall -Wp,-D_FORTIFY_SOURCE=2 -fexceptions -fstack-protector --param=ssp-buffer-size=4 -m64 -mtune=generic -DDEBUGGING=-g -Dversion=5.10.1 -Dmyhostname=localhost -Dperladmin=root@localhost -Dcc=gcc -Dcf_by=Red Hat, Inc. -Dprefix=/usr -Dvendorprefix=/usr -Dsiteprefix=/usr/local -Dsitelib=/usr/local/share/perl5 -Dsitearch=/usr/local/lib64/perl5 -Dprivlib=/usr/share/perl5 -Darchlib=/usr/lib64/perl5 -Dvendorlib=/usr/share/perl5/vendor_perl -Dvendorarch=/usr/lib64/perl5/vendor_perl -Dinc_version_list=5.10.0 -Darchname=x86_64-linux-thread-multi -Dlibpth=/usr/local/lib64 /lib64 /usr/lib64 -Duseshrplib -Dusethreads -Duseithreads -Duselargefiles -Dd_dosuid -Dd_semctl_semun -Di_db -Ui_ndbm -Di_gdbm -Di_shadow -Di_syslog -Dman3ext=3pm -Duseperlio -Dinstallusrbinperl=n -Ubincompat5005 -Uversiononly -Dpager=/usr/bin/less -isr -Dd_gethostent_r_proto -Ud_endhostent_r_proto -Ud_sethostent_r_proto -Ud_endprotoent_r_proto -Ud_setprotoent_r_proto -Ud_endservent_r_proto -Ud_setservent_r_proto -Dscriptdir=/usr/bin -Dusesitecustomize'
    hint=recommended, useposix=true, d_sigaction=define
    useithreads=define, usemultiplicity=define
    useperlio=define, d_sfio=undef, uselargefiles=define, usesocks=undef
    use64bitint=define, use64bitall=define, uselongdouble=undef
    usemymalloc=n, bincompat5005=undef
  Compiler:
    cc='gcc', ccflags ='-D_REENTRANT -D_GNU_SOURCE -fno-strict-aliasing -pipe -fstack-protector -I/usr/local/include -D_LARGEFILE_SOURCE -D_FILE_OFFSET_BITS=64',
    optimize='-O2 -g -pipe -Wall -Wp,-D_FORTIFY_SOURCE=2 -fexceptions -fstack-protector --param=ssp-buffer-size=4 -m64 -mtune=generic',
    cppflags='-D_REENTRANT -D_GNU_SOURCE -fno-strict-aliasing -pipe -fstack-protector -I/usr/local/include'
    ccversion='', gccversion='4.4.7 20120313 (Red Hat 4.4.7-11)', gccosandvers=''
    intsize=4, longsize=8, ptrsize=8, doublesize=8, byteorder=12345678
    d_longlong=define, longlongsize=8, d_longdbl=define, longdblsize=16
    ivtype='long', ivsize=8, nvtype='double', nvsize=8, Off_t='off_t', lseeksize=8
    alignbytes=8, prototype=define
  Linker and Libraries:
    ld='gcc', ldflags =' -fstack-protector'
    libpth=/usr/local/lib64 /lib64 /usr/lib64
    libs=-lresolv -lnsl -lgdbm -ldb -ldl -lm -lcrypt -lutil -lpthread -lc
    perllibs=-lresolv -lnsl -ldl -lm -lcrypt -lutil -lpthread -lc
    libc=, so=so, useshrplib=true, libperl=libperl.so
    gnulibc_version='2.12'
  Dynamic Linking:
    dlsrc=dl_dlopen.xs, dlext=so, d_dlsymun=undef, ccdlflags='-Wl,-E -Wl,-rpath,/usr/lib64/perl5/CORE'
    cccdlflags='-fPIC', lddlflags='-shared -O2 -g -pipe -Wall -Wp,-D_FORTIFY_SOURCE=2 -fexceptions -fstack-protector --param=ssp-buffer-size=4 -m64 -mtune=generic'


Characteristics of this binary (from libperl): 
  Compile-time options: MULTIPLICITY PERL_DONT_CREATE_GVSV
                        PERL_IMPLICIT_CONTEXT PERL_MALLOC_WRAP USE_64_BIT_ALL
                        USE_64_BIT_INT USE_ITHREADS USE_LARGE_FILES
                        USE_PERLIO USE_REENTRANT_API USE_SITECUSTOMIZE
  Built under linux
  Compiled at Nov 12 2014 09:09:35
  %ENV:
    PERL5LIB="/root/.cpan/build/Test-Pod-Spelling-CommonMistakes-1.001-WbHHq8/blib/arch:/root/.cpan/build/Test-Pod-Spelling-CommonMistakes-1.001-WbHHq8/blib/lib:/root/.cpan/build/Pod-Spell-CommonMistakes-1.002-f9drnu/blib/arch:/root/.cpan/build/Pod-Spell-CommonMistakes-1.002-f9drnu/blib/lib:/root/.cpan/build/Pod-Spell-1.17-hbdq_Z/blib/arch:/root/.cpan/build/Pod-Spell-1.17-hbdq_Z/blib/lib:/root/.cpan/build/File-ShareDir-ProjectDistDir-1.000005-bj4ulz/blib/arch:/root/.cpan/build/File-ShareDir-ProjectDistDir-1.000005-bj4ulz/blib/lib:/root/.cpan/build/Path-FindDev-0.5.2-aWh2TI/blib/arch:/root/.cpan/build/Path-FindDev-0.5.2-aWh2TI/blib/lib:/root/.cpan/build/Path-IsDev-1.001002-8ERenF/blib/arch:/root/.cpan/build/Path-IsDev-1.001002-8ERenF/blib/lib:/root/.cpan/build/Lingua-EN-Inflect-1.895-kmmU_X/blib/arch:/root/.cpan/build/Lingua-EN-Inflect-1.895-kmmU_X/blib/lib:/root/.cpan/build/Test-Pod-Content-v0.0.6-BfY1B1/blib/arch:/root/.cpan/build/Test-Pod-Content-v0.0.6-BfY1B1/blib/lib"
    PERL5OPT=""
    PERL5_CPANPLUS_IS_RUNNING="2523"
    PERL5_CPAN_IS_RUNNING="2523"
    PERL5_CPAN_IS_RUNNING_IN_RECURSION="12926,2523"
    PERL_CR_SMOKER_CURRENT="Dist-Zilla-PluginBundle-Author-LESPEA-1.008000"
    PERL_EXTUTILS_AUTOINSTALL="--defaultdeps"
    PERL_MM_USE_DEFAULT="1"
  @INC:
    /root/.cpan/build/Test-Pod-Spelling-CommonMistakes-1.001-WbHHq8/blib/arch
    /root/.cpan/build/Test-Pod-Spelling-CommonMistakes-1.001-WbHHq8/blib/lib
    /root/.cpan/build/Pod-Spell-CommonMistakes-1.002-f9drnu/blib/arch
    /root/.cpan/build/Pod-Spell-CommonMistakes-1.002-f9drnu/blib/lib
    /root/.cpan/build/Pod-Spell-1.17-hbdq_Z/blib/arch
    /root/.cpan/build/Pod-Spell-1.17-hbdq_Z/blib/lib
    /root/.cpan/build/File-ShareDir-ProjectDistDir-1.000005-bj4ulz/blib/arch
    /root/.cpan/build/File-ShareDir-ProjectDistDir-1.000005-bj4ulz/blib/lib
    /root/.cpan/build/Path-FindDev-0.5.2-aWh2TI/blib/arch
    /root/.cpan/build/Path-FindDev-0.5.2-aWh2TI/blib/lib
    /root/.cpan/build/Path-IsDev-1.001002-8ERenF/blib/arch
    /root/.cpan/build/Path-IsDev-1.001002-8ERenF/blib/lib
    /root/.cpan/build/Lingua-EN-Inflect-1.895-kmmU_X/blib/arch
    /root/.cpan/build/Lingua-EN-Inflect-1.895-kmmU_X/blib/lib
    /root/.cpan/build/Test-Pod-Content-v0.0.6-BfY1B1/blib/arch
    /root/.cpan/build/Test-Pod-Content-v0.0.6-BfY1B1/blib/lib
    /usr/local/lib64/perl5
    /usr/local/share/perl5
    /usr/lib64/perl5/vendor_perl
    /usr/share/perl5/vendor_perl
    /usr/lib64/perl5
    /usr/share/perl5
    .