Image-SVG-Transform v0.08 Perl 5 v5.14.1 amd64-netbsd
- Status
- Pass
- From
- Nigel Horne
- Dist
-
Image-SVG-Transform v0.08
- Platform
- Perl 5 v5.14.1 amd64-netbsd
- Date
- 2018-12-10 10:13:08
- ID
- 3121a904-fc64-11e8-af9c-8bac62b887d7
This distribution has been tested as part of the CPAN Testers
project, supporting the Perl programming language. See
http://wiki.cpantesters.org/ for more information or email
questions to cpan-testers-discuss@perl.org
--
Dear Colin Kuskie,
This is a computer-generated report for Image-SVG-Transform-0.08
on perl 5.14.1, created by CPAN-Reporter-1.2018.
Thank you for uploading your work to CPAN. Congratulations!
All tests were successful.
Sections of this report:
* Tester comments
* Program output
* Prerequisites
* Environment and other context
------------------------------
TESTER COMMENTS
------------------------------
Additional comments from tester:
this report is from an automated smoke testing program
and was not reviewed by a human for accuracy
------------------------------
PROGRAM OUTPUT
------------------------------
Output from '/usr/bin/make test':
PERL_DL_NONLAZY=1 "/home/njh/perl5/perlbrew/perls/perl-5.14.1/bin/perl" "-MExtUtils::Command::MM" "-MTest::Harness" "-e" "undef *Test::Harness::Switches; test_harness(0, 'blib/lib', 'blib/arch')" t/*.t
t/01_parse.t ............. ok
t/02_parse.t ............. ok
"my" variable $view3a masks earlier declaration in same scope at t/03_transform.t line 42.
t/03_transform.t ......... ok
Name "Math::Matrix::eps" used only once: possible typo at t/04_chained.t line 46.
t/04_chained.t ........... ok
t/05_clear.t ............. ok
t/author-pod-coverage.t .. skipped: these tests are for testing by the author
t/author-pod-syntax.t .... skipped: these tests are for testing by the author
All tests successful.
Files=7, Tests=80, 1 wallclock secs ( 0.04 usr 0.02 sys + 0.72 cusr 0.36 csys = 1.14 CPU)
Result: PASS
------------------------------
PREREQUISITES
------------------------------
Prerequisite modules loaded:
requires:
Module Need Have
-------------------- ---- --------
blib 0 1.06
Clone 0 0.41
Math::Matrix 0 0.8
Math::Trig 0 1.23
Moo 0 2.003004
namespace::autoclean 0 0.28
Ouch 0 0.0500
Test::Deep 0 1.128
Test::Exception 0 0.43
Test::More 0 1.302140
build_requires:
Module Need Have
-------------------- ---- --------
ExtUtils::MakeMaker 0 7.34
configure_requires:
Module Need Have
-------------------- ---- --------
ExtUtils::MakeMaker 0 7.34
------------------------------
ENVIRONMENT AND OTHER CONTEXT
------------------------------
Environment variables:
AUTOMATED_TESTING = 1
NONINTERACTIVE_TESTING = 1
PATH = /home/njh/perl5/perlbrew/bin:/home/njh/perl5/perlbrew/perls/perl-5.14.1/bin:/home/njh/src/njh/smoker/bin:/usr/bin:/bin:/usr/pkg/bin:/usr/local/bin
PERL5LIB = /home/njh/.cpan/build/Ouch-0.0500-19/blib/arch:/home/njh/.cpan/build/Ouch-0.0500-19/blib/lib:/home/njh/.cpan/build/Test-Trap-v0.3.4-4/blib/arch:/home/njh/.cpan/build/Test-Trap-v0.3.4-4/blib/lib:/home/njh/.cpan/build/Data-Dump-1.23-4/blib/arch:/home/njh/.cpan/build/Data-Dump-1.23-4/blib/lib:/home/njh/.cpan/build/Moo-2.003004-4/blib/arch:/home/njh/.cpan/build/Moo-2.003004-4/blib/lib:/home/njh/.cpan/build/Devel-GlobalDestruction-0.14-4/blib/arch:/home/njh/.cpan/build/Devel-GlobalDestruction-0.14-4/blib/lib:/home/njh/.cpan/build/Class-Method-Modifiers-2.12-4/blib/arch:/home/njh/.cpan/build/Class-Method-Modifiers-2.12-4/blib/lib:/home/njh/.cpan/build/Math-Matrix-0.8-19/blib/arch:/home/njh/.cpan/build/Math-Matrix-0.8-19/blib/lib:/home/njh/.cpan/build/Image-SVG-Path-0.32-19/blib/arch:/home/njh/.cpan/build/Image-SVG-Path-0.32-19/blib/lib
PERL5OPT =
PERL5_CPANPLUS_IS_RUNNING = 20675
PERL5_CPAN_IS_RUNNING = 20675
PERLBREW_HOME = /home/njh/.perlbrew
PERLBREW_MANPATH = /home/njh/perl5/perlbrew/perls/perl-5.14.1/man
PERLBREW_PATH = /home/njh/perl5/perlbrew/bin:/home/njh/perl5/perlbrew/perls/perl-5.14.1/bin
PERLBREW_PERL = perl-5.14.1
PERLBREW_ROOT = /home/njh/perl5/perlbrew
PERLBREW_SHELLRC_VERSION = 0.82
PERLBREW_VERSION = 0.82
PERL_MM_USE_DEFAULT = 1
SHELL = /bin/sh
TMPDIR = /tmp/testwrapper.23187
Perl special variables (and OS-specific diagnostics, for MSWin32):
$^X = /home/njh/perl5/perlbrew/perls/perl-5.14.1/bin/perl
$UID/$EUID = 1000 / 1000
$GID = 100 100 0
$EGID = 100 100 0
Perl module toolchain versions installed:
Module Have
------------------- --------
CPAN 2.16
CPAN::Meta 2.150010
Cwd 3.75
ExtUtils::CBuilder 0.280230
ExtUtils::Command 7.34
ExtUtils::Install 2.14
ExtUtils::MakeMaker 7.34
ExtUtils::Manifest 1.71
ExtUtils::ParseXS 3.35
File::Spec 3.75
JSON 4.00
JSON::PP 2.97001
Module::Build 0.4224
Module::Signature n/a
Parse::CPAN::Meta 2.150010
Test::Harness 3.42
Test::More 1.302140
YAML 1.27
YAML::Syck 1.31
version 0.9924
--
Summary of my perl5 (revision 5 version 14 subversion 1) configuration:
Platform:
osname=netbsd, osvers=7.1.2, archname=amd64-netbsd
uname='netbsd vultr2.bandsman.co.uk 7.1.2 netbsd 7.1.2 (generic.201803151611z) amd64 '
config_args='-de -Dprefix=/home/njh/perl5/perlbrew/perls/perl-5.14.1 -Aeval:scriptdir=/home/njh/perl5/perlbrew/perls/perl-5.14.1/bin'
hint=recommended, useposix=true, d_sigaction=define
useithreads=undef, usemultiplicity=undef
useperlio=define, d_sfio=undef, uselargefiles=define, usesocks=undef
use64bitint=define, use64bitall=define, uselongdouble=undef
usemymalloc=n, bincompat5005=undef
Compiler:
cc='cc', ccflags ='-fno-strict-aliasing -pipe -fstack-protector -I/usr/pkg/include',
optimize='-O',
cppflags='-fno-strict-aliasing -pipe -fstack-protector -I/usr/pkg/include'
ccversion='', gccversion='4.8.5', gccosandvers=''
intsize=4, longsize=8, ptrsize=8, doublesize=8, byteorder=12345678
d_longlong=define, longlongsize=8, d_longdbl=define, longdblsize=16
ivtype='long', ivsize=8, nvtype='double', nvsize=8, Off_t='off_t', lseeksize=8
alignbytes=8, prototype=define
Linker and Libraries:
ld='cc', ldflags =' -Wl,-rpath,/usr/pkg/lib -Wl,-rpath,/usr/local/lib -fstack-protector -L/usr/pkg/lib'
libpth=/usr/pkg/lib /lib /usr/lib
libs=-lm -lcrypt -lutil -lc -lposix
perllibs=-lm -lcrypt -lutil -lc -lposix
libc=/lib/libc.so, so=so, useshrplib=false, libperl=libperl.a
gnulibc_version=''
Dynamic Linking:
dlsrc=dl_dlopen.xs, dlext=so, d_dlsymun=undef, ccdlflags='-Wl,-E '
cccdlflags='-DPIC -fPIC ', lddlflags='-shared -L/usr/pkg/lib -fstack-protector'
Characteristics of this binary (from libperl):
Compile-time options: PERL_DONT_CREATE_GVSV PERL_MALLOC_WRAP
PERL_PRESERVE_IVUV USE_64_BIT_ALL USE_64_BIT_INT
USE_LARGE_FILES USE_PERLIO USE_PERL_ATOF
Locally applied patches:
Devel::PatchPerl 1.48
Built under netbsd
Compiled at Sep 26 2018 12:57:28
%ENV:
PERL5LIB="/home/njh/.cpan/build/Ouch-0.0500-19/blib/arch:/home/njh/.cpan/build/Ouch-0.0500-19/blib/lib:/home/njh/.cpan/build/Test-Trap-v0.3.4-4/blib/arch:/home/njh/.cpan/build/Test-Trap-v0.3.4-4/blib/lib:/home/njh/.cpan/build/Data-Dump-1.23-4/blib/arch:/home/njh/.cpan/build/Data-Dump-1.23-4/blib/lib:/home/njh/.cpan/build/Moo-2.003004-4/blib/arch:/home/njh/.cpan/build/Moo-2.003004-4/blib/lib:/home/njh/.cpan/build/Devel-GlobalDestruction-0.14-4/blib/arch:/home/njh/.cpan/build/Devel-GlobalDestruction-0.14-4/blib/lib:/home/njh/.cpan/build/Class-Method-Modifiers-2.12-4/blib/arch:/home/njh/.cpan/build/Class-Method-Modifiers-2.12-4/blib/lib:/home/njh/.cpan/build/Math-Matrix-0.8-19/blib/arch:/home/njh/.cpan/build/Math-Matrix-0.8-19/blib/lib:/home/njh/.cpan/build/Image-SVG-Path-0.32-19/blib/arch:/home/njh/.cpan/build/Image-SVG-Path-0.32-19/blib/lib"
PERL5OPT=""
PERL5_CPANPLUS_IS_RUNNING="20675"
PERL5_CPAN_IS_RUNNING="20675"
PERLBREW_HOME="/home/njh/.perlbrew"
PERLBREW_MANPATH="/home/njh/perl5/perlbrew/perls/perl-5.14.1/man"
PERLBREW_PATH="/home/njh/perl5/perlbrew/bin:/home/njh/perl5/perlbrew/perls/perl-5.14.1/bin"
PERLBREW_PERL="perl-5.14.1"
PERLBREW_ROOT="/home/njh/perl5/perlbrew"
PERLBREW_SHELLRC_VERSION="0.82"
PERLBREW_VERSION="0.82"
PERL_MM_USE_DEFAULT="1"
@INC:
/home/njh/.cpan/build/Ouch-0.0500-19/blib/arch
/home/njh/.cpan/build/Ouch-0.0500-19/blib/lib
/home/njh/.cpan/build/Test-Trap-v0.3.4-4/blib/arch
/home/njh/.cpan/build/Test-Trap-v0.3.4-4/blib/lib
/home/njh/.cpan/build/Data-Dump-1.23-4/blib/arch
/home/njh/.cpan/build/Data-Dump-1.23-4/blib/lib
/home/njh/.cpan/build/Moo-2.003004-4/blib/arch
/home/njh/.cpan/build/Moo-2.003004-4/blib/lib
/home/njh/.cpan/build/Devel-GlobalDestruction-0.14-4/blib/arch
/home/njh/.cpan/build/Devel-GlobalDestruction-0.14-4/blib/lib
/home/njh/.cpan/build/Class-Method-Modifiers-2.12-4/blib/arch
/home/njh/.cpan/build/Class-Method-Modifiers-2.12-4/blib/lib
/home/njh/.cpan/build/Math-Matrix-0.8-19/blib/arch
/home/njh/.cpan/build/Math-Matrix-0.8-19/blib/lib
/home/njh/.cpan/build/Image-SVG-Path-0.32-19/blib/arch
/home/njh/.cpan/build/Image-SVG-Path-0.32-19/blib/lib
/home/njh/perl5/perlbrew/perls/perl-5.14.1/lib/site_perl/5.14.1/amd64-netbsd
/home/njh/perl5/perlbrew/perls/perl-5.14.1/lib/site_perl/5.14.1
/home/njh/perl5/perlbrew/perls/perl-5.14.1/lib/5.14.1/amd64-netbsd
/home/njh/perl5/perlbrew/perls/perl-5.14.1/lib/5.14.1
.