Report for DynaLoader-Functions-0.002

Back
From: metabase:user:21427c7c-6c1b-1014-a310-4ed93fdd96d6
Subject: PASS DynaLoader-Functions-0.002 v5.18.4 GNU/Linux
Date: 2015-04-05T00:32:08Z

This distribution has been tested as part of the CPAN Testers
project, supporting the Perl programming language.  See
http://wiki.cpantesters.org/ for more information or email
questions to cpan-testers-discuss@perl.org


--
Dear Andrew Main (Zefram),

This is a computer-generated report for DynaLoader-Functions-0.002
on perl 5.18.4, created by CPAN-Reporter-1.2011.

Thank you for uploading your work to CPAN.  Congratulations!
All tests were successful.

Sections of this report:

    * Tester comments
    * Program output
    * Prerequisites
    * Environment and other context

------------------------------
TESTER COMMENTS
------------------------------

Additional comments from tester:

none provided

------------------------------
PROGRAM OUTPUT
------------------------------

Output from './Build test':

t/dyna_low.t .. ok
t/pod_cvg.t ... skipped: Test::Pod::Coverage not available
t/pod_syn.t ... skipped: Test::Pod not available
All tests successful.
Files=3, Tests=6,  0 wallclock secs ( 0.04 usr  0.00 sys +  0.37 cusr  0.08 csys =  0.49 CPU)
Result: PASS

------------------------------
PREREQUISITES
------------------------------

Prerequisite modules loaded:

requires:

    Module        Need  Have    
    ------------- ----- --------
    Carp          0     1.29    
    DynaLoader    0     1.18    
    Exporter      0     5.68    
    parent        0     0.225   
    perl          5.006 5.018004
    strict        0     1.07    
    warnings      0     1.18    

build_requires:

    Module        Need  Have    
    ------------- ----- --------
    Module::Build 0     0.4003  
    perl          5.006 5.018004
    strict        0     1.07    
    Test::More    0     1.001014
    warnings      0     1.18    

configure_requires:

    Module        Need  Have    
    ------------- ----- --------
    Module::Build 0     0.4003  
    perl          5.006 5.018004
    strict        0     1.07    
    warnings      0     1.18    


------------------------------
ENVIRONMENT AND OTHER CONTEXT
------------------------------

Environment variables:

    LANG = pl_PL.UTF-8
    LANGUAGE = 
    PATH = /home/jm/perl5/perlbrew/bin:/home/jm/perl5/perlbrew/perls/perl-5.18.4-thread-multi-ld/bin:/home/jm/bin:/usr/local/bin:/usr/bin:/bin:/usr/bin/X11:/usr/games:/opt/bin
    PERL5LIB = 
    PERL5OPT = 
    PERL5_CPANPLUS_IS_RUNNING = 9381
    PERL5_CPAN_IS_RUNNING = 9381
    PERLBREW_BASHRC_VERSION = 0.72
    PERLBREW_HOME = /home/jm/.perlbrew
    PERLBREW_LIB = 
    PERLBREW_MANPATH = /home/jm/perl5/perlbrew/perls/perl-5.18.4-thread-multi-ld/man
    PERLBREW_PATH = /home/jm/perl5/perlbrew/bin:/home/jm/perl5/perlbrew/perls/perl-5.18.4-thread-multi-ld/bin
    PERLBREW_PERL = perl-5.18.4-thread-multi-ld
    PERLBREW_ROOT = /home/jm/perl5/perlbrew
    PERLBREW_SKIP_INIT = 1
    PERLBREW_VERSION = 0.73
    PERL_LOCAL_LIB_ROOT = 
    SHELL = /bin/bash
    TERM = xterm
    TMPDIR = /tmp

Perl special variables (and OS-specific diagnostics, for MSWin32):

    $^X = /home/jm/perl5/perlbrew/perls/perl-5.18.4-thread-multi-ld/bin/perl
    $UID/$EUID = 1000 / 1000
    $GID = 100 10 100 483
    $EGID = 100 10 100 483

Perl module toolchain versions installed:

    Module              Have    
    ------------------- --------
    CPAN                2.00    
    CPAN::Meta          2.150001
    Cwd                 3.40    
    ExtUtils::CBuilder  0.280210
    ExtUtils::Command   1.17    
    ExtUtils::Install   1.59    
    ExtUtils::MakeMaker 6.66    
    ExtUtils::Manifest  1.63    
    ExtUtils::ParseXS   3.18    
    File::Spec          3.40    
    JSON                2.90    
    JSON::PP            2.27202 
    Module::Build       0.4003  
    Module::Signature   n/a     
    Parse::CPAN::Meta   1.4414  
    Test::Harness       3.35    
    Test::More          1.001014
    YAML                n/a     
    YAML::Syck          n/a     
    version             0.9902  


--

Summary of my perl5 (revision 5 version 18 subversion 4) configuration:
   
  Platform:
    osname=linux, osvers=3.16.7-7-desktop, archname=x86_64-linux-thread-multi-ld
    uname='linux susel02.example.com 3.16.7-7-desktop #1 smp preempt wed dec 17 18:00:44 utc 2014 (762f27a) x86_64 x86_64 x86_64 gnulinux '
    config_args='-de -Dprefix=/home/jm/perl5/perlbrew/perls/perl-5.18.4-thread-multi-ld -Duselongdouble -Dusethreads -Duseithreads -Dmultiplicity -Aeval:scriptdir=/home/jm/perl5/perlbrew/perls/perl-5.18.4-thread-multi-ld/bin'
    hint=recommended, useposix=true, d_sigaction=define
    useithreads=define, usemultiplicity=define
    useperlio=define, d_sfio=undef, uselargefiles=define, usesocks=undef
    use64bitint=define, use64bitall=define, uselongdouble=define
    usemymalloc=n, bincompat5005=undef
  Compiler:
    cc='cc', ccflags ='-D_REENTRANT -D_GNU_SOURCE -fno-strict-aliasing -pipe -fstack-protector -I/usr/local/include -D_LARGEFILE_SOURCE -D_FILE_OFFSET_BITS=64',
    optimize='-O2',
    cppflags='-D_REENTRANT -D_GNU_SOURCE -fno-strict-aliasing -pipe -fstack-protector -I/usr/local/include'
    ccversion='', gccversion='4.8.3 20140627 [gcc-4_8-branch revision 212064]', gccosandvers=''
    intsize=4, longsize=8, ptrsize=8, doublesize=8, byteorder=12345678
    d_longlong=define, longlongsize=8, d_longdbl=define, longdblsize=16
    ivtype='long', ivsize=8, nvtype='long double', nvsize=16, Off_t='off_t', lseeksize=8
    alignbytes=16, prototype=define
  Linker and Libraries:
    ld='cc', ldflags =' -fstack-protector -L/usr/local/lib'
    libpth=/usr/local/lib /lib/../lib64 /usr/lib/../lib64 /lib /usr/lib /lib64 /usr/lib64 /usr/local/lib64
    libs=-lnsl -lgdbm -ldb -ldl -lm -lcrypt -lutil -lpthread -lc -lgdbm_compat
    perllibs=-lnsl -ldl -lm -lcrypt -lutil -lpthread -lc
    libc=libc-2.19.so, so=so, useshrplib=false, libperl=libperl.a
    gnulibc_version='2.19'
  Dynamic Linking:
    dlsrc=dl_dlopen.xs, dlext=so, d_dlsymun=undef, ccdlflags='-Wl,-E'
    cccdlflags='-fPIC', lddlflags='-shared -O2 -L/usr/local/lib -fstack-protector'


Characteristics of this binary (from libperl): 
  Compile-time options: HAS_TIMES MULTIPLICITY PERLIO_LAYERS
                        PERL_DONT_CREATE_GVSV
                        PERL_HASH_FUNC_ONE_AT_A_TIME_HARD
                        PERL_IMPLICIT_CONTEXT PERL_MALLOC_WRAP
                        PERL_PRESERVE_IVUV PERL_SAWAMPERSAND USE_64_BIT_ALL
                        USE_64_BIT_INT USE_ITHREADS USE_LARGE_FILES
                        USE_LOCALE USE_LOCALE_COLLATE USE_LOCALE_CTYPE
                        USE_LOCALE_NUMERIC USE_LONG_DOUBLE USE_PERLIO
                        USE_PERL_ATOF USE_REENTRANT_API
  Locally applied patches:
	Devel::PatchPerl 1.30
  Built under linux
  Compiled at Apr  4 2015 18:02:46
  %ENV:
    PERL5LIB=""
    PERL5OPT=""
    PERL5_CPANPLUS_IS_RUNNING="9381"
    PERL5_CPAN_IS_RUNNING="9381"
    PERLBREW_BASHRC_VERSION="0.72"
    PERLBREW_HOME="/home/jm/.perlbrew"
    PERLBREW_LIB=""
    PERLBREW_MANPATH="/home/jm/perl5/perlbrew/perls/perl-5.18.4-thread-multi-ld/man"
    PERLBREW_PATH="/home/jm/perl5/perlbrew/bin:/home/jm/perl5/perlbrew/perls/perl-5.18.4-thread-multi-ld/bin"
    PERLBREW_PERL="perl-5.18.4-thread-multi-ld"
    PERLBREW_ROOT="/home/jm/perl5/perlbrew"
    PERLBREW_SKIP_INIT="1"
    PERLBREW_VERSION="0.73"
    PERL_LOCAL_LIB_ROOT=""
  @INC:
    /home/jm/perl5/perlbrew/perls/perl-5.18.4-thread-multi-ld/lib/site_perl/5.18.4/x86_64-linux-thread-multi-ld
    /home/jm/perl5/perlbrew/perls/perl-5.18.4-thread-multi-ld/lib/site_perl/5.18.4
    /home/jm/perl5/perlbrew/perls/perl-5.18.4-thread-multi-ld/lib/5.18.4/x86_64-linux-thread-multi-ld
    /home/jm/perl5/perlbrew/perls/perl-5.18.4-thread-multi-ld/lib/5.18.4
    .